{"text_format":"1","workbook":"xlsx","n_sheets":6,"sheets":["上期　表紙","上期 表紙裏","上期　1頁","上期　2-24頁","上期　25頁","上期　26-32頁"],"not_rendered":{"charts":0,"images":0,"macros":1,"external_links":0,"defined_names":6,"comments":2,"pivot_tables":0},"unopened":[],"bounds":{"document_bytes":16777216,"sheet_cells":100000,"rows_first":2000,"rows_last":500,"rows_between":2000,"halvings":0,"cell_chars":16384,"cell_head_chars":4096},"cells_cut":0,"cells_raw":0,"read":"whole","date_system":"1900"}

{"sheet":"上期　表紙","index":0,"n_rows":392,"n_cols":26,"rows_kept":392,"cut":false,"hidden":false,"merged":[[43,1,43,11],[6,1,9,11],[11,1,14,11],[17,5,19,7],[40,1,40,11]]}
[]
[]
[]
[]
[]
[]
[null,"北海道観光入込客数調査"]
[]
[]
[]
[]
[null,"令和５年度（2023年度）上期"]
[]
[]
[]
[]
[]
[null,null,null,null,null,"資料編"]
[]
[]
[]
[]
[]
[]
[null,"《観光入込客数関係》"]
[null,"１　圏域別・月別観光入込客数（延べ人数）",null,null,null,null,null,null,null,null,null,"1頁"]
[null,"２　市町村別・月別観光入込客数（延べ人数）",null,null,null,null,null,null,null,null,null,"2頁"]
[]
[null,"《訪日外国人来道者数関係》"]
[null,"３　圏域別・国別訪日外国人宿泊者数（延べ人数）",null,null,null,null,null,null,null,null,null,"25頁"]
[null,"４　市町村別・国別訪日外国人宿泊者数（延べ人数）",null,null,null,null,null,null,null,null,null,"26頁"]
[]
[]
[]
[]
[]
[]
[]
[]
[]
[null,"令和６年（２０２４年）３月　　"]
[]
[]
[null,"北海道経済部観光局観光振興課　　"]
[]
[]
[]
[]
[]
[]
[]
[]
[]
[]
[]
[]
[]
[]
[]
[]
[]
[]
[]
[]
[]
[]
[null,null,null,null,null,null,null,null,null,null,null,null,null,null,null,null,null,null,null,null,null,null,null,null,null,{"$f":"Z2","v":0}]
[]
[]
[]
[]
[]
[]
[]
[]
[]
[]
[]
[]
[]
[]
[]
[]
[]
[]
[]
[]
[]
[]
[]
[]
[]
[]
[]
[]
[]
[]
[]
[]
[]
[]
[]
[]
[]
[]
[]
[]
[]
[]
[]
[]
[]
[]
[]
[]
[]
[]
[]
[]
[]
[]
[]
[]
[]
[]
[]
[]
[]
[]
[]
[]
[null,null,null,null,null,null,null,null,null,null,null,null,null,null,null,null,null,null,null,null,null,null,null,null,null,{"$f":"Z67","v":0}]
[]
[]
[]
[]
[]
[]
[]
[]
[]
[]
[]
[]
[]
[]
[]
[]
[]
[]
[]
[]
[]
[]
[]
[]
[]
[]
[]
[]
[]
[]
[]
[]
[]
[]
[]
[]
[]
[]
[]
[]
[]
[]
[]
[]
[]
[]
[]
[]
[]
[]
[]
[]
[]
[]
[]
[]
[]
[]
[]
[]
[]
[]
[]
[]
[null,null,null,null,null,null,null,null,null,null,null,null,null,null,null,null,null,null,null,null,null,null,null,null,null,{"$f":"Z132","v":0}]
[]
[]
[]
[]
[]
[]
[]
[]
[]
[]
[]
[]
[]
[]
[]
[]
[]
[]
[]
[]
[]
[]
[]
[]
[]
[]
[]
[]
[]
[]
[]
[]
[]
[]
[]
[]
[]
[]
[]
[]
[]
[]
[]
[]
[]
[]
[]
[]
[]
[]
[]
[]
[]
[]
[]
[]
[]
[]
[]
[]
[]
[]
[]
[]
[null,null,null,null,null,null,null,null,null,null,null,null,null,null,null,null,null,null,null,null,null,null,null,null,null,{"$f":"Z197","v":0}]
[]
[]
[]
[]
[]
[]
[]
[]
[]
[]
[]
[]
[]
[]
[]
[]
[]
[]
[]
[]
[]
[]
[]
[]
[]
[]
[]
[]
[]
[]
[]
[]
[]
[]
[]
[]
[]
[]
[]
[]
[]
[]
[]
[]
[]
[]
[]
[]
[]
[]
[]
[]
[]
[]
[]
[]
[]
[]
[]
[]
[]
[]
[]
[]
[null,null,null,null,null,null,null,null,null,null,null,null,null,null,null,null,null,null,null,null,null,null,null,null,null,{"$f":"Z262","v":0}]
[]
[]
[]
[]
[]
[]
[]
[]
[]
[]
[]
[]
[]
[]
[]
[]
[]
[]
[]
[]
[]
[]
[]
[]
[]
[]
[]
[]
[]
[]
[]
[]
[]
[]
[]
[]
[]
[]
[]
[]
[]
[]
[]
[]
[]
[]
[]
[]
[]
[]
[]
[]
[]
[]
[]
[]
[]
[]
[]
[]
[]
[]
[]
[]
[null,null,null,null,null,null,null,null,null,null,null,null,null,null,null,null,null,null,null,null,null,null,null,null,null,{"$f":"Z327","v":0}]

{"sheet":"上期 表紙裏","index":1,"n_rows":0,"n_cols":0,"rows_kept":0,"cut":false,"hidden":false,"merged":[]}

{"sheet":"上期　1頁","index":2,"n_rows":392,"n_cols":26,"rows_kept":392,"cut":false,"hidden":false,"merged":[[39,0,44,0],[3,0,8,0],[9,0,14,0],[15,0,20,0],[21,0,26,0],[27,0,32,0],[33,0,38,0]]}
["１　令和５年度（2023年度）上期　圏域別・月別観光入込客数（延べ人数）"]
[null,null,null,null,null,null,null,null,null,null,null,null,null,null,null,null,"単位：入込総数→千人、宿泊客延数→千人泊、対前年比→％"]
["圏　域","区　分","４　月","５　月","６　月","７　月","８　月","９　月","１０月","１１月","１２月","１　月","２　月","３　月","合計","R4年度上期","対前年比",null,"合計"]
["北海道計","入込総数",{"$f":"C10+C16+C22+C28+C34+C40","v":8850.3410000000003},14914.968999999999,13933.877999999999,19525.717000000004,20468.199000000001,16342.140999999998,null,null,null,null,null,null,{"$f":"O10+O16+O22+O28+O34+O40","v":94035.244999999995},{"$f":"P10+P16+P22+P28+P34+P40","v":75705.7},{"$f":"IF(O4=0,\"－\",O4/P4*100)","v":124.2115785205077},null,86181.9]
[null,"内道外客",2043.1710000000003,3450.288,4124.9780000000001,5944.5280000000002,5899.2380000000012,4364.9289999999992,null,null,null,null,null,null,25827.132000000001,17169.07,{"$f":"IF(O5=0,\"－\",O5/P5*100)","v":150.42825266598601},null,25465.100409999999]
[null,"内道内客",6807.1699999999983,11464.681,9808.9,13581.188999999998,14568.960999999998,11977.212000000001,null,null,null,null,null,null,68208.112999999998,58536.63,116.52210419356221,null,60716.799590000002]
[null,"内日帰客",7406.4119999999994,12882.593999999999,11628.667999999998,16652.777000000002,17530.315999999999,13909.948,null,null,null,null,null,null,80010.714999999997,64721.8,123.62251204385539,null,72044.900000000009]
[null,"内宿泊客",1443.9289999999999,2032.375,2305.21,2872.94,2937.8829999999994,2432.1930000000002,null,null,null,null,null,null,14024.529999999999,10983.9,127.68260818106501,null,14137]
[null,"宿泊客延数",2088.6840000000002,2740.09,2967.1909999999998,4089.2839999999997,4333.8019999999988,3552.4269999999997,null,null,null,null,null,null,19771.477999999999,16356.900000000001,120.87545928629507,null,18238.800000000003]
["道央圏域計","入込総数",{"$f":"'上期　2-24頁'!E10","v":5547.9},{"$f":"'上期　2-24頁'!F10","v":8582.6},{"$f":"'上期　2-24頁'!G10","v":7823.4999999999991},{"$f":"'上期　2-24頁'!H10","v":10445.400000000001},{"$f":"'上期　2-24頁'!I10","v":11240.6},{"$f":"'上期　2-24頁'!J10","v":9139.7999999999993},null,null,null,null,null,null,{"$f":"SUM(C10:H10)","v":52779.8},{"$f":"'上期　2-24頁'!R10","v":39807.9},132.58624544374356,null,45389.5]
[null,"内道外客",{"$f":"'上期　2-24頁'!E11","v":1145},{"$f":"'上期　2-24頁'!F11","v":1623.1999999999998},{"$f":"'上期　2-24頁'!G11","v":1849.5},{"$f":"'上期　2-24頁'!H11","v":2310.6000000000004},{"$f":"'上期　2-24頁'!I11","v":2563.7000000000003},{"$f":"'上期　2-24頁'!J11","v":1914.6},null,null,null,null,null,null,{"$f":"SUM(C11:H11)","v":11406.6},{"$f":"'上期　2-24頁'!R11","v":6595.2699999999995},172.95122110239615,null,10330.700410000001]
[null,"内道内客",{"$f":"'上期　2-24頁'!E12","v":4402.8999999999996},{"$f":"'上期　2-24頁'!F12","v":6959.4000000000005},{"$f":"'上期　2-24頁'!G12","v":5974.0000000000009},{"$f":"'上期　2-24頁'!H12","v":8134.8},{"$f":"'上期　2-24頁'!I12","v":8676.9},{"$f":"'上期　2-24頁'!J12","v":7225.2000000000007},null,null,null,null,null,null,41373.199999999997,{"$f":"'上期　2-24頁'!R12","v":33212.629999999997},124.57068289984865,null,35058.799589999995]
[null,"内日帰客",{"$f":"'上期　2-24頁'!E13","v":4724.7000000000007},{"$f":"'上期　2-24頁'!F13","v":7482.7999999999993},{"$f":"'上期　2-24頁'!G13","v":6557.9},{"$f":"'上期　2-24頁'!H13","v":8941},{"$f":"'上期　2-24頁'!I13","v":9752.6},{"$f":"'上期　2-24頁'!J13","v":7799.6},null,null,null,null,null,null,45258.6,{"$f":"'上期　2-24頁'!R13","v":34350.800000000003},131.75413673044002,null,38486.499999999993]
[null,"内宿泊客",{"$f":"'上期　2-24頁'!E14","v":823.19999999999993},{"$f":"'上期　2-24頁'!F14","v":1099.8},{"$f":"'上期　2-24頁'!G14","v":1265.5999999999999},{"$f":"'上期　2-24頁'!H14","v":1504.3999999999999},{"$f":"'上期　2-24頁'!I14","v":1488},{"$f":"'上期　2-24頁'!J14","v":1340.2},null,null,null,null,null,null,7521.2,{"$f":"'上期　2-24頁'!R14","v":5457.1},137.82411903758404,null,6903]
[null,"宿泊客延数",{"$f":"'上期　2-24頁'!E15","v":1317.655},{"$f":"'上期　2-24頁'!F15","v":1609.37},{"$f":"'上期　2-24頁'!G15","v":1690.9869999999999},{"$f":"'上期　2-24頁'!H15","v":2386.7289999999998},{"$f":"'上期　2-24頁'!I15","v":2525.7139999999995},{"$f":"'上期　2-24頁'!J15","v":2215.5099999999998},null,null,null,null,null,null,11745.965,{"$f":"'上期　2-24頁'!R15","v":9445.9000000000015},124.34987666606673,null,9889.7000000000007]
["道南圏域計","入込総数",{"$f":"'上期　2-24頁'!E490","v":1156.05},{"$f":"'上期　2-24頁'!F490","v":1548.1299999999997},{"$f":"'上期　2-24頁'!G490","v":1123.8699999999999},{"$f":"'上期　2-24頁'!H490","v":1385.79},{"$f":"'上期　2-24頁'!I490","v":1685.6999999999998},{"$f":"'上期　2-24頁'!J490","v":1245.2199999999998},null,null,null,null,null,null,{"$f":"SUM(C16:H16)","v":8144.7599999999984},{"$f":"'上期　2-24頁'!R490","v":7049.7},115.53342695433845,null,7763.1]
[null,"内道外客",{"$f":"'上期　2-24頁'!E491","v":430.2299999999999},{"$f":"'上期　2-24頁'!F491","v":547.28000000000009},{"$f":"'上期　2-24頁'!G491","v":464.81},{"$f":"'上期　2-24頁'!H491","v":569.57000000000005},{"$f":"'上期　2-24頁'!I491","v":660.81999999999994},{"$f":"'上期　2-24頁'!J491","v":516.47},null,null,null,null,null,null,3189.1800000000003,{"$f":"'上期　2-24頁'!R491","v":2409.1000000000004},132.38055705450168,null,3442.8]
[null,"内道内客",{"$f":"'上期　2-24頁'!E492","v":725.82},{"$f":"'上期　2-24頁'!F492","v":1000.85},{"$f":"'上期　2-24頁'!G492","v":659.06},{"$f":"'上期　2-24頁'!H492","v":816.22},{"$f":"'上期　2-24頁'!I492","v":1024.8800000000001},{"$f":"'上期　2-24頁'!J492","v":728.74999999999989},null,null,null,null,null,null,4955.58,{"$f":"'上期　2-24頁'!R492","v":4640.5999999999995},106.78748437702022,null,4320.3]
[null,"内日帰客",{"$f":"'上期　2-24頁'!E493","v":858.74},{"$f":"'上期　2-24頁'!F493","v":1223.9800000000002},{"$f":"'上期　2-24頁'!G493","v":816.09},{"$f":"'上期　2-24頁'!H493","v":968.31999999999994},{"$f":"'上期　2-24頁'!I493","v":1214.4000000000001},{"$f":"'上期　2-24頁'!J493","v":924.25},null,null,null,null,null,null,6005.7800000000007,{"$f":"'上期　2-24頁'!R493","v":5340.9},112.44883821078847,null,5461.2000000000007]
[null,"内宿泊客",{"$f":"'上期　2-24頁'!E494","v":297.30999999999989},{"$f":"'上期　2-24頁'!F494","v":324.15000000000003},{"$f":"'上期　2-24頁'!G494","v":307.77999999999997},{"$f":"'上期　2-24頁'!H494","v":417.47000000000008},{"$f":"'上期　2-24頁'!I494","v":471.29999999999995},{"$f":"'上期　2-24頁'!J494","v":320.97000000000003},null,null,null,null,null,null,2138.98,{"$f":"'上期　2-24頁'!R494","v":1708.8},125.17439138576781,null,2301.8999999999992]
[null,"宿泊客延数",{"$f":"'上期　2-24頁'!E495","v":367.50000000000006},{"$f":"'上期　2-24頁'!F495","v":396.15999999999997},{"$f":"'上期　2-24頁'!G495","v":386.43},{"$f":"'上期　2-24頁'!H495","v":540.73000000000013},{"$f":"'上期　2-24頁'!I495","v":595.83000000000004},{"$f":"'上期　2-24頁'!J495","v":396.46},null,null,null,null,null,null,2683.11,{"$f":"'上期　2-24頁'!R495","v":2171.6999999999998},123.54883271170051,null,2594]
["道北圏域計","入込総数",{"$f":"'上期　2-24頁'!E622","v":695.29099999999994},{"$f":"'上期　2-24頁'!F622","v":1729.3389999999999},{"$f":"'上期　2-24頁'!G622","v":2298.308},{"$f":"'上期　2-24頁'!H622","v":3739.9270000000001},{"$f":"'上期　2-24頁'!I622","v":3192.6990000000005},{"$f":"'上期　2-24頁'!J622","v":2491.4210000000003},null,null,null,null,null,null,{"$f":"SUM(C22:H22)","v":14146.985000000001},{"$f":"'上期　2-24頁'!R622","v":12123.300000000001},116.69252596240295,null,15198.999999999998]
[null,"内道外客",{"$f":"'上期　2-24頁'!E623","v":182.64099999999999},{"$f":"'上期　2-24頁'!F623","v":540.80799999999999},{"$f":"'上期　2-24頁'!G623","v":989.86799999999994},{"$f":"'上期　2-24頁'!H623","v":1763.758},{"$f":"'上期　2-24頁'!I623","v":1286.3180000000002},{"$f":"'上期　2-24頁'!J623","v":919.45899999999995},null,null,null,null,null,null,5682.8519999999999,{"$f":"'上期　2-24頁'!R623","v":3733.1000000000013},152.22876429776855,null,5570.0999999999995]
[null,"内道内客",{"$f":"'上期　2-24頁'!E624","v":512.64999999999986},{"$f":"'上期　2-24頁'!F624","v":1188.5309999999997},{"$f":"'上期　2-24頁'!G624","v":1308.4399999999998},{"$f":"'上期　2-24頁'!H624","v":1976.1690000000001},{"$f":"'上期　2-24頁'!I624","v":1906.3809999999999},{"$f":"'上期　2-24頁'!J624","v":1571.9620000000004},null,null,null,null,null,null,8464.132999999998,{"$f":"'上期　2-24頁'!R624","v":8390.2000000000007},100.88118280851465,null,9628.9000000000015]
[null,"内日帰客",{"$f":"'上期　2-24頁'!E625","v":587.17199999999991},{"$f":"'上期　2-24頁'!F625","v":1492.7139999999999},{"$f":"'上期　2-24頁'!G625","v":1967.0780000000002},{"$f":"'上期　2-24頁'!H625","v":3271.5569999999998},{"$f":"'上期　2-24頁'!I625","v":2751.2159999999999},{"$f":"'上期　2-24頁'!J625","v":2170.598},null,null,null,null,null,null,12240.334999999999,{"$f":"'上期　2-24頁'!R625","v":10547.7},116.04743214160432,null,13083.200000000003]
[null,"内宿泊客",{"$f":"'上期　2-24頁'!E626","v":108.119},{"$f":"'上期　2-24頁'!F626","v":236.625},{"$f":"'上期　2-24頁'!G626","v":331.23000000000013},{"$f":"'上期　2-24頁'!H626","v":468.36999999999995},{"$f":"'上期　2-24頁'!I626","v":441.483},{"$f":"'上期　2-24頁'!J626","v":320.82300000000004},null,null,null,null,null,null,1906.65,{"$f":"'上期　2-24頁'!R626","v":1575.6},121.01104341203353,null,2115.8000000000002]
[null,"宿泊客延数",{"$f":"'上期　2-24頁'!E627","v":135.72900000000001},{"$f":"'上期　2-24頁'!F627","v":289.15999999999997},{"$f":"'上期　2-24頁'!G627","v":406.37399999999991},{"$f":"'上期　2-24頁'!H627","v":581.22500000000002},{"$f":"'上期　2-24頁'!I627","v":568.25799999999992},{"$f":"'上期　2-24頁'!J627","v":396.5569999999999},null,null,null,null,null,null,2377.3029999999994,{"$f":"'上期　2-24頁'!R627","v":2010.5},118.2443670728674,null,2593.1999999999998]
["オホーツク圏域計","入込総数",{"$f":"'上期　2-24頁'!E907","v":379.79999999999995},{"$f":"'上期　2-24頁'!F907","v":1065.8999999999999},{"$f":"'上期　2-24頁'!G907","v":791.3},{"$f":"'上期　2-24頁'!H907","v":1181.8},{"$f":"'上期　2-24頁'!I907","v":1360.7},{"$f":"'上期　2-24頁'!J907","v":966.39999999999986},null,null,null,null,null,null,{"$f":"SUM(C28:H28)","v":5745.9},{"$f":"'上期　2-24頁'!R907","v":5298.0999999999995},108.45208659708199,null,5756]
[null,"内道外客",{"$f":"'上期　2-24頁'!E908","v":87.899999999999991},{"$f":"'上期　2-24頁'!F908","v":294.8},{"$f":"'上期　2-24頁'!G908","v":285.30000000000007},{"$f":"'上期　2-24頁'!H908","v":420},{"$f":"'上期　2-24頁'!I908","v":490.90000000000009},{"$f":"'上期　2-24頁'!J908","v":354.3},null,null,null,null,null,null,1933.2,{"$f":"'上期　2-24頁'!R908","v":1649.5},117.19915125795697,null,2323.8000000000002]
[null,"内道内客",{"$f":"'上期　2-24頁'!E909","v":291.89999999999998},{"$f":"'上期　2-24頁'!F909","v":771.09999999999991},{"$f":"'上期　2-24頁'!G909","v":506},{"$f":"'上期　2-24頁'!H909","v":761.80000000000007},{"$f":"'上期　2-24頁'!I909","v":869.79999999999984},{"$f":"'上期　2-24頁'!J909","v":612.1},null,null,null,null,null,null,3812.7,{"$f":"'上期　2-24頁'!R909","v":3648.6},104.49761552376253,null,3432.2000000000007]
[null,"内日帰客",{"$f":"'上期　2-24頁'!E910","v":313.70000000000005},{"$f":"'上期　2-24頁'!F910","v":943.6},{"$f":"'上期　2-24頁'!G910","v":657.40000000000009},{"$f":"'上期　2-24頁'!H910","v":1018.5},{"$f":"'上期　2-24頁'!I910","v":1175},{"$f":"'上期　2-24頁'!J910","v":818.7},null,null,null,null,null,null,4926.9000000000005,{"$f":"'上期　2-24頁'!R910","v":4552},108.2359402460457,null,4808.2000000000007]
[null,"内宿泊客",{"$f":"'上期　2-24頁'!E911","v":66.100000000000023},{"$f":"'上期　2-24頁'!F911","v":122.29999999999998},{"$f":"'上期　2-24頁'!G911","v":133.89999999999998},{"$f":"'上期　2-24頁'!H911","v":163.29999999999998},{"$f":"'上期　2-24頁'!I911","v":185.7},{"$f":"'上期　2-24頁'!J911","v":147.69999999999993},null,null,null,null,null,null,818.99999999999989,{"$f":"'上期　2-24頁'!R911","v":746.0999999999998},109.77080820265381,null,947.80000000000007]
[null,"宿泊客延数",{"$f":"'上期　2-24頁'!E912","v":79.899999999999991},{"$f":"'上期　2-24頁'!F912","v":140.79999999999998},{"$f":"'上期　2-24頁'!G912","v":154.39999999999998},{"$f":"'上期　2-24頁'!H912","v":186.89999999999998},{"$f":"'上期　2-24頁'!I912","v":208.1},{"$f":"'上期　2-24頁'!J912","v":167.39999999999995},null,null,null,null,null,null,937.5,{"$f":"'上期　2-24頁'!R912","v":873.1999999999997},107.36371965185528,null,1024.2]
["十勝圏域計","入込総数",{"$f":"'上期　2-24頁'!E1036","v":609.70000000000005},{"$f":"'上期　2-24頁'!F1036","v":1189.0000000000005},{"$f":"'上期　2-24頁'!G1036","v":1067.8},{"$f":"'上期　2-24頁'!H1036","v":1725.8999999999999},{"$f":"'上期　2-24頁'!I1036","v":1810.8},{"$f":"'上期　2-24頁'!J1036","v":1305.8},null,null,null,null,null,null,{"$f":"SUM(C34:H34)","v":7709.0000000000009},{"$f":"'上期　2-24頁'!R1036","v":6927.7000000000007},111.27791330455996,null,6706.2999999999993]
[null,"内道外客",{"$f":"'上期　2-24頁'!E1037","v":89.5},{"$f":"'上期　2-24頁'!F1037","v":208.7},{"$f":"'上期　2-24頁'!G1037","v":221.70000000000002},{"$f":"'上期　2-24頁'!H1037","v":484.09999999999991},{"$f":"'上期　2-24頁'!I1037","v":458.7},{"$f":"'上期　2-24頁'!J1037","v":237.60000000000002},null,null,null,null,null,null,1700.2999999999997,{"$f":"'上期　2-24頁'!R1037","v":1263.3999999999996},134.5812885863543,null,1707.9000000000003]
[null,"内道内客",{"$f":"'上期　2-24頁'!E1038","v":520.20000000000005},{"$f":"'上期　2-24頁'!F1038","v":980.30000000000007},{"$f":"'上期　2-24頁'!G1038","v":846.10000000000014},{"$f":"'上期　2-24頁'!H1038","v":1241.7999999999995},{"$f":"'上期　2-24頁'!I1038","v":1352.1000000000001},{"$f":"'上期　2-24頁'!J1038","v":1068.2000000000003},null,null,null,null,null,null,6008.7000000000007,{"$f":"'上期　2-24頁'!R1038","v":5664.3},106.08018643080345,null,4998.3999999999987]
[null,"内日帰客",{"$f":"'上期　2-24頁'!E1039","v":529.19999999999993},{"$f":"'上期　2-24頁'!F1039","v":1062.3999999999996},{"$f":"'上期　2-24頁'!G1039","v":937.69999999999982},{"$f":"'上期　2-24頁'!H1039","v":1564.9000000000003},{"$f":"'上期　2-24頁'!I1039","v":1634.6000000000001},{"$f":"'上期　2-24頁'!J1039","v":1154.8},null,null,null,null,null,null,6883.6,{"$f":"'上期　2-24頁'!R1039","v":6143.2999999999984},112.05052658994354,null,5773.3]
[null,"内宿泊客",{"$f":"'上期　2-24頁'!E1040","v":80.499999999999986},{"$f":"'上期　2-24頁'!F1040","v":126.59999999999998},{"$f":"'上期　2-24頁'!G1040","v":130.1},{"$f":"'上期　2-24頁'!H1040","v":161},{"$f":"'上期　2-24頁'!I1040","v":176.2},{"$f":"'上期　2-24頁'!J1040","v":151},null,null,null,null,null,null,825.39999999999986,{"$f":"'上期　2-24頁'!R1040","v":784.4000000000002},105.22692503824575,null,933]
[null,"宿泊客延数",{"$f":"'上期　2-24頁'!E1041","v":104.39999999999998},{"$f":"'上期　2-24頁'!F1041","v":158.30000000000001},{"$f":"'上期　2-24頁'!G1041","v":166},{"$f":"'上期　2-24頁'!H1041","v":202.6},{"$f":"'上期　2-24頁'!I1041","v":223.69999999999996},{"$f":"'上期　2-24頁'!J1041","v":191.3},null,null,null,null,null,null,1046.3,{"$f":"'上期　2-24頁'!R1041","v":918.00000000000023},113.97603485838776,null,1102.3]
["釧路・根室圏域計","入込総数",{"$f":"'上期　2-24頁'!E1168","v":461.6},{"$f":"'上期　2-24頁'!F1168","v":800},{"$f":"'上期　2-24頁'!G1168","v":829.09999999999991},{"$f":"'上期　2-24頁'!H1168","v":1046.9000000000001},{"$f":"'上期　2-24頁'!I1168","v":1177.7},{"$f":"'上期　2-24頁'!J1168","v":1193.5},null,null,null,null,null,null,{"$f":"SUM(C40:H40)","v":5508.8},{"$f":"'上期　2-24頁'!R1168","v":4499},122.44498777506112,null,5368]
[null,"内道外客",{"$f":"'上期　2-24頁'!E1169","v":107.89999999999999},{"$f":"'上期　2-24頁'!F1169","v":235.5},{"$f":"'上期　2-24頁'!G1169","v":313.79999999999995},{"$f":"'上期　2-24頁'!H1169","v":396.5},{"$f":"'上期　2-24頁'!I1169","v":438.80000000000007},{"$f":"'上期　2-24頁'!J1169","v":422.49999999999994},null,null,null,null,null,null,1915,{"$f":"'上期　2-24頁'!R1169","v":1518.6999999999998},126.09468624481465,null,2089.8000000000002]
[null,"内道内客",{"$f":"'上期　2-24頁'!E1170","v":353.70000000000005},{"$f":"'上期　2-24頁'!F1170","v":564.5},{"$f":"'上期　2-24頁'!G1170","v":515.29999999999995},{"$f":"'上期　2-24頁'!H1170","v":650.4},{"$f":"'上期　2-24頁'!I1170","v":738.90000000000009},{"$f":"'上期　2-24頁'!J1170","v":771},null,null,null,null,null,null,3593.8,{"$f":"'上期　2-24頁'!R1170","v":2980.3},120.58517598899439,null,3278.2000000000003]
[null,"内日帰客",{"$f":"'上期　2-24頁'!E1171","v":392.90000000000003},{"$f":"'上期　2-24頁'!F1171","v":677.09999999999991},{"$f":"'上期　2-24頁'!G1171","v":692.5},{"$f":"'上期　2-24頁'!H1171","v":888.5},{"$f":"'上期　2-24頁'!I1171","v":1002.5},{"$f":"'上期　2-24頁'!J1171","v":1042},null,null,null,null,null,null,4695.5,{"$f":"'上期　2-24頁'!R1171","v":3787.1000000000004},123.98669166380607,null,4432.5]
[null,"内宿泊客",{"$f":"'上期　2-24頁'!E1172","v":68.699999999999989},{"$f":"'上期　2-24頁'!F1172","v":122.89999999999999},{"$f":"'上期　2-24頁'!G1172","v":136.60000000000002},{"$f":"'上期　2-24頁'!H1172","v":158.40000000000003},{"$f":"'上期　2-24頁'!I1172","v":175.2},{"$f":"'上期　2-24頁'!J1172","v":151.5},null,null,null,null,null,null,813.3,{"$f":"'上期　2-24頁'!R1172","v":711.90000000000009},114.24357353560892,null,935.5]
[null,"宿泊客延数",{"$f":"'上期　2-24頁'!E1173","v":83.5},{"$f":"'上期　2-24頁'!F1173","v":146.29999999999998},{"$f":"'上期　2-24頁'!G1173","v":163},{"$f":"'上期　2-24頁'!H1173","v":191.1},{"$f":"'上期　2-24頁'!I1173","v":212.19999999999996},{"$f":"'上期　2-24頁'!J1173","v":185.2},null,null,null,null,null,null,981.3,{"$f":"'上期　2-24頁'!R1173","v":937.60000000000014},104.66083617747439,null,1035.4000000000001]
[]
[]
[]
[]
[]
[]
[]
[]
[]
[]
[]
[]
[]
[]
[]
[]
[]
[]
[]
[]
[]
[null,null,null,null,null,null,null,null,null,null,null,null,null,null,null,null,null,null,null,null,null,null,null,null,null,{"$f":"Z2","v":0}]
[]
[]
[]
[]
[]
[]
[]
[]
[]
[]
[]
[]
[]
[]
[]
[]
[]
[]
[]
[]
[]
[]
[]
[]
[]
[]
[]
[]
[]
[]
[]
[]
[]
[]
[]
[]
[]
[]
[]
[]
[]
[]
[]
[]
[]
[]
[]
[]
[]
[]
[]
[]
[]
[]
[]
[]
[]
[]
[]
[]
[]
[]
[]
[]
[null,null,null,null,null,null,null,null,null,null,null,null,null,null,null,null,null,null,null,null,null,null,null,null,null,{"$f":"Z67","v":0}]
[]
[]
[]
[]
[]
[]
[]
[]
[]
[]
[]
[]
[]
[]
[]
[]
[]
[]
[]
[]
[]
[]
[]
[]
[]
[]
[]
[]
[]
[]
[]
[]
[]
[]
[]
[]
[]
[]
[]
[]
[]
[]
[]
[]
[]
[]
[]
[]
[]
[]
[]
[]
[]
[]
[]
[]
[]
[]
[]
[]
[]
[]
[]
[]
[null,null,null,null,null,null,null,null,null,null,null,null,null,null,null,null,null,null,null,null,null,null,null,null,null,{"$f":"Z132","v":0}]
[]
[]
[]
[]
[]
[]
[]
[]
[]
[]
[]
[]
[]
[]
[]
[]
[]
[]
[]
[]
[]
[]
[]
[]
[]
[]
[]
[]
[]
[]
[]
[]
[]
[]
[]
[]
[]
[]
[]
[]
[]
[]
[]
[]
[]
[]
[]
[]
[]
[]
[]
[]
[]
[]
[]
[]
[]
[]
[]
[]
[]
[]
[]
[]
[null,null,null,null,null,null,null,null,null,null,null,null,null,null,null,null,null,null,null,null,null,null,null,null,null,{"$f":"Z197","v":0}]
[]
[]
[]
[]
[]
[]
[]
[]
[]
[]
[]
[]
[]
[]
[]
[]
[]
[]
[]
[]
[]
[]
[]
[]
[]
[]
[]
[]
[]
[]
[]
[]
[]
[]
[]
[]
[]
[]
[]
[]
[]
[]
[]
[]
[]
[]
[]
[]
[]
[]
[]
[]
[]
[]
[]
[]
[]
[]
[]
[]
[]
[]
[]
[]
[null,null,null,null,null,null,null,null,null,null,null,null,null,null,null,null,null,null,null,null,null,null,null,null,null,{"$f":"Z262","v":0}]
[]
[]
[]
[]
[]
[]
[]
[]
[]
[]
[]
[]
[]
[]
[]
[]
[]
[]
[]
[]
[]
[]
[]
[]
[]
[]
[]
[]
[]
[]
[]
[]
[]
[]
[]
[]
[]
[]
[]
[]
[]
[]
[]
[]
[]
[]
[]
[]
[]
[]
[]
[]
[]
[]
[]
[]
[]
[]
[]
[]
[]
[]
[]
[]
[null,null,null,null,null,null,null,null,null,null,null,null,null,null,null,null,null,null,null,null,null,null,null,null,null,{"$f":"Z327","v":0}]

{"sheet":"上期　2-24頁","index":3,"n_rows":1269,"n_cols":22,"rows_kept":1269,"cut":false,"hidden":false,"merged":[[84,20,89,20],[84,21,89,21],[90,20,95,20],[90,21,95,21],[96,20,101,20],[96,21,101,21],[102,20,107,20],[102,21,107,21],[108,20,113,20],[108,21,113,21],[51,20,56,20],[51,21,56,21],[60,20,65,20],[60,21,65,21],[66,20,71,20],[66,21,71,21],[72,20,77,20],[72,21,77,21],[78,20,83,20],[78,21,83,21],[21,20,26,20],[21,21,26,21],[27,20,32,20],[27,21,32,21],[33,20,38,20],[33,21,38,21],[39,20,44,20],[39,21,44,21],[45,20,50,20],[45,21,50,21],[33,2,38,2],[39,2,44,2],[45,2,50,2],[3,0,8,2],[9,0,14,2],[15,1,20,2],[21,2,26,2],[27,2,32,2],[72,2,77,2],[78,2,83,2],[84,2,89,2],[51,2,56,2],[60,2,65,2],[66,2,71,2],[108,2,113,2],[117,2,122,2],[123,2,128,2],[90,2,95,2],[96,2,101,2],[102,2,107,2],[147,2,152,2],[153,2,158,2],[159,2,164,2],[129,2,134,2],[135,2,140,2],[141,2,146,2],[192,2,197,2],[198,2,203,2],[204,2,209,2],[165,2,170,2],[174,1,179,2],[180,2,185,2],[186,2,191,2],[231,1,236,2],[237,2,242,2],[243,2,248,2],[249,2,254,2],[210,2,215,2],[216,2,221,2],[222,2,227,2],[273,2,278,2],[279,2,284,2],[288,2,293,2],[255,2,260,2],[261,2,266,2],[267,2,272,2],[312,2,317,2],[318,2,323,2],[324,2,329,2],[294,2,299,2],[300,2,305,2],[306,2,311,2],[351,2,356,2],[357,2,362,2],[363,1,368,2],[369,2,374,2],[330,2,335,2],[336,2,341,2],[345,2,350,2],[393,2,398,2],[402,2,407,2],[408,2,413,2],[375,2,380,2],[381,2,386,2],[387,2,392,2],[432,2,437,2],[438,1,443,2],[444,2,449,2],[450,2,455,2],[414,2,419,2],[420,2,425,2],[426,2,431,2],[477,2,482,2],[483,2,488,2],[489,0,494,2],[495,1,500,2],[459,2,464,2],[465,2,470,2],[471,2,476,2],[522,2,527,2],[528,2,533,2],[534,2,539,2],[501,2,506,2],[507,2,512,2],[516,2,521,2],[558,2,563,2],[564,2,569,2],[573,1,578,2],[579,2,584,2],[540,2,545,2],[546,2,551,2],[552,2,557,2],[603,2,608,2],[609,2,614,2],[615,2,620,2],[585,2,590,2],[591,2,596,2],[597,2,602,2],[648,2,653,2],[654,2,659,2],[660,2,665,2],[621,0,626,2],[630,1,635,2],[636,2,641,2],[642,2,647,2],[687,2,692,2],[693,2,698,2],[699,2,704,2],[666,2,671,2],[672,2,677,2],[678,2,683,2],[723,2,728,2],[729,2,734,2],[735,2,740,2],[705,2,710,2],[711,2,716,2],[717,2,722,2],[762,2,767,2],[768,2,773,2],[774,2,779,2],[744,2,749,2],[750,2,755,2],[756,2,761,2],[807,2,812,2],[813,2,818,2],[819,2,824,2],[780,1,785,2],[786,2,791,2],[792,2,797,2],[801,2,806,2],[849,2,854,2],[858,2,863,2],[864,2,869,2],[825,2,830,2],[831,2,836,2],[837,1,842,2],[843,2,848,2],[888,2,893,2],[894,2,899,2],[900,2,905,2],[870,2,875,2],[876,2,881,2],[882,2,887,2],[933,2,938,2],[939,2,944,2],[945,2,950,2],[906,0,911,2],[915,1,920,2],[921,2,926,2],[927,2,932,2],[972,2,977,2],[978,2,983,2],[984,2,989,2],[951,2,956,2],[957,2,962,2],[963,2,968,2],[1008,2,1013,2],[1014,2,1019,2],[1020,2,1025,2],[990,2,995,2],[996,2,1001,2],[1002,2,1007,2],[1053,2,1058,2],[1059,2,1064,2],[1065,2,1070,2],[1029,2,1034,2],[1035,0,1040,2],[1041,1,1046,2],[1047,2,1052,2],[1092,2,1097,2],[1098,2,1103,2],[1104,2,1109,2],[1071,2,1076,2],[1077,2,1082,2],[1086,2,1091,2],[1128,2,1133,2],[1134,2,1139,2],[1143,2,1148,2],[1110,2,1115,2],[1116,2,1121,2],[1122,2,1127,2],[1167,0,1172,2],[1173,1,1178,2],[1179,2,1184,2],[1185,2,1190,2],[1149,2,1154,2],[1155,2,1160,2],[1161,2,1166,2],[1212,2,1217,2],[1218,2,1223,2],[1224,2,1229,2],[1191,2,1196,2],[1200,2,1205,2],[1206,2,1211,2],[1257,2,1262,2],[1263,2,1268,2],[1230,1,1235,2],[1236,2,1241,2],[1242,2,1247,2],[1248,2,1253,2],[117,20,122,20],[117,21,122,21],[123,20,128,20],[123,21,128,21],[129,20,134,20],[129,21,134,21],[135,20,140,20],[135,21,140,21],[141,20,146,20],[141,21,146,21],[147,20,152,20],[147,21,152,21],[153,20,158,20],[153,21,158,21],[159,20,164,20],[159,21,164,21],[165,20,170,20],[165,21,170,21],[186,20,191,20],[186,21,191,21],[180,20,185,20],[180,21,185,21],[192,20,197,20],[192,21,197,21],[198,20,203,20],[198,21,203,21],[204,20,209,20],[204,21,209,21],[210,20,215,20],[210,21,215,21],[216,20,221,20],[216,21,221,21],[222,20,227,20],[222,21,227,21],[237,20,242,20],[237,21,242,21],[243,20,248,20],[243,21,248,21],[249,20,254,20],[249,21,254,21],[255,20,260,20],[255,21,260,21],[261,20,266,20],[261,21,266,21],[267,20,272,20],[267,21,272,21],[273,20,278,20],[273,21,278,21],[279,20,284,20],[279,21,284,21],[288,20,293,20],[288,21,293,21],[294,20,299,20],[294,21,299,21],[300,20,305,20],[300,21,305,21],[306,20,311,20],[306,21,311,21],[312,20,317,20],[312,21,317,21],[318,20,323,20],[318,21,323,21],[324,20,329,20],[324,21,329,21],[330,20,335,20],[330,21,335,21],[336,20,341,20],[336,21,341,21],[345,20,350,20],[345,21,350,21],[351,20,356,20],[351,21,356,21],[357,20,362,20],[357,21,362,21],[369,20,374,20],[369,21,374,21],[375,20,380,20],[375,21,380,21],[381,20,386,20],[381,21,386,21],[387,20,392,20],[387,21,392,21],[393,20,398,20],[393,21,398,21],[402,20,407,20],[402,21,407,21],[408,20,413,20],[408,21,413,21],[414,20,419,20],[414,21,419,21],[420,20,425,20],[420,21,425,21],[426,20,431,20],[426,21,431,21],[432,20,437,20],[432,21,437,21],[444,20,449,20],[444,21,449,21],[450,20,455,20],[450,21,455,21],[459,20,464,20],[459,21,464,21],[465,20,470,20],[465,21,470,21],[471,20,476,20],[471,21,476,21],[477,20,482,20],[477,21,482,21],[483,20,488,20],[483,21,488,21],[501,20,506,20],[501,21,506,21],[507,20,512,20],[507,21,512,21],[516,20,521,20],[516,21,521,21],[522,20,527,20],[522,21,527,21],[528,20,533,20],[528,21,533,21],[534,20,539,20],[534,21,539,21],[540,20,545,20],[540,21,545,21],[546,20,551,20],[546,21,551,21],[552,20,557,20],[552,21,557,21],[558,20,563,20],[558,21,563,21],[564,20,569,20],[564,21,569,21],[579,20,584,20],[579,21,584,21],[585,20,590,20],[585,21,590,21],[591,20,596,20],[591,21,596,21],[597,20,602,20],[597,21,602,21],[603,20,608,20],[603,21,608,21],[609,20,614,20],[609,21,614,21],[615,20,620,20],[615,21,620,21],[636,20,641,20],[636,21,641,21],[642,20,647,20],[642,21,647,21],[648,20,653,20],[648,21,653,21],[654,20,659,20],[654,21,659,21],[660,20,665,20],[660,21,665,21],[666,20,671,20],[666,21,671,21],[672,20,677,20],[672,21,677,21],[678,20,683,20],[678,21,683,21],[687,20,692,20],[687,21,692,21],[693,20,698,20],[693,21,698,21],[699,20,704,20],[699,21,704,21],[705,20,710,20],[705,21,710,21],[711,20,716,20],[711,21,716,21],[717,20,722,20],[717,21,722,21],[723,20,728,20],[723,21,728,21],[729,20,734,20],[729,21,734,21],[735,20,740,20],[735,21,740,21],[744,20,749,20],[744,21,749,21],[750,20,755,20],[750,21,755,21],[756,20,761,20],[756,21,761,21],[762,20,767,20],[762,21,767,21],[768,20,773,20],[768,21,773,21],[774,20,779,20],[774,21,779,21],[786,20,791,20],[786,21,791,21],[792,20,797,20],[792,21,797,21],[801,20,806,20],[801,21,806,21],[807,20,812,20],[807,21,812,21],[813,20,818,20],[813,21,818,21],[819,20,824,20],[819,21,824,21],[825,20,830,20],[825,21,830,21],[831,20,836,20],[831,21,836,21],[843,20,848,20],[843,21,848,21],[849,20,854,20],[849,21,854,21],[858,20,863,20],[858,21,863,21],[864,20,869,20],[864,21,869,21],[870,20,875,20],[870,21,875,21],[876,20,881,20],[876,21,881,21],[882,20,887,20],[882,21,887,21],[888,20,893,20],[888,21,893,21],[894,20,899,20],[894,21,899,21],[900,20,905,20],[900,21,905,21],[921,20,926,20],[921,21,926,21],[927,20,932,20],[927,21,932,21],[933,20,938,20],[933,21,938,21],[939,20,944,20],[939,21,944,21],[945,20,950,20],[945,21,950,21],[951,20,956,20],[951,21,956,21],[957,20,962,20],[957,21,962,21],[963,20,968,20],[963,21,968,21],[972,20,977,20],[972,21,977,21],[978,20,983,20],[978,21,983,21],[984,20,989,20],[984,21,989,21],[990,20,995,20],[990,21,995,21],[996,20,1001,20],[996,21,1001,21],[1002,20,1007,20],[1002,21,1007,21],[1008,20,1013,20],[1008,21,1013,21],[1014,20,1019,20],[1014,21,1019,21],[1020,20,1025,20],[1020,21,1025,21],[1029,20,1034,20],[1029,21,1034,21],[1047,20,1052,20],[1047,21,1052,21],[1053,20,1058,20],[1053,21,1058,21],[1059,20,1064,20],[1059,21,1064,21],[1065,20,1070,20],[1065,21,1070,21],[1071,20,1076,20],[1071,21,1076,21],[1077,20,1082,20],[1077,21,1082,21],[1086,20,1091,20],[1086,21,1091,21],[1092,20,1097,20],[1092,21,1097,21],[1098,20,1103,20],[1098,21,1103,21],[1104,20,1109,20],[1104,21,1109,21],[1110,20,1115,20],[1110,21,1115,21],[1116,20,1121,20],[1116,21,1121,21],[1122,20,1127,20],[1122,21,1127,21],[1128,20,1133,20],[1128,21,1133,21],[1134,20,1139,20],[1134,21,1139,21],[1143,20,1148,20],[1143,21,1148,21],[1149,20,1154,20],[1149,21,1154,21],[1155,20,1160,20],[1155,21,1160,21],[1161,20,1166,20],[1161,21,1166,21],[1179,20,1184,20],[1179,21,1184,21],[1185,20,1190,20],[1185,21,1190,21],[1191,20,1196,20],[1191,21,1196,21],[1200,20,1205,20],[1200,21,1205,21],[1206,20,1211,20],[1206,21,1211,21],[1248,20,1253,20],[1248,21,1253,21],[1257,20,1262,20],[1257,21,1262,21],[1263,20,1268,20],[1263,21,1268,21],[1212,20,1217,20],[1212,21,1217,21],[1218,20,1223,20],[1218,21,1223,21],[1224,20,1229,20],[1224,21,1229,21],[1236,20,1241,20],[1236,21,1241,21],[1242,20,1247,20],[1242,21,1247,21]]}
["１　令和５年度（2023年度）上期　市町村別・月別観光入込客数"]
[null,null,null,null,null,null,null,null,null,null,null,null,null,null,null,null,null,null,"単位：入込総数→千人、宿泊客延数→千人泊、対前年比→％"]
["圏　域","振興局","市町村名","区　分","４　月","５　月","６　月","７　月","８　月","９　月","１０月","１１月","１２月","１　月","２　月","３　月","合計","R4年度上期","対前年比"]
["全道計",null,null,"入込総数",{"$f":"+E10+E490+E622+E907+E1036+E1168","v":8850.3410000000003},14914.968999999999,13933.877999999999,19525.717000000004,20468.199000000001,16342.140999999998,0,0,0,0,0,0,{"$f":"+Q10+Q490+Q622+Q907+Q1036+Q1168","v":94035.24500000001},{"$f":"+R10+R490+R622+R907+R1036+R1168","v":75705.7},{"$f":"IF(Q4=0,\"－\",Q4/R4*100)","v":124.21157852050773}]
[null,null,null,"内道外客",2043.1710000000003,3450.288,4124.9780000000001,5944.5280000000002,5899.2380000000012,4364.9289999999992,0,0,0,0,0,0,25827.131999999998,17169.07,150.42825266598598]
[null,null,null,"内道内客",6807.1699999999983,11464.681,9808.9,13581.188999999998,14568.960999999998,11977.212000000001,0,0,0,0,0,0,68208.113000000012,58536.63,116.52210419356224]
[null,null,null,"内日帰客",7406.4119999999994,12882.593999999999,11628.667999999998,16652.777000000002,17530.315999999999,13909.948,0,0,0,0,0,0,80010.714999999997,64721.8,123.62251204385539]
[null,null,null,"内宿泊客",1443.9289999999999,2032.375,2305.21,2872.94,2937.8829999999994,2432.1930000000002,0,0,0,0,0,0,14024.529999999999,10983.9,127.68260818106501]
[null,null,null,"宿泊客延数",2088.6840000000002,2740.09,2967.1909999999998,4089.2839999999997,4333.8019999999988,3552.4269999999997,0,0,0,0,0,0,19771.477999999996,16356.900000000001,120.87545928629504]
["道央圏域計",null,null,"入込総数",{"$f":"+E16+E175+E232+E364+E439","v":5547.9},8582.6,7823.4999999999991,10445.400000000001,11240.6,9139.7999999999993,0,0,0,0,0,0,52779.8,39807.9,132.58624544374356]
[null,null,null,"内道外客",1145,1623.1999999999998,1849.5,2310.6000000000004,2563.7000000000003,1914.6,0,0,0,0,0,0,11406.6,{"$f":"+R17+R176+R233+R365+R440","v":6595.2699999999995},172.95122110239615]
[null,null,null,"内道内客",4402.8999999999996,6959.4000000000005,5974.0000000000009,8134.8,8676.9,7225.2000000000007,0,0,0,0,0,0,41373.200000000012,{"$f":"+R18+R177+R234+R366+R441","v":33212.629999999997},124.57068289984869]
[null,null,null,"内日帰客",4724.7000000000007,7482.7999999999993,6557.9,8941,9752.6,7799.6,0,0,0,0,0,0,45258.6,{"$f":"+R19+R178+R235+R367+R442","v":34350.800000000003},131.75413673044002]
[null,null,null,"内宿泊客",823.19999999999993,1099.8,1265.5999999999999,1504.3999999999999,1488,1340.2,0,0,0,0,0,0,7521.2000000000007,{"$f":"+R20+R179+R236+R368+R443","v":5457.1},137.82411903758407]
[null,null,null,"宿泊客延数",1317.655,1609.37,1690.9869999999999,2386.7289999999998,2525.7139999999995,2215.5099999999998,0,0,0,0,0,0,11745.964999999998,{"$f":"+R21+R180+R237+R369+R444","v":9445.9000000000015},124.34987666606672]
[null,"空知総合振興局計",null,"入込総数",{"$f":"+E22+E28+E34+E40+E46+E52+E61+E67+E73+E79+E85+E91+E97+E103+E109+E118+E124+E130+E136+E142+E148+E154+E160+E166","v":759.69999999999993},1495.0000000000002,1228.0999999999997,1784.1999999999998,1910.8,1384.7999999999997,0,0,0,0,0,0,8562.6000000000022,{"$f":"+R22+R28+R34+R40+R46+R52+R61+R67+R73+R79+R85+R91+R97+R103+R109+R118+R124+R130+R136+R142+R148+R154+R160+R166","v":7666.7},111.68560136695061]
[null,null,null,"内道外客",58.20000000000001,109.49999999999999,98.100000000000009,158.19999999999999,207.79999999999998,98.999999999999986,0,0,0,0,0,0,730.80000000000007,537.46999999999991,135.97037974212517]
[null,null,null,"内道内客",701.49999999999989,1385.5000000000002,1130,1625.9999999999998,1703.0000000000002,1285.8,0,0,0,0,0,0,7831.8000000000011,7129.23,109.85478095109853]
[null,null,null,"内日帰客",740.00000000000023,1459.5,1191.1999999999998,1729.6000000000001,1850.2,1341,0,0,0,0,0,0,8311.5,7435.9,111.77530628437715]
[null,null,null,"内宿泊客",19.700000000000003,35.5,36.900000000000006,54.599999999999994,60.6,43.800000000000004,0,0,0,0,0,0,251.09999999999997,230.8,108.7954939341421]
[null,null,null,"宿泊客延数",20.000000000000004,36.799999999999997,38.5,57.1,64.3,45.8,0,0,0,0,0,0,262.5,244.8,107.23039215686273]
[null,null,"夕張市","入込総数",11.1,21.8,30.8,41.5,30.1,18.3,null,null,null,null,null,null,{"$f":"SUM(E22:P22)","v":153.60000000000002},141.9,108.24524312896406,null,"新型コロナウイルス感染症による制限緩和および市内イベントの復活による入込客数の増加。"]
[null,null,null,"内道外客",0.6,1.4,1.9,2.7,1.9,1.2,null,null,null,null,null,null,9.6999999999999993,9,107.77777777777777]
[null,null,null,"内道内客",{"$f":"+E22-E23","v":10.5},{"$f":"+F22-F23","v":20.400000000000002},28.900000000000002,38.799999999999997,28.200000000000003,17.100000000000001,0,0,0,0,0,0,143.90000000000003,132.9,108.27689992475547]
[null,null,null,"内日帰客",{"$f":"+E22-E26","v":11.1},{"$f":"+F22-F26","v":21.5},30.3,40.4,29.1,17.7,0,0,0,0,0,0,150.10000000000002,140.30000000000001,106.98503207412688]
[null,null,null,"内宿泊客",0,0.3,0.5,1.1000000000000001,1,0.6,null,null,null,null,null,null,3.5000000000000004,1.6,218.75]
[null,null,null,"宿泊客延数",0,0.3,0.6,1.2,1.1000000000000001,0.6,null,null,null,null,null,null,{"$f":"SUM(E27:P27)","v":3.8},1.6,237.49999999999994]
[null,null,"岩見沢市","入込総数",40.6,99.6,85.3,157.30000000000001,119.2,107.2,null,null,null,null,null,null,609.20000000000005,586.60000000000014,103.85271053528808,null,"新型コロナウイルス感染症の５類への引き下げに伴うイベント通常開催による来場者の増"]
[null,null,null,"内道外客",2.1,3.8,3.9,7.3,4.5,4,null,null,null,null,null,null,25.6,19.899999999999999,128.64321608040203]
[null,null,null,"内道内客",{"$f":"+E28-E29","v":38.5},{"$f":"+F28-F29","v":95.8},81.399999999999991,150,114.7,103.2,0,0,0,0,0,0,{"$f":"+Q28-Q29","v":583.6},566.70000000000005,102.98217751896948]
[null,null,null,"内日帰客",{"$f":"+E28-E32","v":36.4},{"$f":"+F28-F32","v":94.699999999999989},79.3,150.20000000000002,112.5,101.4,0,0,0,0,0,0,{"$f":"+Q28-Q32","v":574.5},559.69999999999993,102.64427371806326]
[null,null,null,"内宿泊客",4.2,4.9000000000000004,6,7.1,6.7,5.8,null,null,null,null,null,null,{"$f":"SUM(E32:P32)","v":34.700000000000003},26.9,128.99628252788108]
[null,null,null,"宿泊客延数",4.4000000000000004,5.0999999999999996,6.3,7.4,7,6,null,null,null,null,null,null,{"$f":"SUM(E33:J33)","v":36.200000000000003},34.5,104.92753623188406]
[null,null,"美唄市","入込総数",44.6,35.1,29.8,31.7,37,36.4,null,null,null,null,null,null,{"$f":"SUM(E34:P34)","v":214.6},170,126.23529411764704,null,"イベントが通常開催となり、前年と比較すると、約2.8万人の増となった、\nまた、各施設において、観光客等の利用者増となったことから、全体的に入込客数の増加につながった。",1]
[null,null,null,"内道外客",0.4,1.8,2.4,2.2000000000000002,2,1.7,null,null,null,null,null,null,10.5,7.1000000000000005,147.88732394366195]
[null,null,null,"内道内客",{"$f":"+E34-E35","v":44.2},{"$f":"+F34-F35","v":33.300000000000004},27.400000000000002,29.5,35,34.699999999999996,0,0,0,0,0,0,{"$f":"+Q34-Q35","v":204.1},162.90000000000003,125.2915899324739]
[null,null,null,"内日帰客",{"$f":"+E34-E38","v":43.4},{"$f":"+F34-F38","v":33.1},27.2,28.5,33.799999999999997,33.9,0,0,0,0,0,0,{"$f":"+Q34-Q38","v":199.9},157.6,126.84010152284264]
[null,null,null,"内宿泊客",1.2,2,2.6,3.2,3.2,2.5,null,null,null,null,null,null,14.7,12.4,118.54838709677418]
[null,null,null,"宿泊客延数",1.2,2,2.6,3.2,3.2,2.5,null,null,null,null,null,null,14.7,12.4,118.54838709677418]
[null,null,"芦別市","入込総数",48.1,120,115.1,183.9,168.4,120.7,null,null,null,null,null,null,756.2,601.4,125.7399401396741,null,"新型コロナウイルス感染症法上の位置付けが５類感染症に移行された事に伴い、イベントが再開されたことや旅行需要の拡大により、本市の観光施設である道の駅やスターライトホテル等の健民センターエリアへの入込客数が増加したことによるもの。"]
[null,null,null,"内道外客",0.4,1.6,2.7,8.1999999999999993,4.5,1.9,null,null,null,null,null,null,19.299999999999997,16.900000000000002,114.20118343195263]
[null,null,null,"内道内客",{"$f":"+E40-E41","v":47.7},{"$f":"+F40-F41","v":118.4},112.39999999999999,175.70000000000002,163.9,118.8,0,0,0,0,0,0,{"$f":"+Q40-Q41","v":736.90000000000009},584.5,126.07356715141147]
[null,null,null,"内日帰客",{"$f":"+E40-E44","v":44.9},{"$f":"+F40-F44","v":114.5},109.1,175.70000000000002,159.5,114.5,0,0,0,0,0,0,{"$f":"+Q40-Q44","v":718.2},566.79999999999995,126.71136203246296]
[null,null,null,"内宿泊客",3.2,5.5,6,8.1999999999999993,8.9,6.2,null,null,null,null,null,null,38,34.6,109.82658959537572]
[null,null,null,"宿泊客延数",3.2,5.6,6.1,8.4,9.1999999999999993,6.3,null,null,null,null,null,null,38.799999999999997,35.299999999999997,109.91501416430596]
[null,null,"赤平市","入込総数",18.2,19.2,17.2,55.8,30.5,24.1,null,null,null,null,null,null,164.99999999999997,137.1,120.35010940919035,null,"新型コロナウィルスが５類に移行され、多くの方が来訪した。４月は４年ぶりにらんフェスタ赤平が開催され、７月はあかびら火まつりが２日間の日程に戻り、最終日は市民花火大会も開催されたこともあり、増加となった。"]
[null,null,null,"内道外客",0,0,0,0,0,0,null,null,null,null,null,null,0,0,"－"]
[null,null,null,"内道内客",{"$f":"+E46-E47","v":18.2},{"$f":"+F46-F47","v":19.2},17.2,55.8,30.5,24.1,0,0,0,0,0,0,{"$f":"+Q46-Q47","v":164.99999999999997},137.1,120.35010940919035]
[null,null,null,"内日帰客",{"$f":"+E46-E50","v":17.8},{"$f":"+F46-F50","v":17.899999999999999},15.799999999999999,53,26.7,22.3,0,0,0,0,0,0,{"$f":"+Q46-Q50","v":153.49999999999997},125.4,122.40829346092501]
[null,null,null,"内宿泊客",0.4,1.3,1.4,2.8,3.8,1.8,null,null,null,null,null,null,11.5,11.7,98.290598290598297]
[null,null,null,"宿泊客延数",0.4,1.3,1.4,2.8,3.8,1.8,null,null,null,null,null,null,11.5,11.7,98.290598290598297]
[null,null,"三笠市","入込総数",69.7,116.1,93.8,117.8,158.69999999999999,108.2,null,null,null,null,null,null,664.30000000000007,641,103.63494539781593,null,"新型コロナウイルス感染症が5類に移行したことにより、日本人旅行者や訪日外国人旅行者が増加し、市内の各施設の来客数が増加した。"]
[null,null,null,"内道外客",4.9000000000000004,8.1,6.6,8.1999999999999993,11.1,7.6,null,null,null,null,null,null,46.5,44.870000000000012,103.63271673724088]
[null,null,null,"内道内客",{"$f":"+E52-E53","v":64.8},{"$f":"+F52-F53","v":108},87.2,109.6,147.6,100.60000000000001,0,0,0,0,0,0,{"$f":"+Q52-Q53","v":617.80000000000007},596.13,103.63511314646135]
[null,null,null,"内日帰客",{"$f":"+E52-E56","v":68.3},{"$f":"+F52-F56","v":114.1},91.7,115.2,155.89999999999998,106,0,0,0,0,0,0,{"$f":"+Q52-Q56","v":651.20000000000005},631.20000000000005,103.16856780735108]
[null,null,null,"内宿泊客",1.4,2,2.1,2.6,2.8,2.2000000000000002,null,null,null,null,null,null,13.099999999999998,9.8000000000000007,133.67346938775506]
[null,null,null,"宿泊客延数",1.4,2,2.1,2.6,2.8,2.2000000000000002,null,null,null,null,null,null,13.099999999999998,9.8000000000000007,133.67346938775506]
[{"$f":"A1","v":"１　令和５年度（2023年度）上期　市町村別・月別観光入込客数"}]
[null,null,null,null,null,null,null,null,null,null,null,null,null,null,null,null,null,null,"単位：入込総数→千人、宿泊客延数→千人泊、対前年比→％"]
["圏　域","振興局","市町村名","区　分","４　月","５　月","６　月","７　月","８　月","９　月","１０月","１１月","１２月","１　月","２　月","３　月","合計",{"$f":"$R$3","v":"R4年度上期"},"対前年比"]
[null,null,"滝川市","入込総数",39.9,138.1,63.7,72.3,88.8,61.7,null,null,null,null,null,null,{"$f":"SUM(E61:P61)","v":464.5},431.1,{"$f":"IF(Q61=0,\"－\",Q61/R61*100)","v":107.74762236140106},null,"　令和５年度上期は前年比107.7％（33583人増）と前年よりも増加した。\n　要因としては、道外客の前年比が171.0％であることから、新型コロナウイルス感染症が５類感染症に移行したことにより、旅行需要が高まったことが影響と考えられる。\n"]
[null,null,null,"内道外客",4.5,11,6.7,8,9.3000000000000007,7,null,null,null,null,null,null,46.5,27.2,170.95588235294119]
["道　央","空　知",null,"内道内客",{"$f":"+E61-E62","v":35.4},{"$f":"+F61-F62","v":127.1},57,64.3,79.5,54.7,0,0,0,0,0,0,{"$f":"+Q61-Q62","v":418},403.9,103.49096310968062]
[null,null,null,"内日帰客",{"$f":"+E61-E65","v":39.1},{"$f":"+F61-F65","v":136.19999999999999},61.900000000000006,68.8,84.3,59.1,0,0,0,0,0,0,{"$f":"+Q61-Q65","v":449.4},414.50000000000006,108.41978287092881]
[null,null,null,"内宿泊客",0.8,1.9,1.8,3.5,4.5,2.6,null,null,null,null,null,null,15.1,16.600000000000001,90.963855421686731]
[null,null,null,"宿泊客延数",0.8,2.2999999999999998,2.4,4.2,5.6,3.7,null,null,null,null,null,null,19,18.899999999999999,100.52910052910053]
[null,null,"砂川市","入込総数",75.900000000000006,179.1,140.1,205.5,224.9,146.69999999999999,null,null,null,null,null,null,972.2,750.2,129.5921087709944,null,"前年と比べハイウェイオアシス館や北海道子どもの国、砂川オアシスパークで入込客数が大きく増加し、菓子店舗などでも入込が増えた地点があることから全体的に入込客数が増加した。",1]
[null,null,null,"内道外客",13.1,31,26,31.9,39.1,26.8,null,null,null,null,null,null,167.9,142.60000000000002,117.74193548387095]
[null,null,null,"内道内客",{"$f":"+E67-E68","v":62.800000000000004},{"$f":"+F67-F68","v":148.1},114.1,{"$f":"+H67-H68","v":173.6},185.8,119.89999999999999,0,0,0,0,0,0,{"$f":"+Q67-Q68","v":804.30000000000007},607.59999999999991,132.37327188940097]
[null,null,null,"内日帰客",{"$f":"+E67-E71","v":75.400000000000006},{"$f":"+F67-F71","v":178.7},139.19999999999999,203.6,223,145.89999999999998,0,0,0,0,0,0,{"$f":"+Q67-Q71","v":965.80000000000007},746.00000000000011,129.46380697050935]
[null,null,null,"内宿泊客",0.5,0.4,0.9,1.9,1.9,0.8,null,null,null,null,null,null,6.3999999999999995,4.2,152.38095238095238]
[null,null,null,"宿泊客延数",0.5,0.4,0.9,2.2000000000000002,2,0.8,null,null,null,null,null,null,6.8,4.5,151.11111111111111]
[null,null,"歌志内市","入込総数",12.9,18.100000000000001,14,18.100000000000001,18.899999999999999,15,null,null,null,null,null,null,97,85.8,113.05361305361305,null,"　新型コロナウイルス感染症の第五類への移行の影響もあり、観光入込客数が増加していると考えられる。"]
[null,null,null,"内道外客",0,0,0,0,0,0,null,null,null,null,null,null,0,0.4,"－"]
[null,null,null,"内道内客",{"$f":"+E73-E74","v":12.9},{"$f":"+F73-F74","v":18.100000000000001},14,18.100000000000001,18.899999999999999,15,0,0,0,0,0,0,{"$f":"+Q73-Q74","v":97},85.4,113.5831381733021]
[null,null,null,"内日帰客",{"$f":"+E73-E77","v":12.700000000000001},{"$f":"+F73-F77","v":17.700000000000003},13.6,17.5,17.899999999999999,14.5,0,0,0,0,0,0,{"$f":"+Q73-Q77","v":93.9},83.100000000000009,112.99638989169674]
[null,null,null,"内宿泊客",0.2,0.4,0.4,0.6,1,0.5,null,null,null,null,null,null,3.1,2.7,114.81481481481481]
[null,null,null,"宿泊客延数",0.2,0.4,0.4,0.6,1,0.5,null,null,null,null,null,null,3.1,2.7,114.81481481481481]
[null,null,"深川市","入込総数",81,121.9,104.8,170.7,126.6,96.3,null,null,null,null,null,null,701.3,678.4,103.37558962264151,null,"新型コロナが5類感染症に変更され、全国的に人の動きが活発化しており、本市への入込客数も増加し、観光需要が回復してきているものと考えられる。",1]
[null,null,null,"内道外客",7.1,10.6,9.1,12.6,11.8,9.6,null,null,null,null,null,null,60.800000000000004,62.7,96.969696969696969]
[null,null,null,"内道内客",{"$f":"+E79-E80","v":73.900000000000006},{"$f":"+F79-F80","v":111.30000000000001},95.7,158.1,114.8,86.7,0,0,0,0,0,0,{"$f":"+Q79-Q80","v":640.5},615.69999999999993,104.02793568296249]
[null,null,null,"内日帰客",{"$f":"+E79-E83","v":79.400000000000006},{"$f":"+F79-F83","v":117.9},102.5,166.89999999999998,121,92.8,0,0,0,0,0,0,{"$f":"+Q79-Q83","v":680.5},657.19999999999993,103.5453438831406]
[null,null,null,"内宿泊客",1.6,4,2.2999999999999998,3.8,5.6,3.5,null,null,null,null,null,null,20.799999999999997,21.199999999999996,98.113207547169822]
[null,null,null,"宿泊客延数",1.6,4.4000000000000004,2.5,4.4000000000000004,7.1,3.9,null,null,null,null,null,null,23.9,22.8,104.82456140350875]
[null,null,"南幌町","入込総数",20.6,53.1,41.7,45.5,52.4,39.799999999999997,null,null,null,null,null,null,253.10000000000002,145.4,174.07152682255847,null,"新たな観光施設が１箇所増えた（子供屋内遊戯施設が5/3にオープン）ことに加え、新型コロナウイルスが5月に5類へ移行したことによる人流の回復によるものと考えられる。",1]
[null,null,null,"内道外客",0,0,0,0,0,0,null,null,null,null,null,null,0,0,"－"]
[null,null,null,"内道内客",{"$f":"+E85-E86","v":20.6},{"$f":"+F85-F86","v":53.1},41.7,45.5,52.4,39.799999999999997,0,0,0,0,0,0,{"$f":"+Q85-Q86","v":253.10000000000002},145.4,174.07152682255847]
[null,null,null,"内日帰客",{"$f":"+E85-E89","v":20},{"$f":"+F85-F89","v":51.1},39.800000000000004,42.9,49.6,37.099999999999994,0,0,0,0,0,0,{"$f":"+Q85-Q89","v":240.50000000000003},133,180.82706766917295]
[null,null,null,"内宿泊客",0.6,2,1.9,2.6,2.8,2.7,null,null,null,null,null,null,12.599999999999998,12.4,101.61290322580643]
[null,null,null,"宿泊客延数",0.6,2,1.9,2.6,2.8,2.7,null,null,null,null,null,null,12.599999999999998,12.4,101.61290322580643]
[null,null,"奈井江町","入込総数",13,22.2,17.5,19.8,27.3,20.100000000000001,null,null,null,null,null,null,119.9,104.29999999999998,114.95685522531163,null,"新型コロナウイルス感染拡大防止のための行動制限もなくなり、また、感染に対する危機感も薄れたため、行動範囲が広くなり、結果として、入込客数の増加につながった。",1]
[null,null,null,"内道外客",0.1,0.2,0.2,0.2,0.3,0.2,null,null,null,null,null,null,1.2,1,120]
[null,null,null,"内道内客",{"$f":"+E91-E92","v":12.9},{"$f":"+F91-F92","v":22},17.3,19.600000000000001,27,19.900000000000002,0,0,0,0,0,0,{"$f":"+Q91-Q92","v":118.7},103.30000000000001,114.90803484995158]
[null,null,null,"内日帰客",{"$f":"+E91-E95","v":13},{"$f":"+F91-F95","v":22.2},17.5,19.8,27.3,20.100000000000001,0,0,0,0,0,0,{"$f":"+Q91-Q95","v":119.9},104.29999999999998,114.95685522531163]
[null,null,null,"内宿泊客",null,null,null,null,null,null,null,null,null,null,null,null,0,0,"－"]
[null,null,null,"宿泊客延数",null,null,null,null,null,null,null,null,null,null,null,null,0,0,"－"]
[null,null,"上砂川町","入込総数",6.6,6.8,7.3,7.9,13.1,7.2,null,null,null,null,null,null,48.900000000000006,46.800000000000004,104.48717948717949,null,"上期を通して昨年より観光入込客数は微増の傾向がみられるが、コロナウイルス流行前の客足には及ばず、いまだコロナの影響が尾を引いていると考えられる。\nまた、８月は仮装盆踊りが2年連続での開催となり、3年ぶりの開催であった去年と比べ観光客数が減少した。",1]
[null,null,null,"内道外客",0.1,0.1,0.1,0.2,0.2,0.1,null,null,null,null,null,null,0.79999999999999993,1,80]
[null,null,null,"内道内客",{"$f":"+E97-E98","v":6.5},{"$f":"+F97-F98","v":6.7},7.2,7.7,12.9,7.1000000000000005,0,0,0,0,0,0,{"$f":"+Q97-Q98","v":48.100000000000009},45.8,105.02183406113539]
[null,null,null,"内日帰客",{"$f":"+E97-E101","v":6.3},{"$f":"+F97-F101","v":6.3},6.5,7.2,12.4,6.7,0,0,0,0,0,0,{"$f":"+Q97-Q101","v":45.400000000000006},43.7,103.89016018306636]
[null,null,null,"内宿泊客",0.3,0.5,0.8,0.7,0.7,0.5,null,null,null,null,null,null,3.5,3.1,112.9032258064516]
[null,null,null,"宿泊客延数",0.4,0.6,1,0.8,0.8,0.6,null,null,null,null,null,null,4.1999999999999993,3.7,113.51351351351349]
[null,null,"由仁町","入込総数",19.8,31.9,31,32.700000000000003,28.4,30.8,null,null,null,null,null,null,174.60000000000002,185.89999999999998,93.921463152232405,null,"夏の暑さが影響し、日帰り施設の客数が減少した。"]
[null,null,null,"内道外客",19.399999999999999,30.2,28.1,29.6,26.2,28.4,null,null,null,null,null,null,161.89999999999998,4.9000000000000004,3304.0816326530603]
[null,null,null,"内道内客",{"$f":"+E103-E104","v":0.40000000000000213},{"$f":"+F103-F104","v":1.6999999999999993},2.8999999999999986,3.1000000000000014,2.1999999999999993,2.4000000000000021,0,0,0,0,0,0,{"$f":"+Q103-Q104","v":12.700000000000045},181,7.0165745856353841]
[null,null,null,"内日帰客",{"$f":"+E103-E107","v":19.2},{"$f":"+F103-F107","v":30.599999999999998},29.6,30.900000000000002,26.5,29.2,0,0,0,0,0,0,{"$f":"+Q103-Q107","v":166.00000000000003},175.8,94.425483503981809]
[null,null,null,"内宿泊客",0.6,1.3,1.4,1.8,1.9,1.6,null,null,null,null,null,null,8.6,10.100000000000001,85.148514851485132]
[null,null,null,"宿泊客延数",0.6,1.3,1.4,1.8,1.9,1.6,null,null,null,null,null,null,8.6,10.100000000000001,85.148514851485132]
[null,null,"長沼町","入込総数",119.5,293.3,235.9,268,282.10000000000002,241.6,null,null,null,null,null,null,1440.4,1237.3,116.41477410490586,null,"コロナ禍が終わり様々な制限がなくなり町外から訪れる観光客が増加したこと、また、道の駅直売所等施設のリニューアルをしたことも増加の要因と考えられる。",1]
[null,null,null,"内道外客",0.1,0.3,0.4,0.7,0.6,1,null,null,null,null,null,null,3.1,2,155]
[null,null,null,"内道内客",{"$f":"+E109-E110","v":119.4},{"$f":"+F109-F110","v":293},235.5,267.3,281.5,240.6,0,0,0,0,0,0,{"$f":"+Q109-Q110","v":1437.3000000000002},1235.3,116.35230308427104]
[null,null,null,"内日帰客",{"$f":"+E109-E113","v":118.8},{"$f":"+F109-F113","v":291.2},233.8,264.60000000000002,277.90000000000003,238.7,0,0,0,0,0,0,{"$f":"+Q109-Q113","v":1425},1219.8999999999999,116.81285351258302]
[null,null,null,"内宿泊客",0.7,2.1,2.1,3.4,4.2,2.9,null,null,null,null,null,null,15.4,17.399999999999999,88.505747126436802]
[null,null,null,"宿泊客延数",0.7,2.2000000000000002,2.2000000000000002,3.6,4.4000000000000004,3,null,null,null,null,null,null,16.100000000000001,18.3,87.978142076502735]
[{"$f":"A1","v":"１　令和５年度（2023年度）上期　市町村別・月別観光入込客数"}]
[null,null,null,null,null,null,null,null,null,null,null,null,null,null,null,null,null,null,"単位：入込総数→千人、宿泊客延数→千人泊、対前年比→％"]
["圏　域","振興局","市町村名","区　分","４　月","５　月","６　月","７　月","８　月","９　月","１０月","１１月","１２月","１　月","２　月","３　月","合計",{"$f":"$R$3","v":"R4年度上期"},"対前年比"]
[null,null,"栗山町","入込総数",26,27.4,23.1,36.4,23.6,126.5,null,null,null,null,null,null,{"$f":"SUM(E118:P118)","v":263},195.79999999999998,{"$f":"IF(Q118=0,\"－\",Q118/R118*100)","v":134.32073544433095},null,"アフターコロナで団体客利用等が増えたため増加した。",1]
[null,null,null,"内道外客",0.2,0.3,0.3,0.3,0.2,0.3,null,null,null,null,null,null,1.6,1.5,106.66666666666667]
["道　央","空　知",null,"内道内客",{"$f":"+E118-E119","v":25.8},{"$f":"+F118-F119","v":27.099999999999998},22.8,36.1,23.400000000000002,126.2,0,0,0,0,0,0,{"$f":"+Q118-Q119","v":261.39999999999998},194.3,134.53422542460112]
[null,null,null,"内日帰客",{"$f":"+E118-E122","v":25.7},{"$f":"+F118-F122","v":26.099999999999998},21.6,34.4,21.700000000000003,124.8,0,0,0,0,0,0,{"$f":"+Q118-Q122","v":254.3},191.39999999999998,132.86311389759669]
[null,null,null,"内宿泊客",0.3,1.3,1.5,2,1.9,1.7,null,null,null,null,null,null,8.6999999999999993,4.4000000000000004,197.72727272727269]
[null,null,null,"宿泊客延数",0.3,1.3,1.5,2,1.9,1.7,null,null,null,null,null,null,8.6999999999999993,4.4000000000000004,197.72727272727269]
[null,null,"月形町","入込総数",6.5,10.5,7.3,20,9.1999999999999993,9.6,null,null,null,null,null,null,63.1,53.4,118.16479400749064,null,"月形温泉ホテル休館による減少",1]
[null,null,null,"内道外客",0.3,0.5,0.4,0.5,0.5,0.5,null,null,null,null,null,null,2.7,2.7,100]
[null,null,null,"内道内客",{"$f":"+E124-E125","v":6.2},{"$f":"+F124-F125","v":10},6.8999999999999995,19.5,8.6999999999999993,9.1,0,0,0,0,0,0,{"$f":"+Q124-Q125","v":60.4},50.7,119.13214990138066]
[null,null,null,"内日帰客",{"$f":"+E124-E128","v":5.9},{"$f":"+F124-F128","v":9.9},7.3,20,9.1999999999999993,9.6,0,0,0,0,0,0,{"$f":"+Q124-Q128","v":61.9},50.099999999999994,123.55289421157684]
[null,null,null,"内宿泊客",0.6,0.6,0,0,0,0,null,null,null,null,null,null,1.2,3.3,36.363636363636367]
[null,null,null,"宿泊客延数",0.6,0.6,0,0,0,0,null,null,null,null,null,null,1.2,3.3,36.363636363636367]
[null,null,"浦臼町","入込総数",8,21.9,15.1,23.8,35,24.6,null,null,null,null,null,null,128.4,160.60000000000002,79.950186799501864,null,"道の駅内１店舗で、入込客数の集計方法を店舗利用者のみに変更したため、大きく減少したように見えるが、当該店舗を除くと、ほぼどの拠点も入込客数は微増している。また、R2より実施を見合わせていたイベントを通常開催としたことにより、前年度よりも入込客数は増加している。"]
[null,null,null,"内道外客",0.1,0.1,0.1,0.1,0.1,0.1,null,null,null,null,null,null,0.6,0.6,100]
[null,null,null,"内道内客",{"$f":"+E130-E131","v":7.9},{"$f":"+F130-F131","v":21.799999999999997},15,23.7,34.9,24.5,0,0,0,0,0,0,{"$f":"+Q130-Q131","v":127.80000000000001},159.99999999999997,79.875000000000014]
[null,null,null,"内日帰客",{"$f":"+E130-E134","v":7.8},{"$f":"+F130-F134","v":20.9},14.1,22.2,33.299999999999997,22.8,0,0,0,0,0,0,{"$f":"+Q130-Q134","v":121.10000000000001},153.60000000000002,78.841145833333329]
[null,null,null,"内宿泊客",0.2,1,1,1.6,1.7,1.8,null,null,null,null,null,null,7.3,7,104.28571428571429]
[null,null,null,"宿泊客延数",0.2,1,1,1.6,1.7,1.8,null,null,null,null,null,null,7.3,7,104.28571428571429]
[null,null,"新十津川町","入込総数",9.3000000000000007,15.6,19.7,30.8,19.3,19.899999999999999,null,null,null,null,null,null,114.6,59.3,193.25463743676224,null,"ふるさと公園リニューアルオープンに加え、新型ｺﾛﾅウィルスが5類に移行したことでｺﾛﾅ禍前と変わらない経済効果が得られたことによる増",1]
[null,null,null,"内道外客",0.9,1.6,2,3.1,1.9,2,null,null,null,null,null,null,11.5,2.9,396.55172413793105]
[null,null,null,"内道内客",{"$f":"+E136-E137","v":8.4},{"$f":"+F136-F137","v":14},17.7,27.7,17.400000000000002,17.899999999999999,0,0,0,0,0,0,{"$f":"+Q136-Q137","v":103.1},56.4,182.80141843971631]
[null,null,null,"内日帰客",{"$f":"+E136-E140","v":8},{"$f":"+F136-F140","v":14.2},18.099999999999998,28.3,16.3,17.899999999999999,0,0,0,0,0,0,{"$f":"+Q136-Q140","v":102.8},49.4,208.09716599190281]
[null,null,null,"内宿泊客",1.3,1.4,1.6,2.5,3,2,null,null,null,null,null,null,11.8,9.9,119.1919191919192]
[null,null,null,"宿泊客延数",1.3,1.4,1.6,2.5,3,2,null,null,null,null,null,null,11.8,9.9,119.1919191919192]
[null,null,"妹背牛町","入込総数",13.4,8.1999999999999993,3.3,9.3000000000000007,12.6,3.3,null,null,null,null,null,null,50.1,109.79999999999998,45.628415300546457,null,"温泉施設リニューアル工事中。次年度まで宿泊施設のみの営業となっているため入込客数の減少となっている。",1]
[null,null,null,"内道外客",0,0,0,0,0.1,0,null,null,null,null,null,null,0.1,0,{"$error":"#DIV/0!"}]
[null,null,null,"内道内客",{"$f":"+E142-E143","v":13.4},{"$f":"+F142-F143","v":8.1999999999999993},3.3,9.3000000000000007,12.5,3.3,0,0,0,0,0,0,{"$f":"+Q142-Q143","v":50},109.79999999999998,45.537340619307834]
[null,null,null,"内日帰客",{"$f":"+E142-E146","v":13.200000000000001},{"$f":"+F142-F146","v":7.9999999999999991},3.1999999999999997,9,12.1,3,0,0,0,0,0,0,{"$f":"+Q142-Q146","v":48.5},108.50000000000001,44.700460829493082]
[null,null,null,"内宿泊客",0.2,0.2,0.1,0.3,0.5,0.3,null,null,null,null,null,null,1.6,1.3,123.07692307692308]
[null,null,null,"宿泊客延数",0.2,0.2,0.1,0.3,0.5,0.3,null,null,null,null,null,null,1.6,1.3,123.07692307692308]
[null,null,"秩父別町","入込総数",40.700000000000003,73.400000000000006,69.8,89.8,97.2,64.7,null,null,null,null,null,null,435.59999999999997,380.6,114.4508670520231,null,"アフターコロナとなり、町全体の観光客数がコロナ前の数値となりつつある。"]
[null,null,null,"内道外客",2,3.7,3.5,4.5,4.9000000000000004,3.2,null,null,null,null,null,null,21.8,18.899999999999999,115.34391534391534]
[null,null,null,"内道内客",{"$f":"+E148-E149","v":38.700000000000003},{"$f":"+F148-F149","v":69.7},66.3,85.3,92.3,61.5,0,0,0,0,0,0,{"$f":"+Q148-Q149","v":413.79999999999995},361.70000000000005,114.40420237766102]
[null,null,null,"内日帰客",{"$f":"+E148-E152","v":40.200000000000003},{"$f":"+F148-F152","v":72.300000000000011},68.899999999999991,88.5,95.600000000000009,63.2,0,0,0,0,0,0,{"$f":"+Q148-Q152","v":428.7},374.9,114.35049346492399]
[null,null,null,"内宿泊客",0.5,1.1000000000000001,0.9,1.3,1.6,1.5,null,null,null,null,null,null,6.9,5.6999999999999993,121.05263157894738]
[null,null,null,"宿泊客延数",0.5,1.1000000000000001,0.9,1.3,1.6,1.5,null,null,null,null,null,null,6.9,5.6999999999999993,121.05263157894738]
[null,null,"雨竜町","入込総数",15,29,26.8,36.5,40.799999999999997,29.3,null,null,null,null,null,null,177.4,187.20000000000002,94.76495726495726,null,"昨年度と比較すると7.8月がやや減となっている。他はほぼ横ばいであり、減少した原因は、最も観光入込客が多い時期であり、雨竜沼湿原のシーズンに、猛暑や悪天候といった天候が多かったためと考えられる。",1]
[null,null,null,"内道外客",0,0,0.1,0.5,0.1,0.1,null,null,null,null,null,null,0.79999999999999993,1,80]
[null,null,null,"内道内客",{"$f":"+E154-E155","v":15},{"$f":"+F154-F155","v":29},26.7,36,40.699999999999996,29.2,0,0,0,0,0,0,{"$f":"+Q154-Q155","v":176.6},186.20000000000002,94.844253490870017]
[null,null,null,"内日帰客",{"$f":"+E154-E158","v":15},{"$f":"+F154-F158","v":29},26.6,35.6,40.5,28.8,0,0,0,0,0,0,{"$f":"+Q154-Q158","v":175.5},187.10000000000002,93.800106894708705]
[null,null,null,"内宿泊客",0,0,0.2,0.9,0.3,0.5,null,null,null,null,null,null,1.9000000000000001,0.1,1900]
[null,null,null,"宿泊客延数",0,0,0.2,0.9,0.3,0.5,null,null,null,null,null,null,1.9000000000000001,0.1,1900]
[null,null,"北竜町","入込総数",15,24,23,88,186,24,null,null,null,null,null,null,360,435.9,82.58774948382657,null,"ひまわりまつりにおいて、昨年度と比較し雨の日が多かったことと、猛暑だったため入込客数が減少した。",1]
[null,null,null,"内道外客",1.2,1.9,1.8,34.200000000000003,76.400000000000006,2,null,null,null,null,null,null,117.5,149.19999999999999,78.753351206434317]
[null,null,null,"内道内客",{"$f":"+E160-E161","v":13.8},{"$f":"+F160-F161","v":22.1},21.2,53.8,109.6,22,0,0,0,0,0,0,{"$f":"+Q160-Q161","v":242.5},286.7,84.5831880013952]
[null,null,null,"内日帰客",{"$f":"+E160-E164","v":14.7},{"$f":"+F160-F164","v":23.6},22.6,87.3,185.2,23.4,0,0,0,0,0,0,{"$f":"+Q160-Q164","v":356.8},433.09999999999997,82.382821519279631]
[null,null,null,"内宿泊客",0.3,0.4,0.4,0.7,0.8,0.6,null,null,null,null,null,null,3.2,2.8000000000000003,114.28571428571428]
[null,null,null,"宿泊客延数",0.3,0.4,0.4,0.7,0.8,0.6,null,null,null,null,null,null,3.2,2.8000000000000003,114.28571428571428]
[null,null,"沼田町","入込総数",4.3,8.6999999999999993,12,21.1,80.7,8.8000000000000007,null,null,null,null,null,null,135.60000000000002,140.9,96.238466997870844,null,"昨年とほぼ同水準で推移している（一部微減）。今年度より、ほろしん温泉ほたる館の指定管理者が変更となり、それに伴う休業期間の発生や、例年７月に開催しているほたる祭りを縮小して開催したこと等の影響によるものと見られる。",1]
[null,null,null,"内道外客",0.7,1.3,1.8,3.2,12.1,1.3,null,null,null,null,null,null,20.400000000000002,21.1,96.682464454976298]
[null,null,null,"内道内客",{"$f":"+E166-E167","v":3.5999999999999996},{"$f":"+F166-F167","v":7.3999999999999995},10.199999999999999,17.900000000000002,68.600000000000009,7.5000000000000009,0,0,0,0,0,0,{"$f":"+Q166-Q167","v":115.20000000000002},119.8,96.160267111853102]
[null,null,null,"内日帰客",{"$f":"+E166-E170","v":3.6999999999999997},{"$f":"+F166-F170","v":7.7999999999999989},11,19.100000000000001,78.900000000000006,7.6000000000000005,0,0,0,0,0,0,{"$f":"+Q166-Q170","v":128.10000000000002},129.30000000000001,99.071925754060331]
[null,null,null,"内宿泊客",0.6,0.9,1,2,1.8,1.2,null,null,null,null,null,null,7.5,11.6,64.65517241379311]
[null,null,null,"宿泊客延数",0.6,0.9,1,2,1.8,1.2,null,null,null,null,null,null,7.5,11.6,64.65517241379311]
[{"$f":"A1","v":"１　令和５年度（2023年度）上期　市町村別・月別観光入込客数"}]
[null,null,null,null,null,null,null,null,null,null,null,null,null,null,null,null,null,null,"単位：入込総数→千人、宿泊客延数→千人泊、対前年比→％"]
["圏　域","振興局","市町村名","区　分","４　月","５　月","６　月","７　月","８　月","９　月","１０月","１１月","１２月","１　月","２　月","３　月","合計",{"$f":"$R$3","v":"R4年度上期"},"対前年比"]
[null,"石狩振興局計",null,"入込総数",{"$f":"+E181+E187+E193+E199+E205+E211+E217+E223","v":2267.2999999999997},2916.9,2871.7,3668.7000000000003,3990.7,3699.5,0,0,0,0,0,0,19414.8,{"$f":"+R181+R187+R193+R199+R205+R211+R217+R223","v":13899.7},{"$f":"IF(Q175=0,\"－\",Q175/R175*100)","v":139.67783477341237}]
[null,null,null,"内道外客",439.70000000000005,571.69999999999993,705.69999999999993,746.7,766.40000000000009,690.1,0,0,0,0,0,0,3920.3,1824.6,214.85805107968875]
["道　央",null,null,"内道内客",1827.6,2345.2000000000003,2166,2922,3224.2999999999997,3009.4,0,0,0,0,0,0,15494.500000000002,12075.099999999999,128.31777790660121]
[null,null,null,"内日帰客",1724.7000000000003,2242.3999999999996,2050.6999999999998,2730.5,3131.9,2857.7,0,0,0,0,0,0,14737.9,10843.800000000001,135.91084306239509]
[null,null,null,"内宿泊客",542.59999999999991,674.50000000000011,821,938.19999999999993,858.8,841.80000000000007,0,0,0,0,0,0,4676.9000000000005,3055.9,153.04492948067673]
[null,null,null,"宿泊客延数",987.75499999999988,1125.97,1170.087,1716.329,1766.7139999999997,1607.01,0,0,0,0,0,0,8373.8649999999998,6674.8,125.45491999760291]
[null,null,"札幌市","入込総数",1143,1230,1436,1837,1943,1872,null,null,null,null,null,null,9461,6864,137.83508158508158,null,"昨年発令されていた緊急事態宣言やまん延防止等重点措置などの外出自粛要請がなく、国内の旅行需要が回復したことに加え、北海道の「どうみん割」、札幌市の「サッポロ割」や「＃さっぽろいきたいキャンペーン」などの効果により、全ての月で増加となった",1]
[null,null,null,"内道外客",301,369,481,488,478,391,null,null,null,null,null,null,2508,1208,207.61589403973511]
[null,null,null,"内道内客",842,861,955,1349,1465,1481,{"$f":"+K181-K182","v":0},0,0,0,0,0,6953,5656,122.93140028288543]
[null,null,null,"内日帰客",623,594,658,954,1145,1075,{"$f":"+K181-K185","v":0},0,0,0,0,0,5049,4038,125.03714710252601]
[null,null,null,"内宿泊客",520,636,778,883,798,797,null,null,null,null,null,null,4412,2826,156.12172682236377]
[null,null,null,"宿泊客延数",961.255,1077.47,1115.3869999999999,1647.1289999999999,1689.914,1550.41,null,null,null,null,null,null,8041.5649999999996,6391.2,125.82245900613343]
[null,null,"江別市","入込総数",145.5,209.2,181.8,209,196,190,null,null,null,null,null,null,{"$f":"SUM(E187:P187)","v":1131.5},1077.3999999999999,105.02134768888065,null,"新型コロナウイルス感染症による影響が落ち着いたことによる外出需要の高まりにより増加した。"]
[null,null,null,"内道外客",3.6,6.5,4.4000000000000004,7.2,7.7,5.5,null,null,null,null,null,null,34.9,68,51.323529411764703]
[null,null,null,"内道内客",{"$f":"+E187-E188","v":141.9},{"$f":"+F187-F188","v":202.7},177.4,201.8,188.3,184.5,0,0,0,0,0,0,{"$f":"+Q187-Q188","v":1096.5999999999999},1009.4000000000001,108.6387953239548]
[null,null,null,"内日帰客",{"$f":"+E187-E191","v":144.19999999999999},{"$f":"+F187-F191","v":207.6},179.8,206.4,193.3,187.9,0,0,0,0,0,0,{"$f":"+Q187-Q191","v":1119.2},1068.0999999999999,104.78419623630748]
[null,null,null,"内宿泊客",1.3,1.6,2,2.6,2.7,2.1,null,null,null,null,null,null,12.299999999999999,9.2999999999999989,132.25806451612902]
[null,null,null,"宿泊客延数",1.4,1.7,2.2999999999999998,2.8,2.9,2.2000000000000002,null,null,null,null,null,null,13.3,9.8000000000000007,135.71428571428572]
[null,null,"千歳市","入込総数",109.1,174.8,173.5,262.8,218.7,222.4,null,null,null,null,null,null,1161.3000000000002,1090.5,106.49243466299865,null,"全体的にはコロナ前の水準に戻りつつあるが、主要観光地点である道の駅が８月下旬まで一部休止していたことにより入込客数が前年の半分程度となったため、総じて減少した。",1]
[null,null,null,"内道外客",22.2,39,43.8,54.7,62.1,65.7,null,null,null,null,null,null,287.5,310.5,92.592592592592595]
[null,null,null,"内道内客",{"$f":"+E193-E194","v":86.899999999999991},{"$f":"+F193-F194","v":135.80000000000001},129.69999999999999,208.10000000000002,156.6,156.69999999999999,0,0,0,0,0,0,{"$f":"+Q193-Q194","v":873.80000000000018},780,112.02564102564105]
[null,null,null,"内日帰客",{"$f":"+E193-E197","v":93.1},{"$f":"+F193-F197","v":151.5},146.5,231.20000000000002,185,195.70000000000002,0,0,0,0,0,0,{"$f":"+Q193-Q197","v":1003.0000000000002},942.99999999999989,106.36267232237545]
[null,null,null,"内宿泊客",16,23.3,27,31.6,33.700000000000003,26.7,null,null,null,null,null,null,158.30000000000001,147.5,107.32203389830511]
[null,null,null,"宿泊客延数",19.7,28.9,34.200000000000003,39.9,43.1,33.6,null,null,null,null,null,null,199.39999999999998,185.8,107.31969860064584]
[null,null,"恵庭市","入込総数",133,226.5,198.6,234.8,232.5,198.9,null,null,null,null,null,null,1224.3000000000002,1378.2,88.833260774923829,null,"全体的に入込総数は減少となったが、道外客数や宿泊客数は増加の傾向となった。\n昨年度開催されたガーデンフェスタ北海道2022の影響やコロナの解消、今年度高校総体が恵庭市で開催されたことなどが要因であると考えられる。",1]
[null,null,null,"内道外客",13.8,25.2,24.8,46.6,38.6,32.9,null,null,null,null,null,null,181.9,175.2,103.82420091324202]
[null,null,null,"内道内客",{"$f":"+E199-E200","v":119.2},{"$f":"+F199-F200","v":201.3},173.79999999999998,188.20000000000002,193.9,166,0,0,0,0,0,0,{"$f":"+Q199-Q200","v":1042.4000000000001},1203,86.650041562759768]
[null,null,null,"内日帰客",{"$f":"+E199-E203","v":132.80000000000001},{"$f":"+F199-F203","v":225.8},198.4,234.20000000000002,232.1,198.4,0,0,0,0,0,0,{"$f":"+Q199-Q203","v":1221.7000000000003},1376.7,88.741192707198394]
[null,null,null,"内宿泊客",0.2,0.7,0.2,0.6,0.4,0.5,null,null,null,null,null,null,2.5999999999999996,1.5,173.33333333333331]
[null,null,null,"宿泊客延数",0.3,1,0.2,1.2,0.8,1,null,null,null,null,null,null,4.5,2.6999999999999997,166.66666666666669]
[null,null,"北広島市","入込総数",487.1,613.29999999999995,494.9,608.4,650.79999999999995,684.7,null,null,null,null,null,null,3539.2,670.50000000000011,527.84489187173745,null,"新型コロナウイルスの5類移行及び北海道ボールパークＦビレッジの開業により、昨年に比べ入込客数は増加している。\n屋外レジャーについては連日の猛暑により、夏季については客数が減少傾向にある施設が目立った。",1]
[null,null,null,"内道外客",97.4,128.30000000000001,148.6,145.69999999999999,173.8,190.6,null,null,null,null,null,null,884.4,33.6,2632.1428571428569]
[null,null,null,"内道内客",{"$f":"+E205-E206","v":389.70000000000005},{"$f":"+F205-F206","v":484.99999999999994},346.29999999999995,462.7,476.99999999999994,494.1,0,0,0,0,0,0,{"$f":"+Q205-Q206","v":2654.7999999999997},636.9,416.83152771235672]
[null,null,null,"内日帰客",{"$f":"+E205-E209","v":485.5},{"$f":"+F205-F209","v":607.59999999999991},488.9,601.1,641.69999999999993,677,0,0,0,0,0,0,{"$f":"+Q205-Q209","v":3501.7999999999997},649.1,539.48544138037278]
[null,null,null,"内宿泊客",1.6,5.7,6,7.3,9.1,7.7,null,null,null,null,null,null,37.400000000000006,21.4,174.76635514018696]
[null,null,null,"宿泊客延数",1.6,9.6999999999999993,10.199999999999999,12.1,15.1,12,null,null,null,null,null,null,60.7,35.1,172.93447293447292]
[null,null,"石狩市","入込総数",163.6,329.6,215.6,300.39999999999998,466.7,305.2,null,null,null,null,null,null,{"$f":"SUM(E211:P211)","v":1781.1000000000001},1661.5,107.19831477580502,null,"前年比6.1％減の主な要因について、コロナ５類移行によるレジャーの多様化や、夏季の猛暑による、キャンプ場やパークゴルフ場などアウトドア施設利用者の減少に起因すると思われる。",1]
[null,null,null,"内道外客",1.6,3.3,2.2000000000000002,3,4.7,3.1,null,null,null,null,null,null,17.900000000000002,16.5,108.4848484848485]
[null,null,null,"内道内客",{"$f":"+E211-E212","v":162},{"$f":"+F211-F212","v":326.3},213.4,297.39999999999998,462,302.09999999999997,0,0,0,0,0,0,{"$f":"+Q211-Q212","v":1763.2},1645,107.1854103343465]
[null,null,null,"内日帰客",{"$f":"+E211-E215","v":160.79999999999998},{"$f":"+F211-F215","v":324.5},210.6,293.09999999999997,458.9,300.89999999999998,0,0,0,0,0,0,{"$f":"+Q211-Q215","v":1748.8000000000002},1633.4,107.06501775437738]
[null,null,null,"内宿泊客",2.8,5.0999999999999996,5,7.3,7.8,4.3,null,null,null,null,null,null,32.299999999999997,28.099999999999998,114.94661921708185]
[null,null,null,"宿泊客延数",2.8,5.0999999999999996,5,7.3,7.8,4.3,null,null,null,null,null,null,32.299999999999997,28.099999999999998,114.94661921708185]
[null,null,"当別町","入込総数",76.2,117.7,156.5,196.2,261.10000000000002,209.5,null,null,null,null,null,null,{"$f":"SUM(E217:P217)","v":1017.1999999999999},1067.5,95.288056206088996,null,"新型コロナウイルスの5類以降に伴い、自粛や行動制限についての意識が薄れたことが宿泊客の増加要因である。",1]
[null,null,null,"内道外客",0.1,0.4,0.8,1.1000000000000001,1,1.1000000000000001,null,null,null,null,null,null,4.5,12.6,35.714285714285715]
[null,null,null,"内道内客",{"$f":"+E217-E218","v":76.100000000000009},{"$f":"+F217-F218","v":117.3},155.69999999999999,195.1,260.10000000000002,208.4,0,0,0,0,0,0,{"$f":"+Q217-Q218","v":1012.6999999999999},1054.9000000000001,95.999620817139046]
[null,null,null,"内日帰客",{"$f":"+E217-E221","v":75.900000000000006},{"$f":"+F217-F221","v":116.2},154.69999999999999,191.89999999999998,255.8,207.1,0,0,0,0,0,0,{"$f":"+Q217-Q221","v":1001.5999999999999},1052.1000000000001,95.200076038399374]
[null,null,null,"内宿泊客",0.3,1.5,1.8,4.3,5.3,2.4,null,null,null,null,null,null,15.6,15.399999999999999,101.2987012987013]
[null,null,null,"宿泊客延数",0.3,1.5,1.8,4.4000000000000004,5.3,2.4,null,null,null,null,null,null,15.700000000000001,15.399999999999999,101.94805194805197]
[null,null,"新篠津村","入込総数",9.8000000000000007,15.8,14.8,20.100000000000001,21.9,16.8,null,null,null,null,null,null,99.2,90.100000000000009,110.09988901220864,null,"　全体・道外客が増加した要因はコロナ禍を過ぎ、以前より旅行がしやすくなったためと考える。\n　宿泊客が減少した要因としては、客室内にエアコンを設備しておらず、今夏の猛暑に対応できなかったためであると考える。"]
[null,null,null,"内道外客",0,0,0.1,0.4,0.5,0.2,null,null,null,null,null,null,1.2,0.2,599.99999999999989]
[null,null,null,"内道内客",{"$f":"+E223-E224","v":9.8000000000000007},{"$f":"+F223-F224","v":15.8},14.700000000000001,19.700000000000003,21.4,16.600000000000001,0,0,0,0,0,0,{"$f":"+Q223-Q224","v":98},89.9,109.01001112347051]
[null,null,null,"内日帰客",{"$f":"+E223-E227","v":9.4},{"$f":"+F223-F227","v":15.200000000000001},13.8,18.600000000000001,20.099999999999998,15.700000000000001,0,0,0,0,0,0,{"$f":"+Q223-Q227","v":92.8},83.4,111.27098321342925]
[null,null,null,"内宿泊客",0.4,0.6,1,1.5,1.8,1.1000000000000001,null,null,null,null,null,null,6.4,6.6999999999999993,95.522388059701512]
[null,null,null,"宿泊客延数",0.4,0.6,1,1.5,1.8,1.1000000000000001,null,null,null,null,null,null,6.4,6.6999999999999993,95.522388059701512]
[{"$f":"A1","v":"１　令和５年度（2023年度）上期　市町村別・月別観光入込客数"}]
[null,null,null,null,null,null,null,null,null,null,null,null,null,null,null,null,null,null,"単位：入込総数→千人、宿泊客延数→千人泊、対前年比→％"]
["圏　域","振興局","市町村名","区　分","４　月","５　月","６　月","７　月","８　月","９　月","１０月","１１月","１２月","１　月","２　月","３　月","合計",{"$f":"$R$3","v":"R4年度上期"},"対前年比"]
[null,"後志総合振興局計",null,"入込総数",{"$f":"+E238+E244+E250+E256+E262+E268+E274+E280+E289+E295+E301+E307+E313+E319+E325+E331+E337+E346+E352+E358","v":1251.9000000000001},2262.3000000000002,2036.4,2852.7000000000003,2820.6000000000004,2252.5,0,0,0,0,0,0,13476.4,{"$f":"+R238+R244+R250+R256+R262+R268+R274+R280+R289+R295+R301+R307+R313+R319+R325+R331+R337+R346+R352+R358","v":8889.3000000000029},{"$f":"IF(Q232=0,\"－\",Q232/R232*100)","v":151.60248838491214}]
[null,null,null,"内道外客",290.29999999999995,338.5,498.20000000000005,654.70000000000005,684.5,508.40000000000003,0,0,0,0,0,0,2974.599999999999,2005.5999999999997,148.31471878739526]
["道　央",null,null,"内道内客",961.59999999999991,1923.7999999999997,1538.2000000000005,2197.9999999999995,2136.1,1744.1000000000001,0,0,0,0,0,0,10501.8,6883.7000000000007,152.56039629850224]
[null,null,null,"内日帰客",1161.3,2116.8000000000002,1871.5,2642.7,2587.5,2050.8000000000002,0,0,0,0,0,0,12430.600000000002,7935.5000000000009,156.64545397265454]
[null,null,null,"内宿泊客",90.6,145.5,164.89999999999998,209.99999999999997,233.10000000000002,201.70000000000002,0,0,0,0,0,0,1045.8000000000002,953.79999999999984,109.64562801425879]
[null,null,null,"宿泊客延数",123.3,186.79999999999998,220.99999999999997,286.80000000000007,330.59999999999991,289.19999999999993,0,0,0,0,0,0,1437.6999999999998,1179.9000000000005,121.84930926349683]
[null,null,"小樽市","入込総数",363.3,504.4,610,794.2,794.5,583,null,null,null,null,null,null,{"$f":"SUM(E238:P238)","v":3649.4},2073.5,176.00192910537737,null," コロナ禍からの社会経済活動の正常化が進み、新型コロナウイルス感染症が５類感染症に位置付けられるなど、国内旅行需要が回復基調にあること。\n・新型コロナウイルス感染症に係る水際措置が大幅緩和され、海外から日本への直行便は増加し、円安傾向も相まって、訪日外国人旅行が堅調に回復したこと。\n 市内では、コロナ禍においても新たに観光施設や宿泊施設が開設しており、付加価値の高いサービスや多様なニーズに対応するための施設改修や、体験型コンテンツの提供が充実したこと。",1]
[null,null,null,"内道外客",148.1,177.3,289.7,345.1,369.4,303.7,null,null,null,null,null,null,1633.3,1030.8,158.44974776872331]
[null,null,null,"内道内客",{"$f":"+E238-E239","v":215.20000000000002},{"$f":"+F238-F239","v":327.09999999999997},320.3,449.1,425.1,279.3,0,0,0,0,0,0,{"$f":"+Q238-Q239","v":2016.1000000000001},1042.7,193.35379303730699]
[null,null,null,"内日帰客",{"$f":"+E238-E242","v":314.7},{"$f":"+F238-F242","v":437.2},526.6,693.1,692.2,496.1,0,0,0,0,0,0,{"$f":"+Q238-Q242","v":3159.9},1702,185.65804935370153]
[null,null,null,"内宿泊客",48.6,67.2,83.4,101.1,102.3,86.9,null,null,null,null,null,null,489.5,371.5,131.76312247644682]
[null,null,null,"宿泊客延数",59,82.4,103.8,125.7,126.8,107.6,null,null,null,null,null,null,605.29999999999995,430.6,140.57129586623313]
[null,null,"島牧村","入込総数",2.4,7.1,8.6999999999999993,12.5,12.9,7.5,null,null,null,null,null,null,51.1,42.2,121.09004739336493,null,"コロナウイルス感染症の収束に伴う外出傾向の増加が要因と考えられる。",1]
[null,null,null,"内道外客",0.5,1.4,1.7,2.5,2.5,1.5,null,null,null,null,null,null,10.1,8.3000000000000007,121.68674698795179]
[null,null,null,"内道内客",{"$f":"+E244-E245","v":1.9},{"$f":"+F244-F245","v":5.6999999999999993},6.9999999999999991,10,10.4,6,0,0,0,0,0,0,{"$f":"+Q244-Q245","v":41},33.900000000000006,120.94395280235986]
[null,null,null,"内日帰客",{"$f":"+E244-E248","v":2.1999999999999997},{"$f":"+F244-F248","v":6.8999999999999995},8.5,8.6,7,6.2,0,0,0,0,0,0,{"$f":"+Q244-Q248","v":39.4},32.900000000000006,119.75683890577504]
[null,null,null,"内宿泊客",0.2,0.2,0.2,3.9,5.9,1.3,null,null,null,null,null,null,11.700000000000001,9.2999999999999989,125.80645161290325]
[null,null,null,"宿泊客延数",0.2,0.2,0.2,4.0999999999999996,6.2,1.4,null,null,null,null,null,null,12.299999999999999,9.6,128.125]
[null,null,"寿都町","入込総数",21.5,30.8,23.2,24.8,27,23.1,null,null,null,null,null,null,150.4,111.79999999999998,134.52593917710198,null,"町内のイベントが今年に入り復活した為、そこでの集客が増加の大きな要因。弁慶岬には観光バスも来ており、多くの人が訪れている。また宿泊客の増加に関しては記録的な暑さで夏が長く7月～10月ほぼ毎日コテージがフル稼働していた。1団体あたりの利用者が多いのも今年の特徴。"]
[null,null,null,"内道外客",0.8,1.1000000000000001,1,0.9,0.9,1,null,null,null,null,null,null,5.7,4.2,135.71428571428572]
[null,null,null,"内道内客",{"$f":"+E250-E251","v":20.7},{"$f":"+F250-F251","v":29.7},22.2,23.900000000000002,26.1,22.1,0,0,0,0,0,0,{"$f":"+Q250-Q251","v":144.70000000000002},107.6,134.47955390334573]
[null,null,null,"内日帰客",{"$f":"+E250-E254","v":18.3},{"$f":"+F250-F254","v":26.6},19.2,20.8,22.6,19.700000000000003,0,0,0,0,0,0,{"$f":"+Q250-Q254","v":127.2},94.5,134.60317460317461]
[null,null,null,"内宿泊客",3.2,4.2,4,4,4.4000000000000004,3.4,null,null,null,null,null,null,23.2,17.3,134.10404624277456]
[null,null,null,"宿泊客延数",3.3,4.4000000000000004,4.2,4.3,4.5999999999999996,3.5,null,null,null,null,null,null,24.299999999999997,17.899999999999999,135.75418994413405]
[null,null,"黒松内町","入込総数",20.9,31.5,25.6,33.299999999999997,39.1,26.5,null,null,null,null,null,null,176.9,170.29999999999998,103.87551379917794,null,"コロナ５類移行により、観光客が徐々にコロナ禍前の水準に戻りつつあるため。",1]
[null,null,null,"内道外客",1,1.5,1.5,1.8,2,1.4,null,null,null,null,null,null,9.1999999999999993,8.1999999999999993,112.19512195121952]
[null,null,null,"内道内客",{"$f":"+E256-E257","v":19.899999999999999},{"$f":"+F256-F257","v":30},24.1,31.499999999999996,37.1,25.1,0,0,0,0,0,0,{"$f":"+Q256-Q257","v":167.70000000000002},162.10000000000002,103.45465761875386]
[null,null,null,"内日帰客",{"$f":"+E256-E260","v":20.5},{"$f":"+F256-F260","v":30.1},24.1,31.299999999999997,36.5,24.9,0,0,0,0,0,0,{"$f":"+Q256-Q260","v":167.4},161.89999999999998,103.39715873996296]
[null,null,null,"内宿泊客",0.4,1.4,1.5,2,2.6,1.6,null,null,null,null,null,null,9.5,8.4,113.09523809523809]
[null,null,null,"宿泊客延数",0.4,1.4,1.5,2,2.6,1.6,null,null,null,null,null,null,9.5,8.4,113.09523809523809]
[null,null,"蘭越町","入込総数",35.5,58.9,58.3,56.2,55.2,62.1,null,null,null,null,null,null,326.2,357.9,91.14277731209836,null,"・本年度は６月に発生した蒸気噴出事故により、湯里地区にある観光施設は閉館していた時期があること、事故による風評被害が入込客数の減少につながったと推測します。\n",44]
[null,null,null,"内道外客",3,5.2,4.7,5.4,5.4,5.5,null,null,null,null,null,null,29.199999999999996,50.7,57.593688362919117]
[null,null,null,"内道内客",{"$f":"+E262-E263","v":32.5},{"$f":"+F262-F263","v":53.699999999999996},53.599999999999994,50.800000000000004,49.800000000000004,56.6,0,0,0,0,0,0,{"$f":"+Q262-Q263","v":297},307.20000000000005,96.679687499999986]
[null,null,null,"内日帰客",{"$f":"+E262-E266","v":32.299999999999997},{"$f":"+F262-F266","v":53.5},52.4,49.7,48.800000000000004,55.9,0,0,0,0,0,0,{"$f":"+Q262-Q266","v":292.59999999999997},316.2,92.536369386464258]
[null,null,null,"内宿泊客",3.2,5.4,5.9,6.5,6.4,6.2,null,null,null,null,null,null,33.6,41.699999999999996,80.575539568345334]
[null,null,null,"宿泊客延数",3.8,6.5,7.1,7.8,7.7,7.4,null,null,null,null,null,null,40.299999999999997,50.099999999999994,80.439121756487026]
[null,null,"ニセコ町","入込総数",73.900000000000006,99.4,95,123,152.5,119.7,null,null,null,null,null,null,663.5,625.5,106.07513988808952,null,"コロナの影響を受けていた昨年に比べ、海外旅行客や道外客の回復が見られ全体で106%ほどの回復となった。コロナ前の2019年同時期に比べると、４・５月の雪不足、6月下旬から8月下旬の蘭越の蒸気噴出の影響を受けつつも、全体で約82%の回復となった。"]
[null,null,null,"内道外客",27,40.299999999999997,41.5,53.2,78.099999999999994,45,null,null,null,null,null,null,285.10000000000002,185.1,154.02485143165859]
[null,null,null,"内道内客",{"$f":"+E268-E269","v":46.900000000000006},{"$f":"+F268-F269","v":59.100000000000009},53.5,69.8,74.400000000000006,74.7,0,0,0,0,0,0,{"$f":"+Q268-Q269","v":378.4},440.4,85.92188919164397]
[null,null,null,"内日帰客",{"$f":"+E268-E272","v":61.900000000000006},{"$f":"+F268-F272","v":79.5},73,94,118.5,95.7,0,0,0,0,0,0,{"$f":"+Q268-Q272","v":522.6},412.3,126.75236478292507]
[null,null,null,"内宿泊客",12,19.899999999999999,22,29,34,24,null,null,null,null,null,null,140.9,213.2,66.088180112570356]
[null,null,null,"宿泊客延数",17.100000000000001,27.4,30.7,41.2,48.7,32.6,null,null,null,null,null,null,197.70000000000002,236,83.771186440677965]
[null,null,"真狩村","入込総数",18.2,32.299999999999997,26.1,32.1,32.5,32.200000000000003,null,null,null,null,null,null,173.39999999999998,203.1,85.376661742983742,null,"コロナ禍の影響は一定程度脱したものの、猛暑の影響により、屋外型観光地の入込客数が減少したものと思われます。"]
[null,null,null,"内道外客",3.7,6.5,5.2,6.4,6.5,6.5,null,null,null,null,null,null,34.799999999999997,40.6,85.714285714285708]
[null,null,null,"内道内客",{"$f":"+E274-E275","v":14.5},{"$f":"+F274-F275","v":25.799999999999997},20.900000000000002,25.700000000000003,26,25.700000000000003,0,0,0,0,0,0,{"$f":"+Q274-Q275","v":138.59999999999997},162.5,85.292307692307674]
[null,null,null,"内日帰客",{"$f":"+E274-E278","v":18},{"$f":"+F274-F278","v":30.699999999999996},24.6,29.5,29.2,29.800000000000004,0,0,0,0,0,0,{"$f":"+Q274-Q278","v":161.79999999999998},191.39999999999998,84.535005224660395]
[null,null,null,"内宿泊客",0.2,1.6,1.5,2.6,3.3,2.4,null,null,null,null,null,null,11.6,11.7,99.145299145299148]
[null,null,null,"宿泊客延数",0.6,2.1,2.2000000000000002,3.3,4.0999999999999996,3.2,null,null,null,null,null,null,15.5,15.399999999999999,100.64935064935065]
[null,null,"留寿都村","入込総数",11.1,50,43.1,51.8,75.599999999999994,51.9,null,null,null,null,null,null,283.5,254,111.61417322834646,null,"新型コロナウイルス感染症が、5月から第5類に移行したことで、人々の観光需要が高まり、入込総数、宿泊延数が堅調に推移した。また、昨年10に韓国からの入国規制が緩和されたことに伴い、韓国からのゴルフ客が大幅に回復した。",1]
[null,null,null,"内道外客",0.3,4.3,7.7,11.9,11.4,5.9,null,null,null,null,null,null,41.5,19.399999999999999,213.91752577319588]
[null,null,null,"内道内客",{"$f":"+E280-E281","v":10.799999999999999},{"$f":"+F280-F281","v":45.7},35.4,39.9,64.199999999999989,46,0,0,0,0,0,0,{"$f":"+Q280-Q281","v":242},234.6,103.15430520034101]
[null,null,null,"内日帰客",{"$f":"+E280-E284","v":9.1999999999999993},{"$f":"+F280-F284","v":29.5},20.8,30.699999999999996,51.199999999999996,31.299999999999997,0,0,0,0,0,0,{"$f":"+Q280-Q284","v":172.7},160.30000000000001,107.73549594510293]
[null,null,null,"内宿泊客",1.9,20.5,22.3,21.1,24.4,20.6,null,null,null,null,null,null,110.80000000000001,93.700000000000017,118.2497331910352]
[null,null,null,"宿泊客延数",3.3,25.6,30.8,33,42.2,30.8,null,null,null,null,null,null,165.70000000000002,123.20000000000002,134.49675324675323]
[{"$f":"A1","v":"１　令和５年度（2023年度）上期　市町村別・月別観光入込客数"}]
[null,null,null,null,null,null,null,null,null,null,null,null,null,null,null,null,null,null,"単位：入込総数→千人、宿泊客延数→千人泊、対前年比→％"]
["圏　域","振興局","市町村名","区　分","４　月","５　月","６　月","７　月","８　月","９　月","１０月","１１月","１２月","１　月","２　月","３　月","合計",{"$f":"$R$3","v":"R4年度上期"},"対前年比"]
[null,null,"喜茂別町","入込総数",390.8,990,561.79999999999995,617.29999999999995,806.1,697.5,null,null,null,null,null,null,{"$f":"SUM(E289:P289)","v":4063.4999999999995},1756.9000000000003,{"$f":"IF(Q289=0,\"－\",Q289/R289*100)","v":231.28806420399562},null,"道の駅のリニューアルオープンと、喜茂別町でのイベント（夏まつりの通常開催、しりべし結愛フェア春・秋）実施などの要因が考えられる",1]
[null,null,null,"内道外客",2,3,4,3,5,3,null,null,null,null,null,null,20,16.100000000000001,124.22360248447204]
["道　央","後　志",null,"内道内客",{"$f":"+E289-E290","v":388.8},{"$f":"+F289-F290","v":987},557.79999999999995,614.29999999999995,801.1,694.5,0,0,0,0,0,0,{"$f":"+Q289-Q290","v":4043.4999999999995},1740.8000000000002,232.27826286764702]
[null,null,null,"内日帰客",{"$f":"+E289-E293","v":390.7},{"$f":"+F289-F293","v":989.9},561.69999999999993,617.19999999999993,806,697.4,0,0,0,0,0,0,{"$f":"+Q289-Q293","v":4062.8999999999996},1756.3,231.33291578887435]
[null,null,null,"内宿泊客",0.1,0.1,0.1,0.1,0.1,0.1,null,null,null,null,null,null,0.6,0.6,"－"]
[null,null,null,"宿泊客延数",0.1,0.1,0.1,0.1,0.1,0.1,null,null,null,null,null,null,0.6,0.6,"－"]
[null,null,"京極町","入込総数",28.3,68.5,55.3,82.7,107.9,14.8,null,null,null,null,null,null,357.50000000000006,344.6,103.74347069065584,null,"コロナ以前に比べると入込は少ないですが、少しずつ戻ってきている状況です。\n昨年度と比べると右肩上がりで入込客数は増加してきています。"]
[null,null,null,"内道外客",6.7,6.7,11.1,26.7,11.3,2.5,null,null,null,null,null,null,65,52.599999999999994,123.57414448669203]
[null,null,null,"内道内客",{"$f":"+E295-E296","v":21.6},{"$f":"+F295-F296","v":61.8},44.199999999999996,56,96.600000000000009,12.3,0,0,0,0,0,0,{"$f":"+Q295-Q296","v":292.50000000000006},292,100.17123287671235]
[null,null,null,"内日帰客",{"$f":"+E295-E299","v":28.1},{"$f":"+F295-F299","v":67.7},54.4,81.100000000000009,106.2,13.4,0,0,0,0,0,0,{"$f":"+Q295-Q299","v":350.90000000000003},340.8,102.96361502347418]
[null,null,null,"内宿泊客",0.2,0.8,0.9,1.6,1.7,1.4,null,null,null,null,null,null,6.6,3.8,173.68421052631581]
[null,null,null,"宿泊客延数",0.2,0.8,0.9,1.6,1.7,1.4,null,null,null,null,null,null,6.6,3.8,173.68421052631581]
[null,null,"倶知安町","入込総数",100.6,61.900000000000006,59.5,94.3,131.80000000000001,112.7,null,null,null,null,null,null,560.80000000000007,483.3,116.03558866128701,null,"前年は道民割の好影響もあり好調に推移していたものの、全体として微増となった。\n日帰りよりも、宿泊延べ数の増加傾向が目立った。",1]
[null,null,null,"内道外客",62.1,21.6,28.8,47.7,69.2,42.7,null,null,null,null,null,null,272.09999999999997,172,158.19767441860463]
[null,null,null,"内道内客",{"$f":"+E301-E302","v":38.499999999999993},{"$f":"+F301-F302","v":40.300000000000004},30.7,46.599999999999994,62.600000000000009,70,0,0,0,0,0,0,{"$f":"+Q301-Q302","v":288.7000000000001},311.3,92.740122068744]
[null,null,null,"内日帰客",{"$f":"+E301-E305","v":91.3},{"$f":"+F301-F305","v":48.7},49.2,77,110.00000000000001,73.400000000000006,0,0,0,0,0,0,{"$f":"+Q301-Q305","v":449.60000000000008},394.30000000000007,114.0248541719503]
[null,null,null,"内宿泊客",9.3000000000000007,13.2,10.3,17.3,21.8,39.299999999999997,null,null,null,null,null,null,111.19999999999999,89,124.94382022471908]
[null,null,null,"宿泊客延数",23.6,24.1,25.9,41.6,57.5,84.2,null,null,null,null,null,null,256.89999999999998,184.3,139.39229517091695]
[null,null,"共和町","入込総数",1.3,1.5,16.3,18.3,33,18.5,null,null,null,null,null,null,88.9,83,107.10843373493977,null,"蘭越町湯里地区の掘削現場で発生した蒸気噴出により、道道66号線の通行止めになったことから神仙沼の入込数が大幅に減少した。",1]
[null,null,null,"内道外客",0.4,0.4,2.1,1.6,6.6,2.6,null,null,null,null,null,null,13.7,11.8,116.10169491525421]
[null,null,null,"内道内客",{"$f":"+E307-E308","v":0.9},{"$f":"+F307-F308","v":1.1000000000000001},14.200000000000001,16.7,26.4,15.9,0,0,0,0,0,0,{"$f":"+Q307-Q308","v":75.2},71.2,105.61797752808988]
[null,null,null,"内日帰客",{"$f":"+E307-E311","v":0.9},{"$f":"+F307-F311","v":0.7},15.600000000000001,17.2,30.4,17,0,0,0,0,0,0,{"$f":"+Q307-Q311","v":81.800000000000011},76.699999999999989,106.6492829204694]
[null,null,null,"内宿泊客",0.4,0.8,0.7,1.1000000000000001,2.6,1.5,null,null,null,null,null,null,7.1,6.3000000000000007,112.69841269841268]
[null,null,null,"宿泊客延数",0.4,0.8,0.7,1.1000000000000001,2.6,1.5,null,null,null,null,null,null,7.1,6.3000000000000007,112.69841269841268]
[null,null,"岩内町","入込総数",15.5,28.9,25,107.1,60.1,23.6,null,null,null,null,null,null,260.2,272.10000000000002,95.626607864755599,null,"新型コロナウイルスが収束へと向かい、行動制限も無くなったことで、都道府県をまたぐ旅行が増えた。その結果、道内客は減少したが道外客は増加した。",1]
[null,null,null,"内道外客",1.1000000000000001,1.5,2,2,2.2999999999999998,1.6,null,null,null,null,null,null,10.499999999999998,9,116.66666666666666]
[null,null,null,"内道内客",{"$f":"+E313-E314","v":14.4},{"$f":"+F313-F314","v":27.4},23,105.1,57.800000000000004,22,0,0,0,0,0,0,{"$f":"+Q313-Q314","v":249.7},263.10000000000002,94.906879513492953]
[null,null,null,"内日帰客",{"$f":"+E313-E317","v":10.7},{"$f":"+F313-F317","v":22.5},18.3,98.3,51.1,16.700000000000003,0,0,0,0,0,0,{"$f":"+Q313-Q317","v":217.6},219.10000000000002,99.31538110451848]
[null,null,null,"内宿泊客",4.8,6.4,6.7,8.8000000000000007,9,6.9,null,null,null,null,null,null,42.6,53,80.377358490566039]
[null,null,null,"宿泊客延数",4.8,6.4,6.7,8.8000000000000007,9,6.9,null,null,null,null,null,null,42.6,53,80.377358490566039]
[null,null,"泊村","入込総数",4,6.8,7.1,13.6,11.7,9.3000000000000007,null,null,null,null,null,null,52.5,40.5,129.62962962962962,null,"試飲型コロナウイルス規制解除に伴う、道内外観光客の増加。"]
[null,null,null,"内道外客",0.1,0.1,0.2,0.3,0.6,0.3,null,null,null,null,null,null,1.5999999999999999,1.3,123.07692307692307]
[null,null,null,"内道内客",{"$f":"+E319-E320","v":3.9},{"$f":"+F319-F320","v":6.7},6.8999999999999995,13.299999999999999,11.1,9,0,0,0,0,0,0,{"$f":"+Q319-Q320","v":50.9},39.200000000000003,129.84693877551018]
[null,null,null,"内日帰客",{"$f":"+E319-E323","v":3.9},{"$f":"+F319-F323","v":6.6},6.8999999999999995,13.299999999999999,11.299999999999999,8.9,0,0,0,0,0,0,{"$f":"+Q319-Q323","v":50.9},39.6,128.53535353535352]
[null,null,null,"内宿泊客",0.1,0.2,0.2,0.3,0.4,0.4,null,null,null,null,null,null,1.6,0.9,177.7777777777778]
[null,null,null,"宿泊客延数",0.1,0.2,0.2,0.3,0.4,0.4,null,null,null,null,null,null,1.6,0.9,177.7777777777778]
[null,null,"神恵内村","入込総数",8.4,18.899999999999999,23.8,32.5,25.5,18,null,null,null,null,null,null,127.1,111.7,113.78692927484333,null,"新型コロナウイルス感染症が明けたことによる増",1]
[null,null,null,"内道外客",8,17.899999999999999,22.6,30.9,24,17.100000000000001,null,null,null,null,null,null,120.5,108.39999999999999,111.16236162361623]
[null,null,null,"内道内客",{"$f":"+E325-E326","v":0.40000000000000036},{"$f":"+F325-F326","v":1},1.1999999999999993,1.6000000000000014,1.5,0.89999999999999858,0,0,0,0,0,0,{"$f":"+Q325-Q326","v":6.5999999999999943},3.2999999999999972,200]
[null,null,null,"内日帰客",{"$f":"+E325-E329","v":8.3000000000000007},{"$f":"+F325-F329","v":18.5},23.6,31.8,24.3,17.600000000000001,0,0,0,0,0,0,{"$f":"+Q325-Q329","v":124.1},107.8,115.12059369202225]
[null,null,null,"内宿泊客",9.9999999999999645E-2,0.39999999999999858,0.19999999999999929,0.69999999999999929,1.1999999999999993,0.39999999999999858,null,null,null,null,null,null,2.9999999999999947,3.9000000000000004,76.923076923076778]
[null,null,null,"宿泊客延数",0.2,0.7,0.5,1.3,2.2000000000000002,0.8,null,null,null,null,null,null,5.7,7.4,77.027027027027032]
[null,null,"積丹町","入込総数",35.4,67.3,170.8,393.8,152,114.5,null,null,null,null,null,null,933.8,692.6,134.82529598613917,null,"コロナ化の終息とインバウンドの受け入れ再開したため"]
[null,null,null,"内道外客",1.4,7.2,26.1,54.7,27.7,11.3,null,null,null,null,null,null,128.4,102,125.88235294117646]
[null,null,null,"内道内客",{"$f":"+E331-E332","v":34},{"$f":"+F331-F332","v":60.099999999999994},144.70000000000002,339.1,124.3,103.2,0,0,0,0,0,0,{"$f":"+Q331-Q332","v":805.4},590.6,136.36979343040974]
[null,null,null,"内日帰客",{"$f":"+E331-E335","v":35.199999999999996},{"$f":"+F331-F335","v":66.5},168.5,390.1,148.5,113.3,0,0,0,0,0,0,{"$f":"+Q331-Q335","v":922.09999999999991},682.2,135.16564057461153]
[null,null,null,"内宿泊客",0.2,0.8,2.2999999999999998,3.7,3.5,1.2,null,null,null,null,null,null,11.7,10.399999999999999,112.5]
[null,null,null,"宿泊客延数",0.2,0.8,2.2999999999999998,3.7,3.5,1.2,null,null,null,null,null,null,11.7,10.399999999999999,112.5]
[null,null,"古平町","入込総数",16.8,20.100000000000001,24.9,33.799999999999997,33.9,24.5,null,null,null,null,null,null,154,149.70000000000002,102.87241148964594,null,"昨年度より集計方法変えたおり、町内の飲食店（寿司屋等）を含めたため。",1]
[null,null,null,"内道外客",0.4,0.4,0.5,0.8,1,0.5,null,null,null,null,null,null,3.6,3.6,100]
[null,null,null,"内道内客",{"$f":"+E337-E338","v":16.400000000000002},{"$f":"+F337-F338","v":19.700000000000003},24.4,33,32.9,24,0,0,0,0,0,0,{"$f":"+Q337-Q338","v":150.4},146.10000000000002,102.943189596167]
[null,null,null,"内日帰客",{"$f":"+E337-E341","v":16.7},{"$f":"+F337-F341","v":19.900000000000002},24.7,32.099999999999994,30.599999999999998,24.2,0,0,0,0,0,0,{"$f":"+Q337-Q341","v":148.19999999999999},144.30000000000001,102.70270270270269]
[null,null,null,"内宿泊客",0.1,0.2,0.2,1.7,3.3,0.3,null,null,null,null,null,null,5.8,5.3999999999999995,107.40740740740742]
[null,null,null,"宿泊客延数",0.2,0.2,0.2,2,4,0.4,null,null,null,null,null,null,7,6.7,104.4776119402985]
[{"$f":"A1","v":"１　令和５年度（2023年度）上期　市町村別・月別観光入込客数"}]
[null,null,null,null,null,null,null,null,null,null,null,null,null,null,null,null,null,null,"単位：入込総数→千人、宿泊客延数→千人泊、対前年比→％"]
["圏　域","振興局","市町村名","区　分","４　月","５　月","６　月","７　月","８　月","９　月","１０月","１１月","１２月","１　月","２　月","３　月","合計",{"$f":"$R$3","v":"R4年度上期"},"対前年比"]
[null,null,"仁木町","入込総数",1.9,8.4,15,82.4,28.6,92.7,null,null,null,null,null,null,{"$f":"SUM(E346:P346)","v":229},180.3,{"$f":"IF(Q346=0,\"－\",Q346/R346*100)","v":127.01053799223516},null,"新型コロナウイルス感染症対策の緩和や、屋外での体験型観光の需要が高まったことに伴い、観光客数が増加している。"]
[null,null,null,"内道外客",0,0.1,0.1,0.6,0.2,0.7,null,null,null,null,null,null,1.7,1.4,121.42857142857144]
["道　央","後　志",null,"内道内客",{"$f":"+E346-E347","v":1.9},{"$f":"+F346-F347","v":8.3000000000000007},14.9,81.800000000000011,28.400000000000002,92,0,0,0,0,0,0,{"$f":"+Q346-Q347","v":227.3},178.9,127.05422023476802]
[null,null,null,"内日帰客",{"$f":"+E346-E350","v":1.9},{"$f":"+F346-F350","v":8.2000000000000011},14.8,81.800000000000011,27.6,92.3,0,0,0,0,0,0,{"$f":"+Q346-Q350","v":226.6},178.4,127.01793721973094]
[null,null,null,"内宿泊客",0,0.2,0.2,0.6,1,0.4,null,null,null,null,null,null,2.4,1.9,126.31578947368421]
[null,null,null,"宿泊客延数",0,0.2,0.2,0.6,1,0.4,null,null,null,null,null,null,2.4,1.9,126.31578947368421]
[null,null,"余市町","入込総数",50,99,115.9,164.2,151.30000000000001,133.80000000000001,null,null,null,null,null,null,714.2,535.6,133.34578043315906,null,"新型コロナウイルス感染症の分類が5類に引き下げられたことで、人の移動の活発化や、各事業者が通常営業に戻ったことが要因であると考えられる。"]
[null,null,null,"内道外客",23.7,42,47.7,59.2,60.4,55.6,null,null,null,null,null,null,288.60000000000002,180.1,160.24430871737925]
[null,null,null,"内道内客",{"$f":"+E352-E353","v":26.3},{"$f":"+F352-F353","v":57},68.2,104.99999999999999,90.9,78.200000000000017,0,0,0,0,0,0,{"$f":"+Q352-Q353","v":425.6},355.5,119.71870604781998]
[null,null,null,"内日帰客",{"$f":"+E352-E356","v":48.9},{"$f":"+F352-F356","v":97.2},113.60000000000001,161.19999999999999,148.10000000000002,131.20000000000002,0,0,0,0,0,0,{"$f":"+Q352-Q356","v":700.2},523.79999999999995,133.6769759450172]
[null,null,null,"内宿泊客",1.1000000000000001,1.8,2.2999999999999998,3,3.2,2.6,null,null,null,null,null,null,13.999999999999998,11.8,118.64406779661014]
[null,null,null,"宿泊客延数",1.3,2.2999999999999998,2.8,3.4,3.7,3,null,null,null,null,null,null,16.5,13.399999999999999,123.13432835820896]
[null,null,"赤井川村","入込総数",52.1,76.599999999999994,71,84.8,89.4,86.6,null,null,null,null,null,null,460.5,400.70000000000005,114.92388320439231,null,"新型コロナウイルス感染症が5類感染症に移行したことにより、さらに観光客が戻ったこと。"]
[null,null,null,"内道外客",0,0,0,0,0,0,null,null,null,null,null,null,0,0,"－"]
[null,null,null,"内道内客",{"$f":"+E358-E359","v":52.1},{"$f":"+F358-F359","v":76.599999999999994},71,84.8,89.4,86.6,0,0,0,0,0,0,{"$f":"+Q358-Q359","v":460.5},400.70000000000005,114.92388320439231]
[null,null,null,"内日帰客",{"$f":"+E358-E362","v":47.6},{"$f":"+F358-F362","v":76.399999999999991},71,83.899999999999991,87.4,85.8,0,0,0,0,0,0,{"$f":"+Q358-Q362","v":452.1},400.70000000000005,112.82755178437733]
[null,null,null,"内宿泊客",4.5,0.2,0,0.9,2,0.8,null,null,null,null,null,null,8.4,0,{"$error":"#DIV/0!"}]
[null,null,null,"宿泊客延数",4.5,0.2,0,0.9,2,0.8,null,null,null,null,null,null,8.4,0,{"$error":"#DIV/0!"}]
[null,"胆振総合振興局計",null,"入込総数",{"$f":"+E370+E376+E382+E388+E394+E403+E409+E415+E421+E427+E433","v":1064},1714.1,1552.6000000000001,1933.3000000000002,2259.0000000000005,1641.5,0,0,0,0,0,0,10164.5,{"$f":"+R370+R376+R382+R388+R394+R403+R409+R415+R421+R427+R433","v":8307.2999999999993},122.35624089656088]
[null,null,null,"内道外客",321.5,564,523.79999999999995,714.69999999999993,851.6,585.6,0,0,0,0,0,0,3561.2000000000003,2031.9,175.26453073478027]
[null,null,null,"内道内客",742.49999999999989,1150.1000000000001,1028.8,1218.6000000000001,1407.4,1055.9000000000001,0,0,0,0,0,0,6603.2999999999993,6275.3999999999987,105.22516492972559]
[null,null,null,"内日帰客",905.99999999999989,1483.5999999999997,1323.8,1655.5,1951.3999999999999,1406.3000000000002,0,0,0,0,0,0,8726.6,7187.6,121.41187600868162]
[null,null,null,"内宿泊客",158,230.5,228.79999999999998,277.8,307.60000000000002,235.20000000000002,0,0,0,0,0,0,1437.8999999999999,1119.7000000000003,128.41832633741177]
[null,null,null,"宿泊客延数",171.4,244.1,245.8,299,331.40000000000003,253.20000000000002,0,0,0,0,0,0,1544.9,1232.8999999999999,125.30618866088088]
[null,null,"室蘭市","入込総数",109.1,201.1,116.3,187.3,216,162,null,null,null,null,null,null,{"$f":"SUM(E370:P370)","v":991.8},906.89999999999986,109.36156136288457,null,"新型コロナウィルス感染症が5類感染症に移行したことに伴い、行動変容が起き、入込総数が全体的に増加したと考えられる。",1]
[null,null,null,"内道外客",38.299999999999997,71.400000000000006,42.3,69.400000000000006,81.400000000000006,59.3,null,null,null,null,null,null,{"$f":"SUM(E371:P371)","v":362.1},234.6,154.34782608695653]
[null,null,null,"内道内客",{"$f":"+E370-E371","v":70.8},{"$f":"+F370-F371","v":129.69999999999999},74,117.9,134.6,102.7,0,0,0,0,0,0,{"$f":"+Q370-Q371","v":629.69999999999993},672.3,93.66354306113341]
[null,null,null,"内日帰客",{"$f":"+E370-E374","v":91},{"$f":"+F370-F374","v":177.9},94.199999999999989,163.10000000000002,190.9,137.4,0,0,0,0,0,0,{"$f":"+Q370-Q374","v":854.5},808.90000000000009,105.63728520212634]
[null,null,null,"内宿泊客",18.100000000000001,23.2,22.1,24.2,25.1,24.6,null,null,null,null,null,null,137.29999999999998,98,140.10204081632651]
[null,null,null,"宿泊客延数",25.1,30.3,29,33.200000000000003,34.700000000000003,31.9,null,null,null,null,null,null,{"$f":"SUM(E375:P375)","v":184.20000000000002},158.4,116.28787878787878]
[null,null,"苫小牧市","入込総数",165.5,227.4,211.1,298,456.3,313.60000000000002,null,null,null,null,null,null,{"$f":"SUM(E376:P376)","v":1671.9},1421.1000000000001,117.64830061220182,null,"イベントの通常開催が増えたため",1]
[null,null,null,"内道外客",53.7,72.7,67.3,113.4,152.1,117.2,null,null,null,null,null,null,576.40000000000009,453.70000000000005,127.0443024024686]
[null,null,null,"内道内客",{"$f":"+E376-E377","v":111.8},{"$f":"+F376-F377","v":154.69999999999999},143.80000000000001,184.6,304.20000000000005,196.40000000000003,0,0,0,0,0,0,{"$f":"+Q376-Q377","v":1095.5},967.4,113.24167872648336]
[null,null,null,"内日帰客",{"$f":"+E376-E380","v":159},{"$f":"+F376-F380","v":217.1},200.5,283.39999999999998,438.6,301.5,0,0,0,0,0,0,{"$f":"+Q376-Q380","v":1600.1000000000001},1344,119.05505952380952]
[null,null,null,"内宿泊客",6.5,10.3,10.6,14.6,17.7,12.1,null,null,null,null,null,null,71.8,77.100000000000009,93.125810635538258]
[null,null,null,"宿泊客延数",9.8000000000000007,13,15.6,21.2,25.6,17.899999999999999,null,null,null,null,null,null,103.1,109.3,94.327538883806042]
[null,null,"登別市","入込総数",177.8,260.60000000000002,261.7,318.10000000000002,400.8,260.60000000000002,null,null,null,null,null,null,{"$f":"SUM(E382:P382)","v":1679.6},1054,159.35483870967741,null,"令和４年１０月に新型コロナウイルス感染症に係る水際規制緩和の影響や令和５年５月に新型コロナウイルス感染症が５類感染症に位置付けられるなど、国内外を含め旅行需要は回復基調にある。",1]
[null,null,null,"内道外客",85.5,121,131.30000000000001,163.5,208.5,137.6,null,null,null,null,null,null,{"$f":"SUM(E383:P383)","v":847.4},430.4,{"$f":"IF(Q383=0,\"－\",Q383/R383*100)","v":196.88661710037175}]
[null,null,null,"内道内客",92.3,139.6,130.4,154.6,192.3,123,{"$f":"+K382-K383","v":0},0,0,0,0,0,{"$f":"+Q382-Q383","v":832.19999999999993},623.6,{"$f":"IF(Q384=0,\"－\",Q384/R384*100)","v":133.45093008338677}]
[null,null,null,"内日帰客",119.4,181.4,174.6,215.2,288.10000000000002,175.3,{"$f":"+K382-K386","v":0},0,0,0,0,0,{"$f":"+Q382-Q386","v":1154},664.89999999999986,173.55993382463532]
[null,null,null,"内宿泊客",58.4,79.2,87.1,102.9,112.7,85.3,null,null,null,null,null,null,{"$f":"SUM(E386:P386)","v":525.6},389.1,135.08095605242866]
[null,null,null,"宿泊客延数",58.9,79.7,87.5,103.7,113.3,86,null,null,null,null,null,null,{"$f":"SUM(E387:P387)","v":529.1},389.2,135.94552929085305]
[null,null,"伊達市","入込総数",111.7,149.9,133.5,144.1,169.2,120.6,null,null,null,null,null,null,829.00000000000011,831,99.759326113116742,null,"新型コロナウイルスの影響緩和\nインバウンド等の回復",1]
[null,null,null,"内道外客",2.2000000000000002,3.2,6.4,6.9,10.1,4.5999999999999996,null,null,null,null,null,null,33.400000000000006,33.700000000000003,99.109792284866487]
[null,null,null,"内道内客",{"$f":"+E388-E389","v":109.5},{"$f":"+F388-F389","v":146.70000000000002},127.1,137.19999999999999,159.1,116,0,0,0,0,0,0,{"$f":"+Q388-Q389","v":795.60000000000014},797.3,99.786780383795332]
[null,null,null,"内日帰客",{"$f":"+E388-E392","v":99.9},{"$f":"+F388-F392","v":132.6},117.6,123.39999999999999,145.39999999999998,103.8,0,0,0,0,0,0,{"$f":"+Q388-Q392","v":722.70000000000016},736.3,98.152926796142907]
[null,null,null,"内宿泊客",11.8,17.3,15.9,20.7,23.8,16.8,null,null,null,null,null,null,106.3,94.7,112.24920802534317]
[null,null,null,"宿泊客延数",13,18.8,17.3,22,25.2,18.3,null,null,null,null,null,null,114.6,102.69999999999999,111.58714703018502]
[null,null,"豊浦町","入込総数",29.1,43.9,51.1,35.1,42.9,28.9,null,null,null,null,null,null,231,206.3,111.97285506543868,null,"大規模イベント（いちご豚肉祭り）の４年ぶり開催で入込数は伸びた。しかしながら、キャンプ場の利用者数が昨年ほどではなかったため、宿泊数は微減となった。",1]
[null,null,null,"内道外客",2.6,12.4,14.2,13.7,13.6,8.8000000000000007,null,null,null,null,null,null,65.3,58.499999999999993,111.62393162393163]
[null,null,null,"内道内客",{"$f":"+E394-E395","v":26.5},{"$f":"+F394-F395","v":31.5},36.900000000000006,21.400000000000002,29.299999999999997,20.099999999999998,{"$f":"+K394-K395","v":0},0,0,0,0,0,{"$f":"+Q394-Q395","v":165.7},147.79999999999998,112.1109607577808]
[null,null,null,"内日帰客",{"$f":"+E394-E398","v":28.6},{"$f":"+F394-F398","v":42.8},49.9,32.300000000000004,36.9,27.2,{"$f":"+K394-K398","v":0},0,0,0,0,0,{"$f":"+Q394-Q398","v":217.7},192.29999999999998,113.20852834113364]
[null,null,null,"内宿泊客",0.5,1.1000000000000001,1.2,2.8,6,1.7,null,null,null,null,null,null,13.299999999999999,14,95]
[null,null,null,"宿泊客延数",0.5,1.1000000000000001,1.2,2.8,6,1.7,null,null,null,null,null,null,13.299999999999999,14,95]
[{"$f":"A1","v":"１　令和５年度（2023年度）上期　市町村別・月別観光入込客数"}]
[null,null,null,null,null,null,null,null,null,null,null,null,null,null,null,null,null,null,"単位：入込総数→千人、宿泊客延数→千人泊、対前年比→％"]
["圏　域","振興局","市町村名","区　分","４　月","５　月","６　月","７　月","８　月","９　月","１０月","１１月","１２月","１　月","２　月","３　月","合計",{"$f":"$R$3","v":"R4年度上期"},"対前年比"]
[null,null,"壮瞥町","入込総数",95.7,156.9,160.9,193.9,188.7,172.4,null,null,null,null,null,null,{"$f":"SUM(E403:P403)","v":968.49999999999989},630.70000000000005,{"$f":"IF(Q403=0,\"－\",Q403/R403*100)","v":153.55953702235607},null,"新型コロナウイルスが収束し、インバウンドが回復傾向にあるため"]
[null,null,null,"内道外客",28.7,47.1,48.3,58.2,56.6,51.7,null,null,null,null,null,null,290.60000000000002,189.10000000000002,153.67530407191961]
["道　央","胆　振",null,"内道内客",{"$f":"+E403-E404","v":67},{"$f":"+F403-F404","v":109.80000000000001},112.60000000000001,135.69999999999999,132.1,120.7,0,0,0,0,0,0,{"$f":"+Q403-Q404","v":677.89999999999986},441.6,153.50996376811591]
[null,null,null,"内日帰客",{"$f":"+E403-E407","v":80.600000000000009},{"$f":"+F403-F407","v":134.4},136.80000000000001,162.30000000000001,156,148.6,0,0,0,0,0,0,{"$f":"+Q403-Q407","v":818.69999999999982},505.7,161.89440379671737]
[null,null,null,"内宿泊客",15.1,22.5,24.1,31.6,32.700000000000003,23.8,null,null,null,null,null,null,149.80000000000001,125.00000000000001,119.83999999999999]
[null,null,null,"宿泊客延数",15.1,22.5,24.1,31.6,32.700000000000003,23.8,null,null,null,null,null,null,149.80000000000001,125.00000000000001,119.83999999999999]
[null,null,"白老町","入込総数",144,233.4,213.2,216.3,226.6,206,null,null,null,null,null,null,1239.4999999999998,1297.2,95.551958063521411,null,"昨年と比較し入込客数減少にあるものの、比較的横ばいで推移。主たる減少要因として文化施設等への来訪者減少により町内各施設への立ち寄りが減少となった。",1]
[null,null,null,"内道外客",8.8000000000000007,23.6,24.4,23.9,25.9,25.6,null,null,null,null,null,null,132.19999999999999,122.4,108.00653594771241]
[null,null,null,"内道内客",{"$f":"+E409-E410","v":135.19999999999999},{"$f":"+F409-F410","v":209.8},188.79999999999998,192.4,200.7,180.4,0,0,0,0,0,0,{"$f":"+Q409-Q410","v":1107.2999999999997},1174.8,94.254341164453507]
[null,null,null,"内日帰客",{"$f":"+E409-E413","v":137.4},{"$f":"+F409-F413","v":225.20000000000002},204.39999999999998,205.20000000000002,215.29999999999998,196.2,0,0,0,0,0,0,{"$f":"+Q409-Q413","v":1183.6999999999998},1241.3,95.35970353661483]
[null,null,null,"内宿泊客",6.6,8.1999999999999993,8.8000000000000007,11.1,11.3,9.8000000000000007,null,null,null,null,null,null,55.8,55.899999999999991,99.821109123434709]
[null,null,null,"宿泊客延数",6.6,8.1999999999999993,8.8000000000000007,11.1,11.3,9.8000000000000007,null,null,null,null,null,null,55.8,55.899999999999991,99.821109123434709]
[null,null,"厚真町","入込総数",6.7,13.1,37.4,18.3,18.8,17.3,null,null,null,null,null,null,111.6,94.699999999999989,117.84582893347412,null,"町内の一大イベント「田舎まつり」がコロナ前のように通常開催し、多くの方が来場した。また、町内の宿泊施設である「こぶしの湯あつま」の利用者が増加した（特に夏期）。",1]
[null,null,null,"内道外客",0.2,0.4,0.6,0.6,0.6,0.6,null,null,null,null,null,null,3.0000000000000004,2.9000000000000004,103.44827586206897]
[null,null,null,"内道内客",{"$f":"+E415-E416","v":6.5},{"$f":"+F415-F416","v":12.7},36.799999999999997,17.7,18.2,16.7,0,0,0,0,0,0,{"$f":"+Q415-Q416","v":108.6},91.8,118.30065359477125]
[null,null,null,"内日帰客",{"$f":"+E415-E419","v":6},{"$f":"+F415-F419","v":11.1},35.5,16,16.3,15.200000000000001,0,0,0,0,0,0,{"$f":"+Q415-Q419","v":100.1},85.4,117.21311475409834]
[null,null,null,"内宿泊客",0.7,2,1.9,2.2999999999999998,2.5,2.1,null,null,null,null,null,null,11.499999999999998,9.3000000000000007,123.6559139784946]
[null,null,null,"宿泊客延数",0.7,2,1.9,2.2999999999999998,2.5,2.1,null,null,null,null,null,null,11.499999999999998,9.3000000000000007,123.6559139784946]
[null,null,"洞爺湖町","入込総数",149.19999999999999,270,265.7,364,406.5,256.60000000000002,null,null,null,null,null,null,1712,1162.2,147.30683187059026,null,"外国人観光客も増加し、観光客の入込数は元年度対比109.5％と上回って回復している。ただし、宿泊実数については、令和元年度対比87％までとなっているため、宿泊を伴う観光旅行に抵抗がある方がまだ多い傾向にあると思われる。",1]
[null,null,null,"内道外客",99,204.9,180.8,255.5,294.7,172.4,null,null,null,null,null,null,1207.3000000000002,467.5,258.24598930481289]
[null,null,null,"内道内客",{"$f":"+E421-E422","v":50.199999999999989},{"$f":"+F421-F422","v":65.099999999999994},84.899999999999977,108.5,111.80000000000001,84.200000000000017,0,0,0,0,0,0,{"$f":"+Q421-Q422","v":504.69999999999982},694.7,72.650064776162338]
[null,null,null,"内日帰客",{"$f":"+E421-E425","v":109.69999999999999},{"$f":"+F421-F425","v":208.6},212.89999999999998,305.39999999999998,343.1,203.70000000000002,0,0,0,0,0,0,{"$f":"+Q421-Q425","v":1383.4},942.9,146.71757344363135]
[null,null,null,"内宿泊客",39.5,61.4,52.8,58.6,63.4,52.9,null,null,null,null,null,null,328.59999999999997,219.3,149.84040127678978]
[null,null,null,"宿泊客延数",40.799999999999997,63.1,55.9,61.9,67.5,55.3,null,null,null,null,null,null,344.50000000000006,231.09999999999997,149.06966681090441]
[null,null,"安平町","入込総数",67.599999999999994,145.1,92.8,139.9,116.3,91,null,null,null,null,null,null,652.69999999999993,628.19999999999993,103.90003183699459,null,"新規宿泊施設を1箇所追加。前年度上期に比べ、コロナ防止により控えていたイベントの再開に伴い来訪者は微増し、全体としては多少の前後はあるが変動は少ない。ただし宿泊施設は、通常繁忙期である8月に軒並み客数が減少。要因としては、インバウンド需要による道内ホテル宿泊費や交通費用高騰に伴う出控えや、夏休み時期に起こった全道気温上昇により道外から旅行先に、選ばれなかったことが考えられる。",1]
[null,null,null,"内道外客",2.2000000000000002,7,7.9,9.5,7.5,7.4,null,null,null,null,null,null,41.5,37,112.16216216216218]
[null,null,null,"内道内客",{"$f":"+E427-E428","v":65.399999999999991},{"$f":"+F427-F428","v":138.1},84.899999999999991,130.4,108.8,83.6,0,0,0,0,0,0,{"$f":"+Q427-Q428","v":611.19999999999993},591.19999999999993,103.38294993234101]
[null,null,null,"内日帰客",{"$f":"+E427-E431","v":67.3},{"$f":"+F427-F431","v":141.79999999999998},90.2,135.1,109.7,87.4,0,0,0,0,0,0,{"$f":"+Q427-Q431","v":631.49999999999989},606.29999999999995,104.15635823849578]
[null,null,null,"内宿泊客",0.3,3.3,2.6,4.8,6.6,3.6,null,null,null,null,null,null,21.200000000000003,21.9,96.803652968036545]
[null,null,null,"宿泊客延数",0.4,3.4,2.8,5,6.8,3.9,null,null,null,null,null,null,22.299999999999997,22.599999999999998,98.672566371681413]
[null,null,"むかわ町","入込総数",7.6,12.7,8.9,18.3,16.899999999999999,12.5,null,null,null,null,null,null,76.900000000000006,75,102.53333333333335,null,"新型コロナウイルス感染症対策の取り扱いが緩和されたことにより、観光入込客数が微増したと考えられる。",1]
[null,null,null,"内道外客",0.3,0.3,0.3,0.1,0.6,0.4,null,null,null,null,null,null,2,2.0999999999999996,95.238095238095255]
[null,null,null,"内道内客",{"$f":"+E433-E434","v":7.3},{"$f":"+F433-F434","v":12.399999999999999},8.6,18.2,16.299999999999997,12.1,0,0,0,0,0,0,{"$f":"+Q433-Q434","v":74.900000000000006},72.900000000000006,102.74348422496571]
[null,null,null,"内日帰客",{"$f":"+E433-E437","v":7.1},{"$f":"+F433-F437","v":10.7},7.2,14.100000000000001,11.099999999999998,10,0,0,0,0,0,0,{"$f":"+Q433-Q437","v":60.2},59.6,101.00671140939596]
[null,null,null,"内宿泊客",0.5,2,1.7,4.2,5.8,2.5,null,null,null,null,null,null,16.7,15.4,108.44155844155843]
[null,null,null,"宿泊客延数",0.5,2,1.7,4.2,5.8,2.5,null,null,null,null,null,null,16.7,15.4,108.44155844155843]
[null,"日高振興局計",null,"入込総数",{"$f":"+E445+E451+E460+E466+E472+E478+E484","v":205},194.3,134.70000000000002,206.5,259.5,161.5,0,0,0,0,0,0,1161.5,{"$f":"+R445+R451+R460+R466+R472+R478+R484","v":1044.8999999999999},111.15896258015124]
[null,null,null,"内道外客",35.299999999999997,39.5,23.700000000000003,36.300000000000004,53.4,31.500000000000004,0,0,0,0,0,0,219.7,195.7,112.26366888094022]
[null,null,null,"内道内客",169.70000000000002,154.80000000000001,111,170.2,206.10000000000002,130,0,0,0,0,0,0,941.80000000000007,849.19999999999993,110.90438059349978]
[null,null,null,"内日帰客",192.7,180.50000000000003,120.7,182.7,231.6,143.80000000000001,0,0,0,0,0,0,1052,948.00000000000011,110.97046413502107]
[null,null,null,"内宿泊客",12.3,13.8,13.999999999999998,23.8,27.9,17.7,0,0,0,0,0,0,109.5,96.9,113.0030959752322]
[null,null,null,"宿泊客延数",15.2,15.7,15.6,27.5,32.700000000000003,20.3,0,0,0,0,0,0,127,113.5,111.89427312775331]
[null,null,"日高町","入込総数",24.8,42.2,34.1,52.7,55.1,42.5,null,null,null,null,null,null,{"$f":"SUM(E445:P445)","v":251.4},221.5,113.49887133182845,null,"国内外で旅行への需要が拡大しており本町も、前年より観光客が増加の傾向にある。",1]
[null,null,null,"内道外客",4.4000000000000004,6.3,5.3,7.1,7.6,6.4,null,null,null,null,null,null,37.1,34.4,107.84883720930235]
[null,null,null,"内道内客",{"$f":"+E445-E446","v":20.399999999999999},{"$f":"+F445-F446","v":35.900000000000006},28.8,45.6,47.5,36.1,0,0,0,0,0,0,{"$f":"+Q445-Q446","v":214.3},187.1,114.53768038482094]
[null,null,null,"内日帰客",{"$f":"+E445-E449","v":23.2},{"$f":"+F445-F449","v":39.400000000000006},30.900000000000002,45.5,48.1,38.6,0,0,0,0,0,0,{"$f":"+Q445-Q449","v":225.70000000000002},210.6,107.16999050332386]
[null,null,null,"内宿泊客",1.6,2.8,3.2,7.2,7,3.9,null,null,null,null,null,null,25.7,10.9,235.77981651376146]
[null,null,null,"宿泊客延数",1.9,3.3,3.6,8.1,8.6999999999999993,4.5,null,null,null,null,null,null,30.099999999999998,15.4,195.45454545454544]
[null,null,"平取町","入込総数",13.3,24.8,22.3,23.7,29.6,27.8,null,null,null,null,null,null,141.50000000000003,133.4,106.07196401799102,null,"新型コロナウイルス感染症の影響により開催できていなかった、平取町最大のイベント「食の祭典　びらとり和牛・トマトまつり」の開催されたことや、「すずらん観賞会」が昨年度に比べて来場者数が増えたことが要因。\nまた、幌尻岳の登山者数が7月から9月までの天候が恵まれた事により昨年度より大幅に増加したことも要因のひとつである。",1]
[null,null,null,"内道外客",1.2,2.2000000000000002,2,2.1,2.6,2.5,null,null,null,null,null,null,12.6,12.100000000000001,104.13223140495866]
[null,null,null,"内道内客",{"$f":"+E451-E452","v":12.100000000000001},{"$f":"+F451-F452","v":22.6},20.3,21.599999999999998,27,25.3,0,0,0,0,0,0,{"$f":"+Q451-Q452","v":128.90000000000003},121.30000000000001,106.26545754328114]
[null,null,null,"内日帰客",{"$f":"+E451-E455","v":12.8},{"$f":"+F451-F455","v":24.2},21.3,22.4,28.5,27.3,0,0,0,0,0,0,{"$f":"+Q451-Q455","v":136.50000000000003},128.6,106.14307931570765]
[null,null,null,"内宿泊客",0.5,0.6,1,1.3,1.1000000000000001,0.5,null,null,null,null,null,null,5,4.8000000000000007,104.16666666666666]
[null,null,null,"宿泊客延数",0.5,0.6,1,1.3,1.1000000000000001,0.5,null,null,null,null,null,null,5,4.8000000000000007,104.16666666666666]
[{"$f":"A1","v":"１　令和５年度（2023年度）上期　市町村別・月別観光入込客数"}]
[null,null,null,null,null,null,null,null,null,null,null,null,null,null,null,null,null,null,"単位：入込総数→千人、宿泊客延数→千人泊、対前年比→％"]
["圏　域","振興局","市町村名","区　分","４　月","５　月","６　月","７　月","８　月","９　月","１０月","１１月","１２月","１　月","２　月","３　月","合計",{"$f":"$R$3","v":"R4年度上期"},"対前年比"]
[null,null,"新冠町","入込総数",31.2,38,26.9,40.6,43.3,30.8,null,null,null,null,null,null,{"$f":"SUM(E460:P460)","v":210.8},206.5,{"$f":"IF(Q460=0,\"－\",Q460/R460*100)","v":102.08232445520582},null,"新型コロナウイルスが5類に移行したため、昨年より観光客が増加した。（特に道の駅）\nまた、森林公園は熊の出没により、一定期間の閉鎖を余儀なくされたため、利用者が前年と比較すると大幅に減った。"]
[null,null,null,"内道外客",3.5,4.7,3.5,4.7,5.8,4.0999999999999996,null,null,null,null,null,null,26.299999999999997,28.5,92.280701754385959]
[null,null,null,"内道内客",{"$f":"+E460-E461","v":27.7},{"$f":"+F460-F461","v":33.299999999999997},23.4,35.9,37.5,26.700000000000003,0,0,0,0,0,0,{"$f":"+Q460-Q461","v":184.5},178,103.65168539325842]
[null,null,null,"内日帰客",{"$f":"+E460-E464","v":29.599999999999998},{"$f":"+F460-F464","v":36},25.099999999999998,38.5,40.599999999999994,28.8,0,0,0,0,0,0,{"$f":"+Q460-Q464","v":198.60000000000002},192.4,103.22245322245323]
[null,null,null,"内宿泊客",1.6,2,1.8,2.1,2.7,2,null,null,null,null,null,null,12.2,14.100000000000001,86.524822695035454]
[null,null,null,"宿泊客延数",1.7,2.5,2.1,2.5,3.2,2.4,null,null,null,null,null,null,14.4,14.599999999999998,98.63013698630138]
[null,null,"浦河町","入込総数",29.1,27.8,8.6999999999999993,18.399999999999999,30,11.1,null,null,null,null,null,null,125.1,118.3,105.74809805579035,null,"今年は例年より早い優駿さくらロードの開花や、それに合わせて浦河桜まつりがゴールデンウイーク前半と重なり、道内外から見物客が行われた。また７月には馬フェスタも４年ぶりの開催となり入込客が増加した。\n",1]
[null,null,null,"内道外客",6.1,6.4,2.5,5.3,8.1,3.6,null,null,null,null,null,null,32,29.599999999999998,108.10810810810811]
[null,null,null,"内道内客",{"$f":"+E466-E467","v":23},{"$f":"+F466-F467","v":21.4},6.1999999999999993,13.099999999999998,21.9,7.5,0,0,0,0,0,0,{"$f":"+Q466-Q467","v":93.1},88.699999999999989,104.96054114994364]
[null,null,null,"内日帰客",{"$f":"+E466-E470","v":25},{"$f":"+F466-F470","v":23.200000000000003},3.9999999999999991,12.299999999999999,22.9,5.3999999999999995,0,0,0,0,0,0,{"$f":"+Q466-Q470","v":92.799999999999983},83.2,111.53846153846152]
[null,null,null,"内宿泊客",4.0999999999999996,4.5999999999999996,4.7,6.1,7.1,5.7,null,null,null,null,null,null,32.300000000000004,35.1,92.022792022792032]
[null,null,null,"宿泊客延数",4.4000000000000004,4.9000000000000004,4.9000000000000004,6.6,7.6,6.1,null,null,null,null,null,null,34.5,37.1,92.991913746630729]
[null,null,"様似町","入込総数",3.7,7.8,6,9.1999999999999993,20.2,5.2,null,null,null,null,null,null,52.1,55.8,93.369175627240153,null,"入込総数減少の一番の要因はアポイの火まつり経費削減による来場者数減少だと考えられ、宿泊客数増加の要因は、キャンプ需要が高まったためか、町内キャンプ場の入込客数が増加したためだと考えられる。",1]
[null,null,null,"内道外客",0.8,1.4,1.4,2,3,1.1000000000000001,null,null,null,null,null,null,9.6999999999999993,9.5,102.10526315789473]
[null,null,null,"内道内客",{"$f":"+E472-E473","v":2.9000000000000004},{"$f":"+F472-F473","v":6.4},4.5999999999999996,7.1999999999999993,17.2,4.0999999999999996,0,0,0,0,0,0,{"$f":"+Q472-Q473","v":42.400000000000006},46.300000000000004,91.576673866090715]
[null,null,null,"内日帰客",{"$f":"+E472-E476","v":3.4000000000000004},{"$f":"+F472-F476","v":6.8},5,7.6,17.899999999999999,4.2,0,0,0,0,0,0,{"$f":"+Q472-Q476","v":44.900000000000006},49.5,90.707070707070713]
[null,null,null,"内宿泊客",0.3,1,1,1.6,2.2999999999999998,1,null,null,null,null,null,null,7.1999999999999993,6.3000000000000007,114.28571428571426]
[null,null,null,"宿泊客延数",0.4,1.1000000000000001,1.2,2,2.7,1.4,null,null,null,null,null,null,8.8000000000000007,8.8000000000000007,100]
[null,null,"えりも町","入込総数",13.9,33,16.3,26,46.7,23.1,null,null,null,null,null,null,159,112.5,141.33333333333334,null,"令和５年度は早々から天候に恵まれ、GWにおいては前年の約倍の入込数となった。新型コロナウイルスの世界的流行からの回復が見込める数値と判断。道内外の観光客をはじめ、大型バス等のインバウンド客の利用も確認している。",1]
[null,null,null,"内道外客",6.2,16.3,7,11.9,21.4,10.1,null,null,null,null,null,null,72.899999999999991,53,137.54716981132074]
[null,null,null,"内道内客",{"$f":"+E478-E479","v":7.7},{"$f":"+F478-F479","v":16.7},9.3000000000000007,14.1,25.300000000000004,13.000000000000002,0,0,0,0,0,0,{"$f":"+Q478-Q479","v":86.100000000000009},59.5,144.70588235294119]
[null,null,null,"内日帰客",{"$f":"+E478-E482","v":13.4},{"$f":"+F478-F482","v":31.6},15.100000000000001,23.8,44,21.400000000000002,0,0,0,0,0,0,{"$f":"+Q478-Q482","v":149.30000000000001},103.30000000000001,144.53049370764762]
[null,null,null,"内宿泊客",0.5,1.4,1.2,2.2000000000000002,2.7,1.7,null,null,null,null,null,null,9.6999999999999993,9.2000000000000011,105.43478260869563]
[null,null,null,"宿泊客延数",0.6,1.6,1.4,2.7,3.3,1.9,null,null,null,null,null,null,11.500000000000002,11.5,100.00000000000003]
[null,null,"新ひだか町","入込総数",89,20.7,20.399999999999999,35.9,34.6,21,null,null,null,null,null,null,221.6,196.9,112.54443880142205,null,"新型コロナウイルスが5類に移行したことや、各種イベントが開催され、入込数等が回復傾向にある。",1]
[null,null,null,"内道外客",13.1,2.2000000000000002,2,3.2,4.9000000000000004,3.7,null,null,null,null,null,null,29.099999999999998,28.6,101.74825174825173]
[null,null,null,"内道内客",{"$f":"+E484-E485","v":75.900000000000006},{"$f":"+F484-F485","v":18.5},18.399999999999999,32.699999999999996,29.700000000000003,17.3,0,0,0,0,0,0,{"$f":"+Q484-Q485","v":192.5},168.30000000000004,114.37908496732024]
[null,null,null,"内日帰客",{"$f":"+E484-E488","v":85.3},{"$f":"+F484-F488","v":19.3},19.299999999999997,32.6,29.6,18.100000000000001,0,0,0,0,0,0,{"$f":"+Q484-Q488","v":204.2},180.4,113.19290465631929]
[null,null,null,"内宿泊客",3.7,1.4,1.1000000000000001,3.3,5,2.9,null,null,null,null,null,null,17.399999999999999,16.5,105.45454545454544]
[null,null,null,"宿泊客延数",5.7,1.7,1.4,4.3,6.1,3.5,null,null,null,null,null,null,22.700000000000003,21.3,106.57276995305165]
["道南圏域計",null,null,"入込総数",{"$f":"+E496+E574","v":1156.05},1548.1299999999997,1123.8699999999999,1385.79,1685.6999999999998,1245.2199999999998,0,0,0,0,0,0,8144.76,7049.7,115.53342695433848]
[null,null,null,"内道外客",430.2299999999999,547.28000000000009,464.81,569.57000000000005,660.81999999999994,516.47,0,0,0,0,0,0,3189.18,{"$f":"+R497+R575","v":2409.1000000000004},132.38055705450165]
[null,null,null,"内道内客",725.82,1000.85,659.06,816.22,1024.8800000000001,728.74999999999989,0,0,0,0,0,0,4955.58,{"$f":"+R498+R576","v":4640.5999999999995},106.78748437702022]
[null,null,null,"内日帰客",858.74,1223.9800000000002,816.09,968.31999999999994,1214.4000000000001,924.25,0,0,0,0,0,0,6005.78,{"$f":"+R499+R577","v":5340.9},112.44883821078844]
[null,null,null,"内宿泊客",297.30999999999989,324.15000000000003,307.77999999999997,417.47000000000008,471.29999999999995,320.97000000000003,0,0,0,0,0,0,2138.98,{"$f":"+R500+R578","v":1708.8},125.17439138576781]
[null,null,null,"宿泊客延数",367.50000000000006,396.15999999999997,386.43,540.73000000000013,595.83000000000004,396.46,0,0,0,0,0,0,2683.11,{"$f":"+R501+R579","v":2171.6999999999998},123.54883271170051]
[null,"渡島総合振興局計",null,"入込総数",{"$f":"+E502+E508+E517+E523+E529+E535+E541+E547+E553+E559+E565","v":1067.25},1417.0299999999997,1017.37,1220.5899999999999,1433.6,1098.1199999999999,0,0,0,0,0,0,7253.96,{"$f":"+R502+R508+R517+R523+R529+R535+R541+R547+R553+R559+R565","v":6321.3},114.75424358913516]
[null,null,null,"内道外客",421.02999999999992,529.68000000000006,452.51,549.17000000000007,629.91999999999996,498.77,0,0,0,0,0,0,3081.08,2326.7000000000003,132.42274465981859]
[null,null,null,"内道内客",646.22,887.35,564.8599999999999,671.42000000000007,803.68000000000006,599.34999999999991,0,0,0,0,0,0,4172.88,3994.5999999999995,104.46302508386323]
[null,null,null,"内日帰客",775.84,1101.5800000000002,717.59,815.31999999999994,977.3,786.95,0,0,0,0,0,0,5174.58,4665,110.92347266881029]
[null,null,null,"内宿泊客",291.40999999999991,315.45000000000005,299.77999999999997,405.2700000000001,456.29999999999995,311.17,0,0,0,0,0,0,2079.38,1656.3,125.54368170017509]
[null,null,null,"宿泊客延数",360.90000000000003,385.96,376.33,517.13000000000011,578.03000000000009,384.76,0,0,0,0,0,0,2603.11,2103.6999999999998,123.73960165422828]
[null,null,"函館市","入込総数",453.6,530.5,487.9,541.4,638.5,487,null,null,null,null,null,null,{"$f":"SUM(E502:P502)","v":3138.9},2611.4000000000005,120.19989277782031,null,"新型コロナウイルス感染症の5類感染症への移行。クルーズ客船の回復や台湾との定期直行便の再開。インターハイなどの各種大会・学会等のイベントの開催。",1]
[null,null,null,"内道外客",261.10000000000002,310.5,293.8,344.5,424,318.8,null,null,null,null,null,null,1952.7,1506.5,129.61832061068702]
[null,null,null,"内道内客",{"$f":"+E502-E503","v":192.5},{"$f":"+F502-F503","v":220},194.09999999999997,196.89999999999998,214.5,168.2,0,0,0,0,0,0,{"$f":"+Q502-Q503","v":1186.2},1104.9000000000001,107.35813195764321]
[null,null,null,"内日帰客",{"$f":"+E502-E506","v":188.90000000000003},{"$f":"+F502-F506","v":253.5},218.39999999999998,174.59999999999997,230.10000000000002,208.7,0,0,0,0,0,0,{"$f":"+Q502-Q506","v":1274.2},1137.6000000000001,112.00773558368493]
[null,null,null,"内宿泊客",264.7,277,269.5,366.8,408.4,278.3,null,null,null,null,null,null,1864.7,1473.8000000000002,126.52327317139367]
[null,null,null,"宿泊客延数",325.60000000000002,337.9,336.9,465.8,514.6,342.3,null,null,null,null,null,null,2323.1000000000004,1877,123.76664890783167]
[null,null,"北斗市","入込総数",111.6,91.4,86.1,106.8,105.6,83.6,null,null,null,null,null,null,585.1,402.1,145.51106689878139,null,"今年度は令和4年度上期と比べ、約1.7倍の入込客数となった。集計対象場所に「北斗市観光交流センター」を加えたことから、道外客が大幅な増加、コロナ終息によるインバウンドの増加が入込増の主要因と考えられる。",1]
[null,null,null,"内道外客",29.7,30.7,33,41.7,22.4,33.200000000000003,null,null,null,null,null,null,190.70000000000005,75.5,252.58278145695371]
[null,null,null,"内道内客",{"$f":"+E508-E509","v":81.899999999999991},{"$f":"+F508-F509","v":60.7},53.099999999999994,65.099999999999994,83.199999999999989,50.399999999999991,0,0,0,0,0,0,{"$f":"+Q508-Q509","v":394.4},326.60000000000002,120.75933864053887]
[null,null,null,"内日帰客",{"$f":"+E508-E512","v":102.8},{"$f":"+F508-F512","v":82.5},77,95.1,92.399999999999991,74.199999999999989,0,0,0,0,0,0,{"$f":"+Q508-Q512","v":524},345,151.8840579710145]
[null,null,null,"内宿泊客",8.8000000000000007,8.9,9.1,11.7,13.2,9.4,null,null,null,null,null,null,61.1,57.1,107.00525394045535]
[null,null,null,"宿泊客延数",14.6,14.9,15.1,19.5,22,15.7,null,null,null,null,null,null,101.8,81.699999999999989,124.60220318237457]
[{"$f":"A1","v":"１　令和５年度（2023年度）上期　市町村別・月別観光入込客数"}]
[null,null,null,null,null,null,null,null,null,null,null,null,null,null,null,null,null,null,"単位：入込総数→千人、宿泊客延数→千人泊、対前年比→％"]
["圏　域","振興局","市町村名","区　分","４　月","５　月","６　月","７　月","８　月","９　月","１０月","１１月","１２月","１　月","２　月","３　月","合計",{"$f":"$R$3","v":"R4年度上期"},"対前年比"]
[null,null,"松前町","入込総数",86.1,79.8,17.600000000000001,30.5,35.799999999999997,31.3,null,null,null,null,null,null,{"$f":"SUM(E517:P517)","v":281.09999999999997},271.29999999999995,{"$f":"IF(Q517=0,\"－\",Q517/R517*100)","v":103.61223737559897},null,"さくらまつりは例年通り開催したが桜の開花が観測史上最速となり大型連休前半に早咲きがピークピークを迎えたため観光客が都市等へ分散した。その他事業は例年通り開催し、前年を上回る入込となった。全体入込増の要因としてはインバウンドが増加が考えられる。",1]
[null,null,null,"内道外客",15.3,15.4,3.5,5.9,6.7,7.1,null,null,null,null,null,null,53.900000000000006,51.7,104.25531914893618]
["道　南","渡　島",null,"内道内客",{"$f":"+E517-E518","v":70.8},{"$f":"+F517-F518","v":64.399999999999991},14.100000000000001,24.6,29.099999999999998,24.200000000000003,0,0,0,0,0,0,{"$f":"+Q517-Q518","v":227.19999999999996},219.6,103.46083788706737]
[null,null,null,"内日帰客",{"$f":"+E517-E521","v":84.199999999999989},{"$f":"+F517-F521","v":72.2},16.8,28.7,30.299999999999997,29.7,0,0,0,0,0,0,{"$f":"+Q517-Q521","v":261.89999999999998},252.5,103.7227722772277]
[null,null,null,"内宿泊客",1.9,7.6,0.8,1.8,5.5,1.6,null,null,null,null,null,null,19.200000000000003,18.799999999999997,102.12765957446813]
[null,null,null,"宿泊客延数",2.2000000000000002,8,1.4,2.1,7,1.8,null,null,null,null,null,null,22.5,22.099999999999998,101.80995475113124]
[null,null,"福島町","入込総数",22.7,30.7,19.8,25.4,39.6,25,null,null,null,null,null,null,163.19999999999999,141,115.74468085106382,null,"入込数の増加の要因は昨年実施できなかったイベントの開催やコロナ以前より観光客が戻ってきていること、観光プロモーションに力を入れていることも要因のひとつである。",1]
[null,null,null,"内道外客",1.4,1.8,1.2,1.6,2.7,1.5,null,null,null,null,null,null,10.199999999999999,9,113.33333333333333]
[null,null,null,"内道内客",{"$f":"+E523-E524","v":21.3},{"$f":"+F523-F524","v":28.9},18.600000000000001,23.799999999999997,36.9,23.5,0,0,0,0,0,0,{"$f":"+Q523-Q524","v":153},132,115.90909090909092]
[null,null,null,"内日帰客",{"$f":"+E523-E527","v":22},{"$f":"+F523-F527","v":29.8},19.2,24.599999999999998,38.4,24.2,0,0,0,0,0,0,{"$f":"+Q523-Q527","v":158.19999999999999},136.70000000000002,115.72787125091439]
[null,null,null,"内宿泊客",0.7,0.9,0.6,0.8,1.2,0.8,null,null,null,null,null,null,5,4.3,116.27906976744187]
[null,null,null,"宿泊客延数",0.7,0.9,0.6,0.8,1.2,0.8,null,null,null,null,null,null,5,4.3,116.27906976744187]
[null,null,"知内町","入込総数",18.3,17.899999999999999,12.4,14.8,18.399999999999999,12.4,null,null,null,null,null,null,94.200000000000017,87.4,107.78032036613274,null,"新型コロナウイルス感染症が5類感染症に移行したことによる行動制限解除が入込増\nにつながった。また、コロナ禍で開催を中止としていた、「しりうち春の感謝祭」を4年ぶりに開催したことや、縮小していた「サマーカーニバル」を通常開催したことも増加の要因となった。",1]
[null,null,null,"内道外客",8.1999999999999993,8.1,3.7,4.4000000000000004,8.3000000000000007,5,null,null,null,null,null,null,37.700000000000003,34.6,108.95953757225433]
[null,null,null,"内道内客",{"$f":"+E529-E530","v":10.100000000000001},{"$f":"+F529-F530","v":9.7999999999999989},8.6999999999999993,10.4,10.099999999999998,7.4,0,0,0,0,0,0,{"$f":"+Q529-Q530","v":56.500000000000014},52.8,107.00757575757581]
[null,null,null,"内日帰客",{"$f":"+E529-E533","v":16.100000000000001},{"$f":"+F529-F533","v":16.099999999999998},11.200000000000001,13.3,17.299999999999997,11.200000000000001,0,0,0,0,0,0,{"$f":"+Q529-Q533","v":85.200000000000017},79.099999999999994,107.71175726927942]
[null,null,null,"内宿泊客",2.2000000000000002,1.8,1.2,1.5,1.1000000000000001,1.2,null,null,null,null,null,null,9,8.3000000000000007,108.43373493975903]
[null,null,null,"宿泊客延数",2.2000000000000002,1.8,1.2,1.5,1.1000000000000001,1.2,null,null,null,null,null,null,9,8.3000000000000007,108.43373493975903]
[null,null,"木古内町","入込総数",76.2,105.4,59,68.3,82.5,62.9,null,null,null,null,null,null,454.3,454.09999999999997,100.04404316229906,null,"新型コロナウイルスも落ち着き、観光客の動きも活発になってきている。５月はサラキ岬のチューリップや芝桜を見るために立ち寄った観光客多かったために増加した主要因と考えられる。",1]
[null,null,null,"内道外客",29.2,40.5,22,26.1,31.8,24.4,null,null,null,null,null,null,174.00000000000003,72,241.66666666666669]
[null,null,null,"内道内客",{"$f":"+E535-E536","v":47},{"$f":"+F535-F536","v":64.900000000000006},37,42.199999999999996,50.7,38.5,0,0,0,0,0,0,{"$f":"+Q535-Q536","v":280.29999999999995},382.09999999999997,73.357759748756862]
[null,null,null,"内日帰客",{"$f":"+E535-E539","v":74.8},{"$f":"+F535-F539","v":103.9},57.6,66.5,80.900000000000006,61.699999999999996,0,0,0,0,0,0,{"$f":"+Q535-Q539","v":445.40000000000003},448.79999999999995,99.242424242424264]
[null,null,null,"内宿泊客",1.4,1.5,1.4,1.8,1.6,1.2,null,null,null,null,null,null,8.8999999999999986,5.3,167.92452830188677]
[null,null,null,"宿泊客延数",2.5,2.6,2.5,3.1,2.8,2.2000000000000002,null,null,null,null,null,null,15.7,8.1,193.82716049382717]
[null,null,"七飯町","入込総数",162.69999999999999,203.2,174.1,218.7,248.9,190.2,null,null,null,null,null,null,1197.8,1130.7,105.93437693464224,null,"道外客が本格的に戻ってきたため宿泊客数増、入込総数増に繋がった。",1]
[null,null,null,"内道外客",53.4,72.099999999999994,64.7,84.5,88.2,69.2,null,null,null,null,null,null,432.09999999999997,370,116.78378378378378]
[null,null,null,"内道内客",{"$f":"+E541-E542","v":109.29999999999998},{"$f":"+F541-F542","v":131.1},109.39999999999999,134.19999999999999,160.69999999999999,120.99999999999999,0,0,0,0,0,0,{"$f":"+Q541-Q542","v":765.7},760.7,100.65728933876692]
[null,null,null,"内日帰客",{"$f":"+E541-E545","v":158.5},{"$f":"+F541-F545","v":195},164.9,209.39999999999998,237.4,182,0,0,0,0,0,0,{"$f":"+Q541-Q545","v":1147.2},1096.8,104.59518599562365]
[null,null,null,"内宿泊客",4.2,8.1999999999999993,9.1999999999999993,9.3000000000000007,11.5,8.1999999999999993,null,null,null,null,null,null,50.599999999999994,33.9,149.26253687315634]
[null,null,null,"宿泊客延数",4.2,8.1999999999999993,9.1999999999999993,9.3000000000000007,11.5,8.1999999999999993,null,null,null,null,null,null,50.599999999999994,33.9,149.26253687315634]
[null,null,"鹿部町","入込総数",43.9,68.599999999999994,51.4,61,95.7,52.6,null,null,null,null,null,null,373.20000000000005,348.5,107.08751793400289,null,"新型コロナウイルス感染症対策の観点から、前年度まで中止していた「しかべ海と温泉のまつり＆花火大会」を開催したため、入込増となっている。その他施設については、機微な増減はあったものの、昨年同等の入込客数となった。"]
[null,null,null,"内道外客",0.1,0.4,0.5,0.5,0.8,0.7,null,null,null,null,null,null,3,3.4000000000000004,88.235294117647044]
[null,null,null,"内道内客",{"$f":"+E547-E548","v":43.8},{"$f":"+F547-F548","v":68.199999999999989},50.9,60.5,94.9,51.9,0,0,0,0,0,0,{"$f":"+Q547-Q548","v":370.20000000000005},345.1,107.27325412923791]
[null,null,null,"内日帰客",{"$f":"+E547-E551","v":43.6},{"$f":"+F547-F551","v":68.099999999999994},51,60.7,95,52.1,0,0,0,0,0,0,{"$f":"+Q547-Q551","v":370.50000000000006},345.2,107.32908458864428]
[null,null,null,"内宿泊客",0.3,0.5,0.4,0.3,0.7,0.5,null,null,null,null,null,null,2.7,3.3000000000000003,81.818181818181813]
[null,null,null,"宿泊客延数",0.3,0.5,0.4,0.3,0.7,0.5,null,null,null,null,null,null,2.7,3.4000000000000004,79.411764705882348]
[null,null,"森町","入込総数",40.15,209.63,46.87,75.489999999999995,85.6,81.72,null,null,null,null,null,null,539.46,512,105.36328125,null,"新型コロナウイルスによる自粛が終了し、イベントを通常開催にしたことや、海外からの入込が戻ってきたため。",1]
[null,null,null,"内道外客",5.03,22.28,8.41,15.27,16.02,13.77,null,null,null,null,null,null,80.779999999999987,83,97.325301204819255]
[null,null,null,"内道内客",{"$f":"+E553-E554","v":35.119999999999997},{"$f":"+F553-F554","v":187.35},38.459999999999994,60.22,69.58,67.95,0,0,0,0,0,0,{"$f":"+Q553-Q554","v":458.68000000000006},429,106.91841491841494]
[null,null,null,"内日帰客",{"$f":"+E553-E557","v":35.54},{"$f":"+F553-F557","v":204.78},42.79,68.52,77.399999999999991,75.849999999999994,0,0,0,0,0,0,{"$f":"+Q553-Q557","v":504.88000000000005},482.29999999999995,104.68173336097865]
[null,null,null,"内宿泊客",4.6100000000000003,4.8499999999999996,4.08,6.97,8.1999999999999993,5.87,null,null,null,null,null,null,34.58,29.700000000000003,116.43097643097641]
[null,null,null,"宿泊客延数",5.3,5.66,4.93,8.43,9.73,6.96,null,null,null,null,null,null,41.01,36.400000000000006,112.66483516483514]
[null,null,"八雲町","入込総数",35.4,58.4,44.6,58.5,61.7,49.9,null,null,null,null,null,null,308.5,249.1,123.84584504215175,null,"コロナの制限解除による旅行者の増加、また解除に伴いイベントがコロナ前と同じように行われるようになった事の二つが観光客数増加の大きな理由だと思われる。",1]
[null,null,null,"内道外客",12.2,20.7,15.9,18.2,22,18,null,null,null,null,null,null,107,83.4,128.29736211031175]
[null,null,null,"内道内客",{"$f":"+E559-E560","v":23.2},{"$f":"+F559-F560","v":37.700000000000003},28.700000000000003,40.299999999999997,39.700000000000003,31.9,0,0,0,0,0,0,{"$f":"+Q559-Q560","v":201.5},165.7,121.60531080265542]
[null,null,null,"内日帰客",{"$f":"+E559-E563","v":34},{"$f":"+F559-F563","v":55.8},42.7,55.9,58.5,47.6,0,0,0,0,0,0,{"$f":"+Q559-Q563","v":294.5},234.8,125.4258943781942]
[null,null,null,"内宿泊客",1.4,2.6,1.9,2.6,3.2,2.2999999999999998,null,null,null,null,null,null,14,14.300000000000002,97.902097902097879]
[null,null,null,"宿泊客延数",1.6,2.7,2.1,3,3.6,2.5,null,null,null,null,null,null,15.5,15.899999999999999,97.484276729559767]
[null,null,"長万部町","入込総数",16.600000000000001,21.5,17.600000000000001,19.7,21.3,21.5,null,null,null,null,null,null,118.2,113.7,103.95778364116094,null,"今年は町の最大のイベントの「毛がにまつり」や町制を記念する花火大会が開催され入込数の増に繋がった。人の流れが活発になり、町を訪れる人が増加したのも一つの要因と考えられる。"]
[null,null,null,"内道外客",5.4,7.2,5.8,6.5,7,7.1,null,null,null,null,null,null,39,37.6,103.72340425531914]
[null,null,null,"内道内客",{"$f":"+E565-E566","v":11.200000000000001},{"$f":"+F565-F566","v":14.3},11.8,13.2,14.3,14.4,0,0,0,0,0,0,{"$f":"+Q565-Q566","v":79.2},76.099999999999994,104.07358738501972]
[null,null,null,"内日帰客",{"$f":"+E565-E569","v":15.400000000000002},{"$f":"+F565-F569","v":19.899999999999999},16,18,19.600000000000001,19.7,0,0,0,0,0,0,{"$f":"+Q565-Q569","v":108.6},106.19999999999999,102.25988700564972]
[null,null,null,"内宿泊客",1.2,1.6,1.6,1.7,1.7,1.8,null,null,null,null,null,null,9.6000000000000014,7.4999999999999991,128.00000000000003]
[null,null,null,"宿泊客延数",1.7,2.8,2,3.3,3.8,2.6,null,null,null,null,null,null,16.200000000000003,12.600000000000001,128.57142857142858]
[{"$f":"A1","v":"１　令和５年度（2023年度）上期　市町村別・月別観光入込客数"}]
[null,null,null,null,null,null,null,null,null,null,null,null,null,null,null,null,null,null,"単位：入込総数→千人、宿泊客延数→千人泊、対前年比→％"]
["圏　域","振興局","市町村名","区　分","４　月","５　月","６　月","７　月","８　月","９　月","１０月","１１月","１２月","１　月","２　月","３　月","合計",{"$f":"$R$3","v":"R4年度上期"},"対前年比"]
[null,"檜山振興局計",null,"入込総数",{"$f":"+E580+E586+E592+E598+E604+E610+E616","v":88.8},131.10000000000002,106.5,165.20000000000002,252.1,147.10000000000002,0,0,0,0,0,0,890.8,{"$f":"+R580+R586+R592+R598+R604+R610+R616","v":728.4},{"$f":"IF(Q574=0,\"－\",Q574/R574*100)","v":122.29544206479956}]
[null,null,null,"内道外客",9.1999999999999993,17.599999999999998,12.299999999999999,20.399999999999999,30.899999999999995,17.700000000000003,0,0,0,0,0,0,108.1,82.399999999999991,131.18932038834953]
["道　南",null,null,"内道内客",79.600000000000009,113.5,94.2,144.80000000000001,221.20000000000005,129.4,0,0,0,0,0,0,782.69999999999993,645.99999999999989,121.16099071207431]
[null,null,null,"内日帰客",82.9,122.4,98.499999999999986,153,237.10000000000002,137.30000000000001,0,0,0,0,0,0,831.19999999999993,675.90000000000009,122.97677171179167]
[null,null,null,"内宿泊客",5.9,8.7000000000000011,8,12.200000000000001,15,9.7999999999999989,0,0,0,0,0,0,59.6,52.5,113.52380952380952]
[null,null,null,"宿泊客延数",6.6,10.199999999999999,10.099999999999998,23.599999999999994,17.8,11.7,0,0,0,0,0,0,80,68,117.64705882352942]
[null,null,"江差町","入込総数",12.3,25,19,37.799999999999997,89.9,38.5,null,null,null,null,null,null,{"$f":"SUM(E580:P580)","v":222.5},94.4,235.69915254237287,null,"新型コロナウイルス感染症が５月で類型変更したことに伴い、各種イベントが通常開催したことから観光客入込数が増加している。",1]
[null,null,null,"内道外客",1.6,3.1,2.4,4.9000000000000004,11.1,4.8,null,null,null,null,null,null,27.900000000000002,8.2000000000000011,340.2439024390244]
[null,null,null,"内道内客",{"$f":"+E580-E581","v":10.700000000000001},{"$f":"+F580-F581","v":21.9},{"$f":"+G580-G581","v":16.600000000000001},32.9,78.800000000000011,33.700000000000003,0,0,0,0,0,0,{"$f":"+Q580-Q581","v":194.6},86.2,225.75406032482599]
[null,null,null,"内日帰客",{"$f":"+E580-E584","v":11.100000000000001},{"$f":"+F580-F584","v":23.3},17.3,35.699999999999996,87.600000000000009,36.5,0,0,0,0,0,0,{"$f":"+Q580-Q584","v":211.5},82.100000000000009,257.6126674786845]
[null,null,null,"内宿泊客",1.2,1.7,1.7,2.1,2.2999999999999998,2,null,null,null,null,null,null,11,12.3,89.430894308943081]
[null,null,null,"宿泊客延数",1.3,2,2,2.5,2.7,2.2999999999999998,null,null,null,null,null,null,12.8,15.5,82.58064516129032]
[null,null,"上ノ国町","入込総数",24.4,32.299999999999997,24.8,33.1,39.1,26.7,null,null,null,null,null,null,180.39999999999998,172.4,104.64037122969836,null,"全国的にコロナウイルス感染者数が減少したことに伴い、外出意欲が回復したため。",1]
[null,null,null,"内道外客",4.9000000000000004,9.6999999999999993,5,9.9,11.7,8,null,null,null,null,null,null,49.2,46.7,105.35331905781584]
[null,null,null,"内道内客",{"$f":"+E586-E587","v":19.5},{"$f":"+F586-F587","v":22.599999999999998},19.8,23.200000000000003,27.400000000000002,18.7,0,0,0,0,0,0,{"$f":"+Q586-Q587","v":131.19999999999999},125.7,104.37549721559267]
[null,null,null,"内日帰客",{"$f":"+E586-E590","v":24.299999999999997},{"$f":"+F586-F590","v":32.099999999999994},24.6,32.800000000000004,38.800000000000004,26.4,0,0,0,0,0,0,{"$f":"+Q586-Q590","v":178.99999999999997},171.5,104.3731778425656]
[null,null,null,"内宿泊客",0.1,0.2,0.2,0.3,0.3,0.3,null,null,null,null,null,null,1.4000000000000001,0.9,155.55555555555557]
[null,null,null,"宿泊客延数",0.3,0.4,0.6,0.8,0.9,0.6,null,null,null,null,null,null,3.5999999999999996,3.4,105.88235294117648]
[null,null,"厚沢部町","入込総数",28.4,41.7,31.1,46.9,56.1,43.1,null,null,null,null,null,null,247.29999999999998,257.09999999999997,96.188253597821856,null,"旅行需要の回復が要因として考えられる。\n5月に道外客が増加した一方、8月に道内客が減少したので、自分の都道府県を越えた旅行が増えたのではないか。\n"]
[null,null,null,"内道外客",0.6,0.8,0.6,1.1000000000000001,1.3,0.9,null,null,null,null,null,null,5.3000000000000007,4.5,117.7777777777778]
[null,null,null,"内道内客",{"$f":"+E592-E593","v":27.799999999999997},{"$f":"+F592-F593","v":40.900000000000006},30.5,45.8,54.800000000000004,42.2,0,0,0,0,0,0,{"$f":"+Q592-Q593","v":241.99999999999997},252.6,95.803642121931901]
[null,null,null,"内日帰客",{"$f":"+E592-E596","v":27.9},{"$f":"+F592-F596","v":40.900000000000006},30.5,45.9,54.9,42.4,0,0,0,0,0,0,{"$f":"+Q592-Q596","v":242.49999999999997},253.2,95.774091627172183]
[null,null,null,"内宿泊客",0.5,0.8,0.6,1,1.2,0.7,null,null,null,null,null,null,4.8,3.9000000000000004,123.07692307692307]
[null,null,null,"宿泊客延数",0.7,1.1000000000000001,0.9,1.4,1.8,1,null,null,null,null,null,null,6.8999999999999995,8.5,81.17647058823529]
[null,null,"乙部町","入込総数",5.5,8,7.3,11.4,19.899999999999999,8.1999999999999993,null,null,null,null,null,null,60.3,56.5,106.72566371681415,null,"新型コロナウイルスの５類移行や滝瀬海岸シラフラがＳＮＳを通して注目を集めたことによって観光入込客数は増加傾向にあるが、道の駅の利用者数が減少している要因としては国道通行止めによる交通の不便さによるものが大きいと思われる。"]
[null,null,null,"内道外客",0.8,1.1000000000000001,1.1000000000000001,1.6,2.7,1.2,null,null,null,null,null,null,8.5,7.6,111.8421052631579]
[null,null,null,"内道内客",{"$f":"+E598-E599","v":4.7},{"$f":"+F598-F599","v":6.9},6.1999999999999993,9.8000000000000007,17.2,6.9999999999999991,0,0,0,0,0,0,{"$f":"+Q598-Q599","v":51.8},48.9,105.93047034764827]
[null,null,null,"内日帰客",{"$f":"+E598-E602","v":5},{"$f":"+F598-F602","v":7.4},6.6,10.5,18.899999999999999,7.4999999999999991,0,0,0,0,0,0,{"$f":"+Q598-Q602","v":55.9},51.8,107.91505791505791]
[null,null,null,"内宿泊客",0.5,0.6,0.7,0.9,1,0.7,null,null,null,null,null,null,4.4000000000000004,4.7,93.61702127659575]
[null,null,null,"宿泊客延数",0.8,1.1000000000000001,1.1000000000000001,10.199999999999999,1.4,1.3,null,null,null,null,null,null,15.9,6.1,260.65573770491801]
[null,null,"奥尻町","入込総数",1.7,2.7,2.6,4.5999999999999996,5.9,2.8,null,null,null,null,null,null,20.3,16.399999999999999,123.78048780487806,null,"感染症の分類変更による対策緩和の影響",1]
[null,null,null,"内道外客",0.3,1.1000000000000001,1.5,0.9,1,1,null,null,null,null,null,null,5.8000000000000007,4,145.00000000000003]
[null,null,null,"内道内客",{"$f":"+E604-E605","v":1.4},{"$f":"+F604-F605","v":1.6},1.1000000000000001,3.6999999999999997,4.9000000000000004,1.7999999999999998,0,0,0,0,0,0,{"$f":"+Q604-Q605","v":14.5},12.4,116.93548387096774]
[null,null,null,"内日帰客",{"$f":"+E604-E608","v":0},{"$f":"+F604-F608","v":0.30000000000000027},0.60000000000000009,0.39999999999999947,0.10000000000000053,0,0,0,0,0,0,0,{"$f":"+Q604-Q608","v":1.3999999999999986},0.39999999999999991,349.99999999999972]
[null,null,null,"内宿泊客",1.7,2.4,2,4.2,5.8,2.8,null,null,null,null,null,null,18.900000000000002,16,118.12500000000001]
[null,null,null,"宿泊客延数",1.8,2.8,2.8,4.9000000000000004,6.1,3,null,null,null,null,null,null,21.4,17.400000000000002,122.98850574712641]
[null,null,"今金町","入込総数",1.7,2.4,2.2999999999999998,3.1,3.2,7.5,null,null,null,null,null,null,20.2,15.100000000000001,133.77483443708607,null,"感染症拡大が全国的に第5類となり、観光客の往来が多くなったことで増加した。",1]
[null,null,null,"内道外客",0,0.1,0,0.1,0.4,0.2,null,null,null,null,null,null,0.8,0.8,100]
[null,null,null,"内道内客",{"$f":"+E610-E611","v":1.7},{"$f":"+F610-F611","v":2.2999999999999998},2.2999999999999998,3,2.8000000000000003,7.3,0,0,0,0,0,0,{"$f":"+Q610-Q611","v":19.399999999999999},14.299999999999997,135.66433566433568]
[null,null,null,"内日帰客",{"$f":"+E610-E614","v":0.7},{"$f":"+F610-F614","v":0.79999999999999982},0.79999999999999982,1.2000000000000002,1.1000000000000001,5.9,0,0,0,0,0,0,{"$f":"+Q610-Q614","v":10.5},9.1,115.3846153846154]
[null,null,null,"内宿泊客",1,1.6,1.5,1.9,2.1,1.6,null,null,null,null,null,null,9.6999999999999993,6,161.66666666666666]
[null,null,null,"宿泊客延数",0.7,1.1000000000000001,1,1.4,1.6,1.1000000000000001,null,null,null,null,null,null,6.8999999999999986,6.3,109.52380952380952]
[null,null,"せたな町","入込総数",14.8,19,19.399999999999999,28.3,38,20.3,null,null,null,null,null,null,139.80000000000001,116.5,120.00000000000001,null,"海水浴場や祭り、イベントがコロナ前のように行われたことによる増。",1]
[null,null,null,"内道外客",1,1.7,1.7,1.9,2.7,1.6,null,null,null,null,null,null,10.6,10.6,100]
[null,null,null,"内道内客",{"$f":"+E616-E617","v":13.8},{"$f":"+F616-F617","v":17.3},17.7,26.400000000000002,35.299999999999997,18.7,0,0,0,0,0,0,{"$f":"+Q616-Q617","v":129.20000000000002},105.9,122.00188857412655]
[null,null,null,"内日帰客",{"$f":"+E616-E620","v":13.9},{"$f":"+F616-F620","v":17.600000000000001},18.099999999999998,26.5,35.700000000000003,18.600000000000001,0,0,0,0,0,0,{"$f":"+Q616-Q620","v":130.4},107.80000000000001,120.9647495361781]
[null,null,null,"内宿泊客",0.9,1.4,1.3,1.8,2.2999999999999998,1.7,null,null,null,null,null,null,9.3999999999999986,8.6999999999999993,108.04597701149426]
[null,null,null,"宿泊客延数",1,1.7,1.7,2.4,3.3,2.4,null,null,null,null,null,null,12.500000000000002,10.8,115.74074074074075]
["道北圏域計",null,null,"入込総数",{"$f":"+E631+E781+E838","v":695.29099999999994},1729.3389999999999,2298.308,3739.9270000000001,3192.6990000000005,2491.4210000000003,0,0,0,0,0,0,14146.985000000004,12123.300000000001,116.69252596240301]
[null,null,null,"内道外客",182.64099999999999,540.80799999999999,989.86799999999994,1763.758,1286.3180000000002,919.45899999999995,0,0,0,0,0,0,5682.851999999998,{"$f":"+R632+R782+R839","v":3733.1000000000013},152.22876429776849]
[null,null,null,"内道内客",512.64999999999986,1188.5309999999997,1308.4399999999998,1976.1690000000001,1906.3809999999999,1571.9620000000004,0,0,0,0,0,0,8464.1329999999998,{"$f":"+R633+R783+R840","v":8390.2000000000007},100.88118280851468]
[null,null,null,"内日帰客",587.17199999999991,1492.7139999999999,1967.0780000000002,3271.5569999999998,2751.2159999999999,2170.598,0,0,0,0,0,0,12240.335000000003,{"$f":"+R634+R784+R841","v":10547.7},116.04743214160436]
[null,null,null,"内宿泊客",108.119,236.625,331.23000000000013,468.36999999999995,441.483,320.82300000000004,0,0,0,0,0,0,1906.6499999999999,{"$f":"+R635+R785+R842","v":1575.6},121.0110434120335]
[null,null,null,"宿泊客延数",135.72900000000001,289.15999999999997,406.37399999999991,581.22500000000002,568.25799999999992,396.5569999999999,0,0,0,0,0,0,2377.3029999999999,{"$f":"+R636+R786+R843","v":2010.5},118.24436707286745]
[{"$f":"A1","v":"１　令和５年度（2023年度）上期　市町村別・月別観光入込客数"}]
[null,null,null,null,null,null,null,null,null,null,null,null,null,null,null,null,null,null,"単位：入込総数→千人、宿泊客延数→千人泊、対前年比→％"]
["圏　域","振興局","市町村名","区　分","４　月","５　月","６　月","７　月","８　月","９　月","１０月","１１月","１２月","１　月","２　月","３　月","合計",{"$f":"$R$3","v":"R4年度上期"},"対前年比"]
[null,"上川総合振興局計",null,"入込総数",{"$f":"+E637+E643+E649+E655+E661+E667+E673+E679+E688+E694+E700+E706+E712+E718+E724+E730+E736+E745+E751+E757+E763+E769+E775","v":522.79999999999995},1310.1999999999998,1849.1000000000001,3101.2000000000003,2602.6000000000004,2077.1000000000004,0,0,0,0,0,0,11463.000000000004,{"$f":"+R637+R643+R649+R655+R661+R667+R673+R679+R688+R694+R700+R706+R712+R718+R724+R730+R736+R745+R751+R757+R763+R769+R775","v":9811.7000000000025},{"$f":"IF(Q631=0,\"－\",Q631/R631*100)","v":116.82990715166588}]
[null,null,null,"内道外客",141.6,450.8,850.19999999999993,1573.9,1122.3000000000002,808.8,0,0,0,0,0,0,4947.5999999999985,3093.0000000000009,159.9612027158098]
[null,null,null,"内道内客",381.19999999999993,859.39999999999986,998.89999999999986,1527.3000000000002,1480.2999999999997,1268.3000000000004,0,0,0,0,0,0,6515.4,6718.7000000000007,96.974117016684758]
[null,null,null,"内日帰客",441.99999999999989,1127.0999999999999,1600.3000000000004,2735.6,2253.4,1823.4,0,0,0,0,0,0,9981.8000000000029,8643.0000000000018,115.48999190096032]
[null,null,null,"内宿泊客",80.8,183.1,248.8000000000001,365.59999999999997,349.20000000000005,253.70000000000002,0,0,0,0,0,0,1481.1999999999998,1168.7,126.73911183366131]
[null,null,null,"宿泊客延数",100.60000000000001,223.49999999999997,305.2999999999999,452.70000000000005,450.79999999999995,311.19999999999993,0,0,0,0,0,0,1844.1,1507.2999999999997,122.344589663637]
[null,null,"旭川市","入込総数",100.5,323.89999999999998,599.29999999999995,704.6,655.1,718.7,null,null,null,null,null,null,{"$f":"SUM(E637:P637)","v":3102.1000000000004},2535.5,122.3466771839874,null,"　令和５年度上期は，本年５月に新型コロナウイルス感染症の法的位置付けが５類に引き下げられたことで，国内外の人流が増加したため。外国人観光客についてもインバウンドの回復が顕著に見られ，今後に期待ができる結果となった。",1]
[null,null,null,"内道外客",36.999999999999986,145.40000000000003,321.79999999999995,442.5,400.3,388.1,null,null,null,null,null,null,1735.1,991.3,175.03278523151417]
[null,null,null,"内道内客",{"$f":"+E637-E638","v":63.500000000000014},{"$f":"+F637-F638","v":178.49999999999994},277.5,262.10000000000002,254.8,330.6,0,0,0,0,0,0,{"$f":"+Q637-Q638","v":1367.0000000000005},1544.2,88.524802486724539]
[null,null,null,"内日帰客",{"$f":"+E637-E641","v":73.8},{"$f":"+F637-F641","v":274.59999999999997},533.09999999999991,607.6,562.1,650.90000000000009,0,0,0,0,0,0,{"$f":"+Q637-Q641","v":2702.1000000000004},2264.3000000000002,119.33489378615909]
[null,null,null,"内宿泊客",26.7,49.3,66.2,97,93,67.8,null,null,null,null,null,null,400,271.2,147.49262536873158]
[null,null,null,"宿泊客延数",31.3,58.6,75.5,113.4,109.7,78,null,null,null,null,null,null,466.5,365.9,127.49385077890135]
[null,null,"士別市","入込総数",33.700000000000003,58.9,49.9,76,92.6,66.7,null,null,null,null,null,null,377.8,385.1,98.104388470527141,null,"令和5年5月に新型コロナウィルス感染症が感染症法上5類になったことにより、宿泊客については増加した。日帰り客については、4月5月は、落ち込んだが以降は昨年度と同水準を維持した。",1]
[null,null,null,"内道外客",5.4,9.4,8,12.2,14.8,10.7,null,null,null,null,null,null,60.5,61.599999999999994,98.214285714285722]
[null,null,null,"内道内客",{"$f":"+E643-E644","v":28.300000000000004},{"$f":"+F643-F644","v":49.5},41.9,63.8,77.8,56,0,0,0,0,0,0,{"$f":"+Q643-Q644","v":317.3},323.5,98.08346213292117]
[null,null,null,"内日帰客",{"$f":"+E643-E647","v":27.400000000000002},{"$f":"+F643-F647","v":51.3},42.699999999999996,61.7,76.899999999999991,57.300000000000004,0,0,0,0,0,0,{"$f":"+Q643-Q647","v":317.3},336.8,94.2102137767221]
[null,null,null,"内宿泊客",6.3,7.6,7.2,14.3,15.7,9.4,null,null,null,null,null,null,60.499999999999993,48.3,125.25879917184264]
[null,null,null,"宿泊客延数",7,8.3000000000000007,8,15.8,17.3,10.3,null,null,null,null,null,null,66.7,53.1,125.6120527306968]
[null,null,"名寄市","入込総数",10.199999999999999,35.299999999999997,21.3,32.700000000000003,49.5,19.899999999999999,null,null,null,null,null,null,168.9,182.5,92.547945205479451,null,"コロナの影響による規制が緩和され観光入込数が大幅に回復したR4年と比較するとR5年上半期は観光入込が伸び悩んだ。土日の天候が悪い日も多く、観光客の動きが鈍かった。",1]
[null,null,null,"内道外客",1.2,4.2,3,4.9000000000000004,7.2,3,null,null,null,null,null,null,23.5,27.7,84.837545126353803]
[null,null,null,"内道内客",{"$f":"+E649-E650","v":9},{"$f":"+F649-F650","v":31.099999999999998},18.3,27.800000000000004,42.3,16.899999999999999,0,0,0,0,0,0,{"$f":"+Q649-Q650","v":145.4},154.80000000000001,93.927648578811358]
[null,null,null,"内日帰客",{"$f":"+E649-E653","v":7.3999999999999995},{"$f":"+F649-F653","v":30.699999999999996},16.3,26.1,42.7,14.799999999999999,0,0,0,0,0,0,{"$f":"+Q649-Q653","v":138},151.6,91.029023746701853]
[null,null,null,"内宿泊客",2.8,4.5999999999999996,5,6.6,6.8,5.0999999999999996,null,null,null,null,null,null,30.9,30.9,100]
[null,null,null,"宿泊客延数",5.0999999999999996,7.4,8.8000000000000007,11.6,12.1,9.3000000000000007,null,null,null,null,null,null,54.3,48.7,111.49897330595482]
[null,null,"富良野市","入込総数",77.400000000000006,151.4,181,367.4,239.6,180.3,null,null,null,null,null,null,1197.1000000000001,1025.5,116.73330082886397,null,"５月以降はCOVID-19が感染症法上の取り扱いが５類感染症となったことが後押しし、新千歳空港では韓国、台湾、香港を中心に複数社が復便する状況となり、旭川空港における台北線の復便（週２便）などにより、昨年度と比較して増加している（５月118.3％、６月130.4％、７月122.8％、８月112.5％、９月108.9％）。令和元年度と比較しても90.8％と昨年より回復傾向だが、宿泊客数の回復が伸び悩み「日帰り」の傾向が強くなった。また、大々的に開催することができた「北海へそ祭り」と「ワインぶどう祭り」は、それぞれ前年度比138％、152％大きく増加したことによると推測",1]
[null,null,null,"内道外客",41.8,102.9,152.1,323.3,88.7,54.1,null,null,null,null,null,null,762.9,227.4,335.48812664907649]
[null,null,null,"内道内客",{"$f":"+E655-E656","v":35.600000000000009},{"$f":"+F655-F656","v":48.5},28.900000000000006,44.099999999999966,150.89999999999998,126.20000000000002,0,0,0,0,0,0,{"$f":"+Q655-Q656","v":434.20000000000016},798.09999999999991,54.404209998747056]
[null,null,null,"内日帰客",{"$f":"+E655-E659","v":60.300000000000004},{"$f":"+F655-F659","v":114.30000000000001},125.8,296,177.7,135.80000000000001,0,0,0,0,0,0,{"$f":"+Q655-Q659","v":909.90000000000009},814.00000000000011,111.78132678132677]
[null,null,null,"内宿泊客",17.100000000000001,37.1,55.2,71.400000000000006,61.9,44.5,null,null,null,null,null,null,287.20000000000005,211.5,135.79196217494092]
[null,null,null,"宿泊客延数",23.2,46.2,69.099999999999994,92.8,80.400000000000006,55.3,null,null,null,null,null,null,367.00000000000006,262.10000000000002,140.02289202594432]
[null,null,"鷹栖町","入込総数",4,15.6,15.2,16.2,22.9,15.2,null,null,null,null,null,null,89.100000000000009,78.900000000000006,112.92775665399239,null,"4年振りに祭りを開催したため観光客が増加した。",1]
[null,null,null,"内道外客",0,0,0,0,0,0,null,null,null,null,null,null,0,0,"－"]
[null,null,null,"内道内客",{"$f":"+E661-E662","v":4},{"$f":"+F661-F662","v":15.6},15.2,16.2,22.9,15.2,0,0,0,0,0,0,{"$f":"+Q661-Q662","v":89.100000000000009},78.900000000000006,112.92775665399239]
[null,null,null,"内日帰客",{"$f":"+E661-E665","v":4},{"$f":"+F661-F665","v":15.6},15.2,16.2,22.9,15.2,0,0,0,0,0,0,{"$f":"+Q661-Q665","v":89.100000000000009},78.900000000000006,112.92775665399239]
[null,null,null,"内宿泊客",0,0,0,0,0,0,null,null,null,null,null,null,0,0,{"$f":"IF(Q665=0,\"－\",Q665/R665*100)","v":"－"}]
[null,null,null,"宿泊客延数",0,0,0,0,0,0,null,null,null,null,null,null,0,0,{"$f":"IF(Q666=0,\"－\",Q666/R666*100)","v":"－"}]
[null,null,"東神楽町","入込総数",18.399999999999999,22.6,19.399999999999999,27.5,31.1,23.5,null,null,null,null,null,null,142.5,125.8,113.27503974562798,null,"新型コロナウィルスの影響で減少していた観光客が回復し、令和2年からほぼ0だったインバウンドも徐々に回復してきたことが要因と考える。",1]
[null,null,null,"内道外客",1.9,2.6,2.4,4,4.4000000000000004,2.9,null,null,null,null,null,null,18.2,13.2,137.87878787878788]
[null,null,null,"内道内客",{"$f":"+E667-E668","v":16.5},{"$f":"+F667-F668","v":20},17,23.5,26.700000000000003,20.6,0,0,0,0,0,0,{"$f":"+Q667-Q668","v":124.3},112.6,110.39076376554173]
[null,null,null,"内日帰客",{"$f":"+E667-E671","v":16.799999999999997},{"$f":"+F667-F671","v":19.5},15.999999999999998,21.8,23.8,19.100000000000001,0,0,0,0,0,0,{"$f":"+Q667-Q671","v":117},100.1,116.8831168831169]
[null,null,null,"内宿泊客",1.6,3.1,3.4,5.7,7.3,4.4000000000000004,null,null,null,null,null,null,25.5,25.7,99.221789883268485]
[null,null,null,"宿泊客延数",1.8,3.6,3.6,6.6,9.3000000000000007,4.5999999999999996,null,null,null,null,null,null,29.5,28.9,102.07612456747405]
[null,null,"当麻町","入込総数",19.7,49.4,38.4,49,65,38.200000000000003,null,null,null,null,null,null,259.7,299.10000000000002,86.827148110999659,null,"今年度も前年度に引き続き通常営業となっておりましたが、コロナ禍前の入込客数には届きませんでした。\n前年度は行動規制緩和により大幅に増加しましたが、今年度は客足が落ち着き前年度よりも減少する結果となりました。",1]
[null,null,null,"内道外客",1.1000000000000001,15.4,7.7,9.9,19.600000000000001,7.5,null,null,null,null,null,null,61.2,69.7,87.804878048780495]
[null,null,null,"内道内客",{"$f":"+E673-E674","v":18.599999999999998},{"$f":"+F673-F674","v":34},30.7,39.1,45.4,30.700000000000003,0,0,0,0,0,0,{"$f":"+Q673-Q674","v":198.5},229.39999999999998,86.53007846556234]
[null,null,null,"内日帰客",{"$f":"+E673-E677","v":19.7},{"$f":"+F673-F677","v":48.8},38.1,47.9,62.8,37.300000000000004,0,0,0,0,0,0,{"$f":"+Q673-Q677","v":254.6},293,86.894197952218434]
[null,null,null,"内宿泊客",0,0.6,0.3,1.1000000000000001,2.2000000000000002,0.9,null,null,null,null,null,null,5.1000000000000005,6.1,83.606557377049199]
[null,null,null,"宿泊客延数",0,0.6,0.3,1.1000000000000001,2.2000000000000002,0.9,null,null,null,null,null,null,5.1000000000000005,6.1,83.606557377049199]
[null,null,"比布町","入込総数",6.6,12.1,16.3,15.9,12.3,10.8,null,null,null,null,null,null,74,75.2,98.40425531914893,null,"6月にクマの目撃情報が多数あり、グリーンパークぴっぷを閉鎖していたため減少している。いちご狩りは昨年度よりも期間が短かったため減少している。",1]
[null,null,null,"内道外客",0,0.2,0.1,0.7,0.5,0.1,null,null,null,null,null,null,1.6,0.6,266.66666666666669]
[null,null,null,"内道内客",{"$f":"+E679-E680","v":6.6},{"$f":"+F679-F680","v":11.9},16.2,15.200000000000001,11.8,10.700000000000001,0,0,0,0,0,0,{"$f":"+Q679-Q680","v":72.400000000000006},74.599999999999994,97.050938337801625]
[null,null,null,"内日帰客",{"$f":"+E679-E683","v":6.3999999999999995},{"$f":"+F679-F683","v":11.1},15.9,14.200000000000001,10.3,9.4,0,0,0,0,0,0,{"$f":"+Q679-Q683","v":67.3},67.8,99.262536873156336]
[null,null,null,"内宿泊客",0.2,1,0.4,1.7,2,1.4,null,null,null,null,null,null,6.6999999999999993,7.4,90.540540540540519]
[null,null,null,"宿泊客延数",0.3,1.2,0.7,2.2999999999999998,2.2999999999999998,1.6,null,null,null,null,null,null,8.4,9,93.333333333333329]
[{"$f":"A1","v":"１　令和５年度（2023年度）上期　市町村別・月別観光入込客数"}]
[null,null,null,null,null,null,null,null,null,null,null,null,null,null,null,null,null,null,"単位：入込総数→千人、宿泊客延数→千人泊、対前年比→％"]
["圏　域","振興局","市町村名","区　分","４　月","５　月","６　月","７　月","８　月","９　月","１０月","１１月","１２月","１　月","２　月","３　月","合計",{"$f":"$R$3","v":"R4年度上期"},"対前年比"]
[null,null,"愛別町","入込総数",1.9,5.7,6.2,5.7,6.7,13.3,null,null,null,null,null,null,{"$f":"SUM(E688:P688)","v":39.5},33.299999999999997,{"$f":"IF(Q688=0,\"－\",Q688/R688*100)","v":118.61861861861863},null,"新型コロナウイルス感染症の位置づけが5類に移行されたことから、これまで中止としていたイベント等が開催されたことから全体で増加している。",1]
[null,null,null,"内道外客",0,0,0,0.3,0.2,0.3,null,null,null,null,null,null,0.8,0,{"$error":"#DIV/0!"}]
["道　北","上　川",null,"内道内客",{"$f":"+E688-E689","v":1.9},{"$f":"+F688-F689","v":5.7},6.2,5.4,6.5,13,0,0,0,0,0,0,{"$f":"+Q688-Q689","v":38.700000000000003},33.299999999999997,116.21621621621622]
[null,null,null,"内日帰客",{"$f":"+E688-E692","v":1.7999999999999998},{"$f":"+F688-F692","v":5.5},5.9,4.5999999999999996,5.0999999999999996,12.3,0,0,0,0,0,0,{"$f":"+Q688-Q692","v":35.200000000000003},29.6,118.91891891891892]
[null,null,null,"内宿泊客",0.1,0.2,0.3,1.1000000000000001,1.6,1,null,null,null,null,null,null,4.3000000000000007,3.7,116.21621621621622]
[null,null,null,"宿泊客延数",0.2,0.2,0.3,1.3,2.1,1.2,null,null,null,null,null,null,5.3,5.8999999999999995,89.830508474576277]
[null,null,"上川町","入込総数",25.7,47.8,53.5,146.80000000000001,117.2,135.19999999999999,null,null,null,null,null,null,526.20000000000005,508.5,103.48082595870207,null,"今年度の上半期については、新型コロナウイルス感染症が5類に移行したことに伴い、層雲峡地区がコロナ前のようにイベントを開催し、また、インバウンドが戻ってきたことによる入込数の増加。",1]
[null,null,null,"内道外客",12,22.1,33.4,90.6,59.4,64.5,null,null,null,null,null,null,282,244.9,115.14904042466311]
[null,null,null,"内道内客",{"$f":"+E694-E695","v":13.7},{"$f":"+F694-F695","v":25.699999999999996},20.100000000000001,56.200000000000017,57.800000000000004,70.699999999999989,0,0,0,0,0,0,{"$f":"+Q694-Q695","v":244.20000000000005},263.60000000000002,92.640364188163886]
[null,null,null,"内日帰客",{"$f":"+E694-E698","v":15},{"$f":"+F694-F698","v":21.099999999999998},22.2,98.700000000000017,72.7,102.39999999999999,0,0,0,0,0,0,{"$f":"+Q694-Q698","v":332.1},367.90000000000003,90.269094862734434]
[null,null,null,"内宿泊客",10.7,26.7,31.3,48.1,44.5,32.799999999999997,null,null,null,null,null,null,194.10000000000002,140.6,138.0512091038407]
[null,null,null,"宿泊客延数",11.2,27.9,32.799999999999997,51.1,47.2,35,null,null,null,null,null,null,205.2,163.39999999999998,125.58139534883721]
[null,null,"東川町","入込総数",43,89.3,70.7,149.5,105.1,128.9,null,null,null,null,null,null,586.5,536.5,109.31966449207829,null,"新型コロナウィルス感染症の5類感染症移行による、旅行機械の増加。\nイベントの完全復活。\nメディアによる認知度の向上。",1]
[null,null,null,"内道外客",6.4,11.4,16.5,30.3,26.3,29.3,null,null,null,null,null,null,120.19999999999999,104.69999999999999,114.80420248328558]
[null,null,null,"内道内客",{"$f":"+E700-E701","v":36.6},{"$f":"+F700-F701","v":77.899999999999991},54.2,119.2,78.8,99.600000000000009,0,0,0,0,0,0,{"$f":"+Q700-Q701","v":466.3},431.8,107.98981009726725]
[null,null,null,"内日帰客",{"$f":"+E700-E704","v":40.6},{"$f":"+F700-F704","v":83.899999999999991},62.6,135.6,91.199999999999989,117.7,0,0,0,0,0,0,{"$f":"+Q700-Q704","v":531.6},489.29999999999995,108.64500306560394]
[null,null,null,"内宿泊客",2.4,5.4,8.1,13.9,13.9,11.2,null,null,null,null,null,null,54.900000000000006,47.2,116.31355932203391]
[null,null,null,"宿泊客延数",2.9,6,9,14,15,11.4,null,null,null,null,null,null,58.3,54,107.96296296296295]
[null,null,"美瑛町","入込総数",51,154.6,239.1,401,387.4,233.3,null,null,null,null,null,null,1466.3999999999999,1123.8,130.48585157501333,null,"新型コロナウイルス感染症が第5類に移行（令和5年5月8日～）され、観光需要が増加したことから入込客増加につながったと考えられる。"]
[null,null,null,"内道外客",11,52.4,129.80000000000001,258,224.1,116.8,null,null,null,null,null,null,792.1,505.20000000000005,156.78939034045922]
[null,null,null,"内道内客",{"$f":"+E706-E707","v":40},{"$f":"+F706-F707","v":102.19999999999999},109.29999999999998,143,163.29999999999998,116.50000000000001,0,0,0,0,0,0,{"$f":"+Q706-Q707","v":674.29999999999984},618.6,109.00420303912057]
[null,null,null,"内日帰客",{"$f":"+E706-E710","v":46},{"$f":"+F706-F710","v":144.9},225.7,377.5,367.2,220.5,0,0,0,0,0,0,{"$f":"+Q706-Q710","v":1381.8},1045.7,132.14114946925503]
[null,null,null,"内宿泊客",5,9.6999999999999993,13.4,23.5,20.2,12.8,null,null,null,null,null,null,84.6,78.100000000000009,108.32266325224069]
[null,null,null,"宿泊客延数",6.3,11.1,15.4,27.2,24.3,15,null,null,null,null,null,null,99.3,91,109.12087912087911]
[null,null,"上富良野町","入込総数",12.6,35.299999999999997,54.5,170.8,113.8,61.9,null,null,null,null,null,null,448.90000000000003,332.4,135.04813477737667,null,"令和4年10月に行われた入国規制緩和の影響があり、前年の上半期入込と比較し、外国人の入込数が大きく上昇した。また令和5年7月中旬まで、旅行促進支援策である「HOKKAIDO　LOVE!割」のキャンペーンがあり国内からの入込数も増加し、前年度上半期比は138％であった。改装中のため休業している施設や、営業終了をした施設も多い中の上昇であったが、コロナ前の平成31年と比較すると上半期の入込数は未だ20％ほどマイナスの状況であり、観光資源の磨き上げや、新たな観光施設の情報発信を民間と伴走する形で発信し続ける必要がある。",1]
[null,null,null,"内道外客",4.4000000000000004,12.4,20.7,85.4,56.9,22.9,null,null,null,null,null,null,202.70000000000002,149.79999999999998,135.31375166889188]
[null,null,null,"内道内客",{"$f":"+E712-E713","v":8.1999999999999993},{"$f":"+F712-F713","v":22.9},33.799999999999997,85.4,56.9,39,0,0,0,0,0,0,{"$f":"+Q712-Q713","v":246.20000000000002},182.6,134.8302300109529]
[null,null,null,"内日帰客",{"$f":"+E712-E716","v":10.9},{"$f":"+F712-F716","v":30.999999999999996},47.6,154.30000000000001,99.1,53.2,0,0,0,0,0,0,{"$f":"+Q712-Q716","v":396.1},285.29999999999995,138.83631265334739]
[null,null,null,"内宿泊客",1.7,4.3,6.9,16.5,14.7,8.6999999999999993,null,null,null,null,null,null,52.8,47.1,112.10191082802548]
[null,null,null,"宿泊客延数",2.4,6,9.6999999999999993,23.1,20.6,12.2,null,null,null,null,null,null,74,66,112.12121212121211]
[null,null,"中富良野町","入込総数",12.5,43.7,196.4,508.5,257.60000000000002,59.6,null,null,null,null,null,null,1078.3,730.30000000000007,147.65165000684647,null,"５月上旬に新型コロナウイルス感染症が５類へ位置付けられた影響は大きく、インバウンドや国内の団体旅行客をはじめ、レンタカーを利用した個人旅行の観光客も多く訪れた。"]
[null,null,null,"内道外客",5.0999999999999996,18.3,80.099999999999994,206.4,106.5,25.5,null,null,null,null,null,null,441.9,299.90000000000003,147.34911637212403]
[null,null,null,"内道内客",{"$f":"+E718-E719","v":7.4},{"$f":"+F718-F719","v":25.400000000000002},116.30000000000001,302.10000000000002,151.10000000000002,34.1,0,0,0,0,0,0,{"$f":"+Q718-Q719","v":636.4},430.4,147.86245353159853]
[null,null,null,"内日帰客",{"$f":"+E718-E722","v":11.5},{"$f":"+F718-F722","v":41},192,501,250.00000000000003,55,0,0,0,0,0,0,{"$f":"+Q718-Q722","v":1050.5},707.3,148.52255054432348]
[null,null,null,"内宿泊客",1,2.7,4.4000000000000004,7.5,7.6,4.5999999999999996,null,null,null,null,null,null,27.800000000000004,23,120.86956521739131]
[null,null,null,"宿泊客延数",1,2.9,4.8,8,8,4.7,null,null,null,null,null,null,29.4,24.8,118.54838709677418]
[null,null,"南富良野町","入込総数",14,34.799999999999997,39.1,74.2,54,39.6,null,null,null,null,null,null,255.70000000000002,278.40000000000003,91.84626436781609,null,"熊出没の影響により、キャンプ場閉鎖時期がある他、コロナウイルスが落ち着いてきたためアウトドアブームも減少している傾向があるため、道外からの観光客は増えているが、前年度と比較した場合には入込客数は減少した。",1]
[null,null,null,"内道外客",1.3,5.8,8.6,13.2,11.7,7.5,null,null,null,null,null,null,48.099999999999994,43,111.86046511627904]
[null,null,null,"内道内客",{"$f":"+E724-E725","v":12.7},{"$f":"+F724-F725","v":28.999999999999996},30.5,61,42.3,32.1,0,0,0,0,0,0,{"$f":"+Q724-Q725","v":207.60000000000002},235.39999999999998,88.190314358538686]
[null,null,null,"内日帰客",{"$f":"+E724-E728","v":13.5},{"$f":"+F724-F728","v":32.099999999999994},36.4,67,50.1,35.9,0,0,0,0,0,0,{"$f":"+Q724-Q728","v":235.00000000000003},256.60000000000002,91.582229150428688]
[null,null,null,"内宿泊客",0.5,2.7,2.7,7.2,3.9,3.7,null,null,null,null,null,null,20.7,21.799999999999997,94.954128440366986]
[null,null,null,"宿泊客延数",0.5,2.7,2.7,7.2,3.9,3.7,null,null,null,null,null,null,20.7,25.6,80.859374999999986]
[null,null,"占冠村","入込総数",20.2,94.8,136.9,188.9,207.6,147.5,null,null,null,null,null,null,795.9,676.19999999999993,117.70186335403727,null,"入国制限解除によりインバウンド数が大きく上昇し、全体の観光入込客数が増加した。",1]
[null,null,null,"内道外客",8.1,37.9,54.8,75.5,83.1,59,null,null,null,null,null,null,318.39999999999998,270.60000000000002,117.66444937176644]
[null,null,null,"内道内客",{"$f":"+E730-E731","v":12.1},{"$f":"+F730-F731","v":56.9},82.100000000000009,113.4,124.5,88.5,0,0,0,0,0,0,{"$f":"+Q730-Q731","v":477.5},405.60000000000008,117.72682445759366]
[null,null,null,"内日帰客",{"$f":"+E730-E734","v":17},{"$f":"+F730-F734","v":69.900000000000006},96.9,145.30000000000001,161.5,107.2,0,0,0,0,0,0,{"$f":"+Q730-Q734","v":597.79999999999995},505.30000000000007,118.30595685731247]
[null,null,null,"内宿泊客",3.2,24.9,40,43.6,46.1,40.299999999999997,null,null,null,null,null,null,198.09999999999997,170.89999999999998,115.91574019894675]
[null,null,null,"宿泊客延数",5,35,57.9,67.099999999999994,84.1,59.8,null,null,null,null,null,null,308.89999999999998,249.89999999999998,123.60944377751099]
[null,null,"和寒町","入込総数",2.5,12.8,2.7,13.8,4.8,5.6,null,null,null,null,null,null,42.2,32.699999999999996,129.05198776758414,null,"昨年度イベント中止のため本年度入込増",1]
[null,null,null,"内道外客",0.1,0.2,0.3,0.6,0.5,0.3,null,null,null,null,null,null,2,1.3,153.84615384615384]
[null,null,null,"内道内客",{"$f":"+E736-E737","v":2.4},{"$f":"+F736-F737","v":12.600000000000001},2.4000000000000004,13.200000000000001,4.3,5.3,0,0,0,0,0,0,{"$f":"+Q736-Q737","v":40.200000000000003},31.400000000000002,128.02547770700636]
[null,null,null,"内日帰客",{"$f":"+E736-E740","v":2.4},{"$f":"+F736-F740","v":12.4},2.4000000000000004,13,3.9,5.0999999999999996,0,0,0,0,0,0,{"$f":"+Q736-Q740","v":39.200000000000003},29.800000000000004,131.54362416107381]
[null,null,null,"内宿泊客",0.1,0.4,0.3,0.8,0.9,0.5,null,null,null,null,null,null,3,2.9,103.44827586206897]
[null,null,null,"宿泊客延数",0.1,0.4,0.4,1.1000000000000001,1.2,0.7,null,null,null,null,null,null,3.9000000000000004,3.4000000000000004,114.70588235294117]
[{"$f":"A1","v":"１　令和５年度（2023年度）上期　市町村別・月別観光入込客数"}]
[null,null,null,null,null,null,null,null,null,null,null,null,null,null,null,null,null,null,"単位：入込総数→千人、宿泊客延数→千人泊、対前年比→％"]
["圏　域","振興局","市町村名","区　分","４　月","５　月","６　月","７　月","８　月","９　月","１０月","１１月","１２月","１　月","２　月","３　月","合計",{"$f":"$R$3","v":"R4年度上期"},"対前年比"]
[null,null,"剣淵町","入込総数",32.299999999999997,55.5,45.7,58.1,68.8,52.7,null,null,null,null,null,null,{"$f":"SUM(E745:P745)","v":313.09999999999997},317,{"$f":"IF(Q745=0,\"－\",Q745/R745*100)","v":98.769716088328067},null,"入込客数は前年度に対して微減となった。\n新型コロナウイルス感染症が５類に移行したことに伴い、人気のスポットなどに遠出する人が増えたため、若干減少したものと予想する。"]
[null,null,null,"内道外客",0.3,0.6,0.5,0.7,0.8,0.5,null,null,null,null,null,null,3.3999999999999995,3.0999999999999996,109.6774193548387]
["道　北","上　川",null,"内道内客",{"$f":"+E745-E746","v":31.999999999999996},{"$f":"+F745-F746","v":54.9},45.2,57.4,68,52.2,0,0,0,0,0,0,{"$f":"+Q745-Q746","v":309.7},313.89999999999998,98.661994265689714]
[null,null,null,"内日帰客",{"$f":"+E745-E749","v":32.199999999999996},{"$f":"+F745-F749","v":55.2},45.400000000000006,57.6,68.2,52.400000000000006,0,0,0,0,0,0,{"$f":"+Q745-Q749","v":310.99999999999994},315.90000000000003,98.448876226653979]
[null,null,null,"内宿泊客",0.1,0.3,0.3,0.5,0.6,0.3,null,null,null,null,null,null,2.0999999999999996,1.1000000000000001,190.90909090909085]
[null,null,null,"宿泊客延数",0.4,0.9,0.8,1.2,1.4,0.8,null,null,null,null,null,null,5.4999999999999991,4.2,130.95238095238093]
[null,null,"下川町","入込総数",6.6,8.6999999999999993,7.7,8.6,15.7,7.9,null,null,null,null,null,null,55.199999999999996,63.5,86.929133858267718,null,"温泉施設の入館者が毎月1,000人程減少していることが大きな要因として考えられる。その原因としては近隣市町村にある温泉施設の改修工事が終了し、営業が再開されたことが考えられる。",1]
[null,null,null,"内道外客",0.2,0.3,0.4,0.7,0.9,0.5,null,null,null,null,null,null,3,2.1999999999999997,136.36363636363637]
[null,null,null,"内道内客",{"$f":"+E751-E752","v":6.3999999999999995},{"$f":"+F751-F752","v":8.3999999999999986},7.3,7.8999999999999995,14.799999999999999,7.4,0,0,0,0,0,0,{"$f":"+Q751-Q752","v":52.199999999999996},61.3,85.154975530179442]
[null,null,null,"内日帰客",{"$f":"+E751-E755","v":6.1999999999999993},{"$f":"+F751-F755","v":8.1},7,7.6999999999999993,14.7,7.1000000000000005,0,0,0,0,0,0,{"$f":"+Q751-Q755","v":50.8},59.699999999999996,85.092127303182579]
[null,null,null,"内宿泊客",0.4,0.6,0.7,0.9,1,0.8,null,null,null,null,null,null,4.4000000000000004,3.8000000000000003,115.78947368421053]
[null,null,null,"宿泊客延数",0.7,1.1000000000000001,1.3,1.7,1.8,1.4,null,null,null,null,null,null,8,8.3000000000000007,96.385542168674689]
[null,null,"美深町","入込総数",17.5,36,33.200000000000003,52.9,57.4,42.7,null,null,null,null,null,null,239.7,236.1,101.52477763659466,null,"コロナ明けで、イベント規模も昨年に比べ拡大したことによりイベント関連の入込客数は増加が、チョウザメ館やトロッコ王国が前年比で伸び悩み、結果的に入込総数としては前年並みとなった。\n"]
[null,null,null,"内道外客",3.4,7.1,7.3,11.7,12.5,9,null,null,null,null,null,null,51,53.8,94.79553903345726]
[null,null,null,"内道内客",{"$f":"+E757-E758","v":14.1},{"$f":"+F757-F758","v":28.9},25.900000000000002,41.2,44.9,33.700000000000003,0,0,0,0,0,0,{"$f":"+Q757-Q758","v":188.7},182.29999999999998,103.51069665386726]
[null,null,null,"内日帰客",{"$f":"+E757-E761","v":17},{"$f":"+F757-F761","v":35},31.800000000000004,50.8,55.3,41.300000000000004,0,0,0,0,0,0,{"$f":"+Q757-Q761","v":231.2},228.20000000000002,101.31463628396142]
[null,null,null,"内宿泊客",0.5,1,1.4,2.1,2.1,1.4,null,null,null,null,null,null,8.5,7.9,107.59493670886076]
[null,null,null,"宿泊客延数",0.6,1.7,2,3.1,3.5,2.2000000000000002,null,null,null,null,null,null,13.100000000000001,12.1,108.26446280991738]
[null,null,"音威子府村","入込総数",2.8,4.5,4.3,5.5,5.4,4.4000000000000004,null,null,null,null,null,null,26.9,36.099999999999994,74.515235457063724,null,"昨年の上半期は、名産品である黒そばの製麺所が廃業することで、特需が生まれていたため増加していたことが要因と考えられます。",1]
[null,null,null,"内道外客",0.1,0.8,1.1000000000000001,1.2,1.5,1,null,null,null,null,null,null,5.7,7.8999999999999995,72.151898734177223]
[null,null,null,"内道内客",{"$f":"+E763-E764","v":2.6999999999999997},{"$f":"+F763-F764","v":3.7},3.1999999999999997,4.3,3.9000000000000004,3.4000000000000004,0,0,0,0,0,0,{"$f":"+Q763-Q764","v":21.2},28.200000000000003,75.17730496453899]
[null,null,null,"内日帰客",{"$f":"+E763-E767","v":2.6999999999999997},{"$f":"+F763-F767","v":4.2},3.9,5,4.8000000000000007,4,0,0,0,0,0,0,{"$f":"+Q763-Q767","v":24.599999999999998},33.9,72.56637168141593]
[null,null,null,"内宿泊客",0.1,0.3,0.4,0.5,0.6,0.4,null,null,null,null,null,null,2.2999999999999998,2.2000000000000002,104.54545454545452]
[null,null,null,"宿泊客延数",0.2,0.6,0.9,0.8,0.9,0.7,null,null,null,null,null,null,4.0999999999999996,4.9000000000000004,83.673469387755091]
[null,null,"中川町","入込総数",5.3,8.4,8.9,12.9,14.2,12,null,null,null,null,null,null,61.7,63.900000000000006,96.557120500782474,null,"入込客数は昨年度と大きな差はなかった。\n9月には今までコロナウイルスの影響で小規模開催となっていた、なかがわ秋味まつり・北海道丸太押し相撲大会を例年どおり開催することができ、観光客の増加につながったと思われる。",1]
[null,null,null,"内道外客",0.3,0.4,0.5,0.6,0.9,0.6,null,null,null,null,null,null,3.3,3.3000000000000003,99.999999999999986]
[null,null,null,"内道内客",{"$f":"+E769-E770","v":5},{"$f":"+F769-F770","v":8},8.4,12.3,13.299999999999999,11.4,0,0,0,0,0,0,{"$f":"+Q769-Q770","v":58.400000000000006},60.6,96.369636963696379]
[null,null,null,"内日帰客",{"$f":"+E769-E773","v":5},{"$f":"+F769-F773","v":7.9},8.4,12,13,11.7,0,0,0,0,0,0,{"$f":"+Q769-Q773","v":58},59.7,97.152428810720266]
[null,null,null,"内宿泊客",0.3,0.5,0.5,0.9,1.2,0.3,null,null,null,null,null,null,3.7,4.2,88.095238095238088]
[null,null,null,"宿泊客延数",0.4,0.9,0.9,1.4,1.6,0.8,null,null,null,null,null,null,6,6.7,89.552238805970148]
[null,null,"幌加内町","入込総数",4.4000000000000004,9.1,9.4,14.7,18.8,59.2,null,null,null,null,null,null,115.6,135.4,85.376661742983742,null,"朱鞠内湖でのヒグマによる死亡事故の影響により、朱鞠内湖周辺の観光施設はもちろんのこと、観光拠点である朱鞠内湖の影響は、他の観光施設にも影響が出ており、町全域で入れ込み数が減少する結果となった。",1]
[null,null,null,"内道外客",0.5,1,1.1000000000000001,1.2,1.5,4.7,null,null,null,null,null,null,10,11.8,84.745762711864401]
[null,null,null,"内道内客",{"$f":"+E775-E776","v":3.9000000000000004},{"$f":"+F775-F776","v":8.1},8.3000000000000007,13.5,17.3,54.5,0,0,0,0,0,0,{"$f":"+Q775-Q776","v":105.6},123.6,85.436893203883486]
[null,null,null,"内日帰客",{"$f":"+E775-E779","v":4.4000000000000004},{"$f":"+F775-F779","v":9},9,14,17.400000000000002,57.800000000000004,0,0,0,0,0,0,{"$f":"+Q775-Q779","v":111.6},122.30000000000001,91.251022076860167]
[null,null,null,"内宿泊客",0,0.1,0.4,0.7,1.4,1.4,null,null,null,null,null,null,3.9999999999999996,13.100000000000001,30.534351145038162]
[null,null,null,"宿泊客延数",0,0.2,0.4,0.8,1.9,1.6,null,null,null,null,null,null,4.9000000000000004,13.3,36.84210526315789]
[null,"留萌振興局計",null,"入込総数",{"$f":"+E787+E793+E802+E808+E814+E820+E826+E832","v":92.891000000000005},226.63900000000001,190.208,298.02699999999999,306.79899999999998,191.32100000000003,0,0,0,0,0,0,1305.885,{"$f":"+R787+R793+R802+R808+R814+R820+R826+R832","v":1105.1999999999998},118.1582519001086]
[null,null,null,"内道外客",8.4409999999999989,21.108000000000001,18.768000000000001,34.758000000000003,39.218000000000004,19.258999999999997,0,0,0,0,0,0,141.55199999999999,129.30000000000001,109.47563805104407]
[null,null,null,"内道内客",84.45,205.53100000000003,171.44,263.26900000000006,267.58100000000002,172.06200000000001,0,0,0,0,0,0,1164.3330000000001,975.90000000000009,119.30863818014141]
[null,null,null,"内日帰客",88.772000000000006,217.81399999999999,178.67799999999997,272.75700000000001,281.71600000000001,181.29799999999997,0,0,0,0,0,0,1221.0350000000001,1019.3999999999999,119.7797724151462]
[null,null,null,"内宿泊客",4.1189999999999998,8.8249999999999993,11.530000000000001,25.270000000000003,25.082999999999998,10.023,0,0,0,0,0,0,84.85,85.800000000000011,98.892773892773874]
[null,null,null,"宿泊客延数",4.5289999999999999,9.9599999999999991,12.874000000000001,29.925000000000004,29.857999999999997,11.256999999999998,0,0,0,0,0,0,98.402999999999992,104.4,94.255747126436773]
[null,null,"留萌市","入込総数",24.6,54.5,58.3,90.9,82.9,46.6,null,null,null,null,null,null,{"$f":"SUM(E787:P787)","v":357.8},319.3,112.05762605699969,null,"入込数の増加要因として、新型コロナウイルス感染症に係る行動制限等がなくなったことによる旅行需要の増加や、各イベントが再開されたことが考えられる。",1]
[null,null,null,"内道外客",0.7,1.6,1.7,2.7,2.5,1.4,null,null,null,null,null,null,10.6,9.6,110.41666666666667]
[null,null,null,"内道内客",{"$f":"+E787-E788","v":23.900000000000002},{"$f":"+F787-F788","v":52.9},56.599999999999994,88.2,80.400000000000006,45.2,0,0,0,0,0,0,{"$f":"+Q787-Q788","v":347.2},309.70000000000005,112.10849208911849]
[null,null,null,"内日帰客",{"$f":"+E787-E791","v":23.8},{"$f":"+F787-F791","v":53},56.699999999999996,88.600000000000009,81,45.5,0,0,0,0,0,0,{"$f":"+Q787-Q791","v":348.6},310.59999999999997,112.23438506117193]
[null,null,null,"内宿泊客",0.8,1.5,1.6,2.2999999999999998,1.9,1.1000000000000001,null,null,null,null,null,null,9.1999999999999993,8.6999999999999993,105.74712643678161]
[null,null,null,"宿泊客延数",0.9,1.9,1.9,2.8,2.2999999999999998,1.4,null,null,null,null,null,null,11.2,12.299999999999999,91.056910569105696]
[null,null,"増毛町","入込総数",12.9,70.900000000000006,24.5,52.6,44.5,42.9,null,null,null,null,null,null,248.3,182.49999999999997,136.05479452054797,null,"今年度は町内イベント（春の味まつり、港まつり、秋の味まつり）を再開したため、入込が増加したと考えられる。",1]
[null,null,null,"内道外客",0.5,3.6,1.4,4,3.2,2.7,null,null,null,null,null,null,15.399999999999999,11.9,129.41176470588235]
[null,null,null,"内道内客",{"$f":"+E793-E794","v":12.4},{"$f":"+F793-F794","v":67.300000000000011},23.1,48.6,41.3,40.199999999999996,0,0,0,0,0,0,{"$f":"+Q793-Q794","v":232.9},170.6,136.51817116060963]
[null,null,null,"内日帰客",{"$f":"+E793-E797","v":12.700000000000001},{"$f":"+F793-F797","v":69.900000000000006},23.4,49.800000000000004,41.3,41.5,0,0,0,0,0,0,{"$f":"+Q793-Q797","v":238.60000000000002},172.6,138.23870220162226]
[null,null,null,"内宿泊客",0.2,1,1.1000000000000001,2.8,3.2,1.4,null,null,null,null,null,null,9.7000000000000011,9.9000000000000021,97.979797979797965]
[null,null,null,"宿泊客延数",0.2,1,1.1000000000000001,2.8,3.2,1.4,null,null,null,null,null,null,9.7000000000000011,9.9000000000000021,97.979797979797965]
[{"$f":"A1","v":"１　令和５年度（2023年度）上期　市町村別・月別観光入込客数"}]
[null,null,null,null,null,null,null,null,null,null,null,null,null,null,null,null,null,null,"単位：入込総数→千人、宿泊客延数→千人泊、対前年比→％"]
["圏　域","振興局","市町村名","区　分","４　月","５　月","６　月","７　月","８　月","９　月","１０月","１１月","１２月","１　月","２　月","３　月","合計",{"$f":"$R$3","v":"R4年度上期"},"対前年比"]
[null,null,"小平町","入込総数",8.9,13.6,14.1,21.2,35,15,null,null,null,null,null,null,{"$f":"SUM(E802:P802)","v":107.8},114.7,{"$f":"IF(Q802=0,\"－\",Q802/R802*100)","v":93.984306887532682},null,"本年の5月から6月にかけ、ゆったりかんが改修工事の為、全館休業となっていたため、その分全体の入込は減となった。",1]
[null,null,null,"内道外客",2.9,6.9,6.2,15.6,18.600000000000001,6,null,null,null,null,null,null,56.2,55.300000000000004,101.62748643761302]
["道　北","留　萌",null,"内道内客",{"$f":"+E802-E803","v":6},{"$f":"+F802-F803","v":6.6999999999999993},7.8999999999999995,5.6,16.399999999999999,9,0,0,0,0,0,0,{"$f":"+Q802-Q803","v":51.599999999999994},59.399999999999991,86.868686868686879]
[null,null,null,"内日帰客",{"$f":"+E802-E806","v":8.7000000000000011},{"$f":"+F802-F806","v":13.4},13.799999999999999,18.7,32,14.5,0,0,0,0,0,0,{"$f":"+Q802-Q806","v":101.1},106.69999999999999,94.75164011246487]
[null,null,null,"内宿泊客",0.2,0.2,0.3,2.5,3,0.5,null,null,null,null,null,null,6.7,7.9999999999999991,83.750000000000014]
[null,null,null,"宿泊客延数",0.2,0.2,0.3,2.9,3.7,0.6,null,null,null,null,null,null,7.8999999999999995,8.9,88.764044943820224]
[null,null,"苫前町","入込総数",8.1,15.9,15,28.6,25.6,15,null,null,null,null,null,null,108.19999999999999,17.799999999999997,607.86516853932585,null,"道の駅風Wとままえは、売店のリニューアルなどもあり、入込客数が増となっている。前年度整備のため閉館されていた道の駅や観光施設が、再開され大幅な増加になった。",1]
[null,null,null,"内道外客",0.5,2.2000000000000002,2,3.3,3.2,2,null,null,null,null,null,null,13.2,6.1,216.39344262295083]
[null,null,null,"内道内客",{"$f":"+E808-E809","v":7.6},{"$f":"+F808-F809","v":13.7},13,25.3,22.400000000000002,13,0,0,0,0,0,0,{"$f":"+Q808-Q809","v":94.999999999999986},11.700000000000001,811.96581196581178]
[null,null,null,"内日帰客",{"$f":"+E808-E812","v":7.5},{"$f":"+F808-F812","v":14.4},13.3,25.700000000000003,24.6,14.3,0,0,0,0,0,0,{"$f":"+Q808-Q812","v":99.799999999999983},12.5,798.39999999999986]
[null,null,null,"内宿泊客",0.6,1.5,1.7,2.9,1,0.7,null,null,null,null,null,null,8.3999999999999986,5.3,158.49056603773585]
[null,null,null,"宿泊客延数",0.6,1.5,1.7,2.9,1,0.7,null,null,null,null,null,null,8.3999999999999986,5.3,158.49056603773585]
[null,null,"羽幌町","入込総数",1.1000000000000001,2.5,3.7,10.3,10.3,2.6,null,null,null,null,null,null,30.500000000000004,29.5,103.38983050847459,null,"大幅な増減はしていない。"]
[null,null,null,"内道外客",0.1,0.5,1.2,1,0.9,0.6,null,null,null,null,null,null,4.3,4.5999999999999996,93.478260869565219]
[null,null,null,"内道内客",{"$f":"+E814-E815","v":1},{"$f":"+F814-F815","v":2},2.5,9.3000000000000007,9.4,2,0,0,0,0,0,0,{"$f":"+Q814-Q815","v":26.200000000000003},24.9,105.22088353413656]
[null,null,null,"内日帰客",{"$f":"+E814-E818","v":0.20000000000000007},{"$f":"+F814-F818","v":0.60000000000000009},1.1000000000000001,2.1000000000000014,2,0.60000000000000009,0,0,0,0,0,0,{"$f":"+Q814-Q818","v":6.600000000000005},7,94.285714285714363]
[null,null,null,"内宿泊客",0.9,1.9,2.6,8.1999999999999993,8.3000000000000007,2,null,null,null,null,null,null,23.9,22.5,106.22222222222221]
[null,null,null,"宿泊客延数",0.9,2.1,3,11.1,11.2,2.1,null,null,null,null,null,null,30.400000000000002,28.5,106.66666666666667]
[null,null,"初山別村","入込総数",2.1,5.2,5.4,9.3000000000000007,12.8,6.3,null,null,null,null,null,null,41.099999999999994,40.4,101.73267326732672,null,"キャンプブームのピークであった昨年度より減少しているものの、新型コロナの感染拡大により減少していた来客数が回復してきており、来客数の増加となっている。",1]
[null,null,null,"内道外客",0.3,0.8,0.9,1.5,2.1,1,null,null,null,null,null,null,6.6,6.5,101.53846153846153]
[null,null,null,"内道内客",{"$f":"+E820-E821","v":1.8},{"$f":"+F820-F821","v":4.4000000000000004},4.5,7.8000000000000007,10.700000000000001,5.3,0,0,0,0,0,0,{"$f":"+Q820-Q821","v":34.499999999999993},33.9,101.76991150442475]
[null,null,null,"内日帰客",{"$f":"+E820-E824","v":1.9000000000000001},{"$f":"+F820-F824","v":4.7},4.6000000000000005,7.5000000000000009,10.4,5.6,0,0,0,0,0,0,{"$f":"+Q820-Q824","v":34.699999999999996},30.9,112.2977346278317]
[null,null,null,"内宿泊客",0.2,0.5,0.8,1.8,2.4,0.7,null,null,null,null,null,null,6.3999999999999995,9.5,67.368421052631575]
[null,null,null,"宿泊客延数",0.2,0.5,0.8,1.8,2.4,0.7,null,null,null,null,null,null,6.3999999999999995,9.5,67.368421052631575]
[null,null,"遠別町","入込総数",11.891,18.638999999999999,16.108000000000001,18.927,25.099,17.120999999999999,null,null,null,null,null,null,107.785,101.89999999999999,105.77526987242396,null,"大幅な増減はしていない",1]
[null,null,null,"内道外客",3.2410000000000001,5.1079999999999997,4.3680000000000003,5.1580000000000004,7.1180000000000003,4.6589999999999998,null,null,null,null,null,null,29.652000000000001,30.4,97.539473684210535]
[null,null,null,"内道内客",{"$f":"+E826-E827","v":8.65},{"$f":"+F826-F827","v":13.530999999999999},11.74,13.768999999999998,17.981000000000002,12.462,0,0,0,0,0,0,{"$f":"+Q826-Q827","v":78.132999999999996},71.5,109.27692307692307]
[null,null,null,"内日帰客",{"$f":"+E826-E830","v":11.672000000000001},{"$f":"+F826-F830","v":18.314},15.778,18.556999999999999,24.716000000000001,16.797999999999998,0,0,0,0,0,0,{"$f":"+Q826-Q830","v":105.83499999999999},99.199999999999989,106.68850806451613]
[null,null,null,"内宿泊客",0.219,0.32500000000000001,0.33,0.37,0.38300000000000001,0.32300000000000001,null,null,null,null,null,null,1.9500000000000002,2.6999999999999997,72.222222222222229]
[null,null,null,"宿泊客延数",0.52900000000000003,0.86,0.97399999999999998,1.2250000000000001,1.1579999999999999,1.0569999999999999,null,null,null,null,null,null,5.8030000000000008,10.8,53.731481481481481]
[null,null,"天塩町","入込総数",23.3,45.4,53.1,66.2,70.599999999999994,45.8,null,null,null,null,null,null,304.40000000000003,299.10000000000002,101.77198261451019,null,"コロナも落ち着き、昨年度から入込客数の回復が見られる",1]
[null,null,null,"内道外客",0.2,0.4,1,1.5,1.6,0.9,null,null,null,null,null,null,5.6000000000000005,4.9000000000000004,114.28571428571428]
[null,null,null,"内道内客",{"$f":"+E832-E833","v":23.1},{"$f":"+F832-F833","v":45},52.1,64.7,69,44.9,0,0,0,0,0,0,{"$f":"+Q832-Q833","v":298.8},294.2,101.56356220258328]
[null,null,null,"内日帰客",{"$f":"+E832-E836","v":22.3},{"$f":"+F832-F836","v":43.5},50,61.800000000000004,65.699999999999989,42.5,0,0,0,0,0,0,{"$f":"+Q832-Q836","v":285.8},279.90000000000003,102.1078956770275]
[null,null,null,"内宿泊客",1,1.9,3.1,4.4000000000000004,4.9000000000000004,3.3,null,null,null,null,null,null,18.600000000000001,19.2,96.875000000000014]
[null,null,null,"宿泊客延数",1,1.9,3.1,4.4000000000000004,4.9000000000000004,3.3,null,null,null,null,null,null,18.600000000000001,19.2,96.875000000000014]
[null,"宗谷総合振興局計",null,"入込総数",{"$f":"+E844+E850+E859+E865+E871+E877+E883+E889+E895+E901","v":79.600000000000009},192.50000000000003,259,340.7,283.3,223.00000000000003,null,0,0,0,0,0,1378.1000000000001,{"$f":"+R844+R850+R859+R865+R871+R877+R883+R889+R895+R901","v":1206.3999999999999},114.23242705570293]
[null,null,null,"内道外客",32.599999999999994,68.900000000000006,120.89999999999998,155.09999999999997,124.79999999999998,91.40000000000002,null,0,0,0,0,0,593.69999999999982,510.80000000000007,116.22944400939697]
[null,null,null,"内道内客",47,123.6,138.1,185.59999999999997,158.50000000000003,131.60000000000002,null,0,0,0,0,0,784.4000000000002,695.59999999999991,112.76595744680856]
[null,null,null,"内日帰客",56.4,147.80000000000004,188.1,263.2,216.10000000000002,165.90000000000003,null,0,0,0,0,0,1037.5,885.30000000000007,117.19191234609735]
[null,null,null,"内宿泊客",23.2,44.7,70.900000000000006,77.5,67.2,57.100000000000009,null,0,0,0,0,0,340.60000000000008,321.10000000000002,106.07287449392715]
[null,null,null,"宿泊客延数",30.599999999999998,55.7,88.199999999999989,98.6,87.6,74.099999999999994,null,0,0,0,0,0,434.8,398.80000000000007,109.02708124373117]
[null,null,"稚内市","入込総数",23.4,69.599999999999994,70.900000000000006,85,72.2,52.4,null,null,null,null,null,null,{"$f":"SUM(E844:P844)","v":373.5},339.7,109.94995584339122,null,"新型コロナウイルスの分類変更による旅行需要の高まり。東京羽田便の2便体制（6月～9月）の維持、団体ツアーの催行、各種広告などの影響による増加",1]
[null,null,null,"内道外客",16.399999999999999,27.3,51.4,64.7,59.3,34.200000000000003,null,null,null,null,null,null,253.3,227.10000000000002,111.53676794363716]
[null,null,null,"内道内客",{"$f":"+E844-E845","v":7},{"$f":"+F844-F845","v":42.3},19.500000000000007,20.299999999999997,12.900000000000006,18.199999999999996,0,0,0,0,0,0,{"$f":"+Q844-Q845","v":120.19999999999999},112.6,106.74955595026643]
[null,null,null,"内日帰客",{"$f":"+E844-E848","v":7.3999999999999986},{"$f":"+F844-F848","v":42.999999999999993},39.200000000000003,49.2,39,22.599999999999998,0,0,0,0,0,0,{"$f":"+Q844-Q848","v":200.39999999999998},170,117.88235294117646]
[null,null,null,"内宿泊客",16,26.6,31.7,35.799999999999997,33.200000000000003,29.8,null,null,null,null,null,null,173.10000000000002,169.70000000000002,102.00353565114908]
[null,null,null,"宿泊客延数",22.2,34.5,42.4,48.1,46,41.3,null,null,null,null,null,null,234.5,220.20000000000002,106.49409627611261]
[null,null,"幌延町","入込総数",4,10,14.2,27.2,24.6,11.6,null,null,null,null,null,null,91.6,73.3,124.96589358799454,null,"コロナも落ち着き、本町を訪れる方が増えたこと、イベントなどが通常開催となったことから入込が増加したと見受ける。"]
[null,null,null,"内道外客",0.8,2.5,2.8,5.4,5.8,3.5,null,null,null,null,null,null,20.8,9.6999999999999993,214.43298969072168]
[null,null,null,"内道内客",{"$f":"+E850-E851","v":3.2},{"$f":"+F850-F851","v":7.5},11.399999999999999,21.799999999999997,18.8,8.1,0,0,0,0,0,0,{"$f":"+Q850-Q851","v":70.8},63.6,111.32075471698113]
[null,null,null,"内日帰客",{"$f":"+E850-E854","v":3.7},{"$f":"+F850-F854","v":9.4},12.799999999999999,25.599999999999998,22.700000000000003,10.9,0,0,0,0,0,0,{"$f":"+Q850-Q854","v":85.1},66.8,127.39520958083833]
[null,null,null,"内宿泊客",0.3,0.6,1.4,1.6,1.9,0.7,null,null,null,null,null,null,6.5,6.5,100]
[null,null,null,"宿泊客延数",0.3,0.6,1.4,1.6,1.9,0.7,null,null,null,null,null,null,6.5,6.5,100]
[{"$f":"A1","v":"１　令和５年度（2023年度）上期　市町村別・月別観光入込客数"}]
[null,null,null,null,null,null,null,null,null,null,null,null,null,null,null,null,null,null,"単位：入込総数→千人、宿泊客延数→千人泊、対前年比→％"]
["圏　域","振興局","市町村名","区　分","４　月","５　月","６　月","７　月","８　月","９　月","１０月","１１月","１２月","１　月","２　月","３　月","合計",{"$f":"$R$3","v":"R4年度上期"},"対前年比"]
[null,null,"猿払村","入込総数",5.3,14.2,16,14,15,14.4,null,null,null,null,null,null,{"$f":"SUM(E859:P859)","v":78.900000000000006},86.6,{"$f":"IF(Q859=0,\"－\",Q859/R859*100)","v":91.108545034642034},null,"対前年比でみると増減は大きくないが、２年ぶりに猿払村観光まつりを開催したこともあり、宿泊者が主に増加している。\nイベント等も今年度から復活してきているため、コロナ以前の入込客数に戻ってきている。"]
[null,null,null,"内道外客",0.2,0.7,1,0.8,0.8,0.8,null,null,null,null,null,null,4.3,5.0999999999999996,84.313725490196077]
["道　北","宗　谷",null,"内道内客",{"$f":"+E859-E860","v":5.0999999999999996},{"$f":"+F859-F860","v":13.5},15,13.2,14.2,13.6,null,0,0,0,0,0,{"$f":"+Q859-Q860","v":74.600000000000009},81.5,91.533742331288366]
[null,null,null,"内日帰客",{"$f":"+E859-E863","v":4.7},{"$f":"+F859-F863","v":13.2},14.2,12.4,13.6,13.1,null,0,0,0,0,0,{"$f":"+Q859-Q863","v":71.2},78.400000000000006,90.816326530612244]
[null,null,null,"内宿泊客",0.6,1,1.8,1.6,1.4,1.3,null,null,null,null,null,null,7.7,8.1999999999999993,93.902439024390247]
[null,null,null,"宿泊客延数",0.6,1,1.8,1.6,1.4,1.3,null,null,null,null,null,null,7.7,8.1999999999999993,93.902439024390247]
[null,null,"浜頓別町","入込総数",21,32.1,43.2,61.4,56.2,45.7,null,null,null,null,null,null,259.60000000000002,233.70000000000002,111.08258451005564,null,"昨年度と比較し増加に転じた。\n要因として、5月8日に新型コロナウイルス感染症の感染症法上の位置づけが「5類」に移行され、全国的に旅行需要がコロナ禍以前に戻りつつあること、イベントをスムーズに執り行えるようになったことが考えられる。\n\n",1]
[null,null,null,"内道外客",12.2,18.7,25.2,35.799999999999997,32.799999999999997,26.7,null,null,null,null,null,null,151.39999999999998,136.1,111.24173401910357]
[null,null,null,"内道内客",{"$f":"+E865-E866","v":8.8000000000000007},{"$f":"+F865-F866","v":13.400000000000002},18.000000000000004,25.6,23.400000000000006,19.000000000000004,0,0,0,0,0,0,{"$f":"+Q865-Q866","v":108.20000000000005},97.6,110.86065573770496]
[null,null,null,"内日帰客",{"$f":"+E865-E869","v":20},{"$f":"+F865-F869","v":30.8},41.7,59.6,54.6,44.1,0,0,0,0,0,0,{"$f":"+Q865-Q869","v":250.8},224.89999999999998,111.5162294353046]
[null,null,null,"内宿泊客",1,1.3,1.5,1.8,1.6,1.6,null,null,null,null,null,null,8.7999999999999989,8.8000000000000007,99.999999999999972]
[null,null,null,"宿泊客延数",1.4,1.7,1.5,2.2000000000000002,2.1,2.2000000000000002,null,null,null,null,null,null,11.100000000000001,11.3,98.230088495575231]
[null,null,"中頓別町","入込総数",4.5999999999999996,10.4,10.6,13.1,14.4,11.5,null,null,null,null,null,null,64.599999999999994,54.3,118.96869244935542,null,"新型コロナウイルスによる外出規制や外出自粛の撤廃など、情勢が変化したことにより、全体的に増加傾向であった。",1]
[null,null,null,"内道外客",0.2,0.6,0.6,1.8,1,0.7,null,null,null,null,null,null,4.9000000000000004,3.0999999999999996,158.06451612903228]
[null,null,null,"内道内客",{"$f":"+E871-E872","v":4.3999999999999995},{"$f":"+F871-F872","v":9.8000000000000007},10,11.299999999999999,13.4,10.8,0,0,0,0,0,0,{"$f":"+Q871-Q872","v":59.699999999999996},51.2,116.60156249999997]
[null,null,null,"内日帰客",{"$f":"+E871-E875","v":4.3999999999999995},{"$f":"+F871-F875","v":9.9},10,12.5,13.6,10.9,0,0,0,0,0,0,{"$f":"+Q871-Q875","v":61.3},51.599999999999994,118.79844961240312]
[null,null,null,"内宿泊客",0.2,0.5,0.6,0.6,0.8,0.6,null,null,null,null,null,null,3.3000000000000003,2.7,122.22222222222223]
[null,null,null,"宿泊客延数",0.2,0.5,0.6,0.8,0.9,0.7,null,null,null,null,null,null,3.6999999999999993,2.9000000000000004,127.58620689655169]
[null,null,"枝幸町","入込総数",8.5,15.4,19.3,52,29.8,27.5,null,null,null,null,null,null,152.5,106.69999999999999,142.9240862230553,null,"４年ぶりとなる枝幸かにまつりの開催や、多くのイベントが各地で通常通りに開催されたことが、観光入込客数の増加に繋がったと考えられる。"]
[null,null,null,"内道外客",0.8,4.5999999999999996,4.8,15.6,8.9,6.9,null,null,null,null,null,null,41.599999999999994,28.5,145.96491228070175]
[null,null,null,"内道内客",{"$f":"+E877-E878","v":7.7},{"$f":"+F877-F878","v":10.8},14.5,36.4,20.9,20.6,0,0,0,0,0,0,{"$f":"+Q877-Q878","v":110.9},78.199999999999989,141.81585677749365]
[null,null,null,"内日帰客",{"$f":"+E877-E881","v":6.6},{"$f":"+F877-F881","v":12.600000000000001},16.600000000000001,48.4,26.3,24.1,0,0,0,0,0,0,{"$f":"+Q877-Q881","v":134.6},89.100000000000009,151.06621773288438]
[null,null,null,"内宿泊客",1.9,2.8,2.7,3.6,3.5,3.4,null,null,null,null,null,null,17.899999999999999,17.599999999999998,101.70454545454545]
[null,null,null,"宿泊客延数",2.1,3.1,3,4,3.9,3.8,null,null,null,null,null,null,19.899999999999999,19.600000000000001,101.53061224489794]
[null,null,"豊富町","入込総数",7,13.3,16.600000000000001,18.100000000000001,18.3,14.1,null,null,null,null,null,null,87.4,88.2,99.092970521541957,null,"・温泉地区については、施設の臨時休館の影響によるものと思料。\n・サロベツ地区（確認中）\n・兜沼地区については、キャンプブームが落ち着きを見せている影響と思料。",1]
[null,null,null,"内道外客",0.8,1.2,2.2999999999999998,2.5,1.6,1.3,null,null,null,null,null,null,9.7000000000000011,11.299999999999999,85.840707964601791]
[null,null,null,"内道内客",{"$f":"+E883-E884","v":6.2},{"$f":"+F883-F884","v":12.100000000000001},14.3,15.600000000000001,16.7,12.799999999999999,0,0,0,0,0,0,{"$f":"+Q883-Q884","v":77.7},76.900000000000006,101.04031209362809]
[null,null,null,"内日帰客",{"$f":"+E883-E887","v":5.2},{"$f":"+F883-F887","v":10.9},13.200000000000001,13.600000000000001,13.4,10.399999999999999,0,0,0,0,0,0,{"$f":"+Q883-Q887","v":66.7},68.900000000000006,96.806966618287376]
[null,null,null,"内宿泊客",1.8,2.4,3.4,4.5,4.9000000000000004,3.7,null,null,null,null,null,null,20.7,19.299999999999997,107.25388601036269]
[null,null,null,"宿泊客延数",1.9,2.7,3.8,5,5.4,4,null,null,null,null,null,null,22.799999999999997,21.3,107.04225352112675]
[null,null,"礼文町","入込総数",1.4,8.3000000000000007,20.2,20.100000000000001,13.2,11.8,null,null,null,null,null,null,75,63.300000000000004,118.48341232227489,null,"コロナ禍で消失した観光需要や消費が回復に向かっているため。",1]
[null,null,null,"内道外客",0.6,3.7,17.2,16.100000000000001,10.6,8.9,null,null,null,null,null,null,57.1,48.300000000000004,118.21946169772255]
[null,null,null,"内道内客",{"$f":"+E889-E890","v":0.79999999999999993},{"$f":"+F889-F890","v":4.6000000000000005},3,4,2.5999999999999996,2.9000000000000004,0,0,0,0,0,0,{"$f":"+Q889-Q890","v":17.899999999999999},15,119.33333333333331]
[null,null,null,"内日帰客",{"$f":"+E889-E893","v":0.99999999999999989},{"$f":"+F889-F893","v":5.3000000000000007},9.1,9.1000000000000014,5.6,6.2000000000000011,0,0,0,0,0,0,{"$f":"+Q889-Q893","v":36.299999999999997},30.8,117.85714285714283]
[null,null,null,"内宿泊客",0.4,3,11.1,11,7.6,5.6,null,null,null,null,null,null,38.700000000000003,32.5,119.07692307692308]
[null,null,null,"宿泊客延数",0.5,3.9,14.1,13.7,9.5,6.8,null,null,null,null,null,null,48.5,39.800000000000004,121.85929648241205]
[null,null,"利尻町","入込総数",2.2000000000000002,9.6,24,24.9,19.8,17,null,null,null,null,null,null,97.5,80.3,121.41967621419676,null,"今年の5月から新型コロナウイルス感染症が2類から5類に移行後、外出等の行動制限などが解除されたため、フェリー及び飛行機での来島者数が増加傾向にあったと考える。ただ、ツアー客数は昨年度より減少したが、その分個人客の増加に伴い、入込数は増加している。"]
[null,null,null,"内道外客",0.3,4.8,7.8,6.2,2,4.2,null,null,null,null,null,null,25.299999999999997,20.8,121.63461538461537]
[null,null,null,"内道内客",{"$f":"+E895-E896","v":1.9000000000000001},{"$f":"+F895-F896","v":4.8},16.2,18.7,17.8,12.8,0,0,0,0,0,0,{"$f":"+Q895-Q896","v":72.2},59.5,121.34453781512606]
[null,null,null,"内日帰客",{"$f":"+E895-E899","v":1.9000000000000001},{"$f":"+F895-F899","v":7.8},18.899999999999999,19.899999999999999,15.9,13.8,0,0,0,0,0,0,{"$f":"+Q895-Q899","v":78.2},63.1,123.93026941362916]
[null,null,null,"内宿泊客",0.3,1.8,5.0999999999999996,5,3.9,3.2,null,null,null,null,null,null,19.299999999999997,17.2,112.20930232558138]
[null,null,null,"宿泊客延数",0.5,2.2999999999999998,6,6.3,5.4,4.3,null,null,null,null,null,null,24.8,21.5,115.34883720930233]
[null,null,"利尻富士町","入込総数",2.2000000000000002,9.6,24,24.9,19.8,17,null,null,null,null,null,null,97.5,80.3,121.41967621419676,null,"今年の5月から新型コロナウイルス感染症が2類から5類に移行後、外出等の行動制限が解除されたため、フェリー及び飛行機での来島者数が増加傾向となった。しかし、ツアー客は昨年度より減少傾向となっており、その分個人客の増加に伴い、入込数は増加しているものの、コロナ前との対比では80.4％と回復には至っていない状況にある。\n宿泊も、アフターコロナで働き手不足の状況が改善できておらず、コロナ前（H30）対比で76.6％にとどまっている。",1]
[null,null,null,"内道外客",0.3,4.8,7.8,6.2,2,4.2,null,null,null,null,null,null,25.299999999999997,20.8,121.63461538461537]
[null,null,null,"内道内客",{"$f":"+E901-E902","v":1.9000000000000001},{"$f":"+F901-F902","v":4.8},16.2,18.7,17.8,12.8,0,0,0,0,0,0,{"$f":"+Q901-Q902","v":72.2},59.5,121.34453781512606]
[null,null,null,"内日帰客",{"$f":"+E901-E905","v":1.5000000000000002},{"$f":"+F901-F905","v":4.8999999999999995},12.4,12.899999999999999,11.4,9.8000000000000007,0,0,0,0,0,0,{"$f":"+Q901-Q905","v":52.9},41.7,126.85851318944843]
[null,null,null,"内宿泊客",0.7,4.7,11.6,12,8.4,7.2,null,null,null,null,null,null,44.6,38.6,115.54404145077719]
[null,null,null,"宿泊客延数",0.9,5.4,13.6,15.3,11.1,9,null,null,null,null,null,null,55.300000000000004,47.5,116.42105263157896]
["オホーツク圏域計",null,null,"入込総数",{"$f":"+E916","v":379.79999999999995},1065.8999999999999,791.3,1181.8,1360.7,966.39999999999986,0,0,0,0,0,0,5745.9,5298.0999999999995,108.45208659708199]
[null,null,null,"内道外客",87.899999999999991,294.8,285.30000000000007,420,490.90000000000009,354.3,0,0,0,0,0,0,1933.1999999999998,{"$f":"+R917","v":1649.5},117.19915125795694]
[null,null,null,"内道内客",291.89999999999998,771.09999999999991,506,761.80000000000007,869.79999999999984,612.1,0,0,0,0,0,0,3812.7000000000003,{"$f":"+R918","v":3648.6},104.49761552376256]
[null,null,null,"内日帰客",313.70000000000005,943.6,657.40000000000009,1018.5,1175,818.7,0,0,0,0,0,0,4926.8999999999996,{"$f":"+R919","v":4552},108.23594024604569]
[null,null,null,"内宿泊客",66.100000000000023,122.29999999999998,133.89999999999998,163.29999999999998,185.7,147.69999999999993,0,0,0,0,0,0,819.00000000000011,{"$f":"+R920","v":746.0999999999998},109.77080820265384]
[null,null,null,"宿泊客延数",79.899999999999991,140.79999999999998,154.39999999999998,186.89999999999998,208.1,167.39999999999995,0,0,0,0,0,0,937.5,{"$f":"+R921","v":873.1999999999997},107.36371965185528]
[{"$f":"A1","v":"１　令和５年度（2023年度）上期　市町村別・月別観光入込客数"}]
[null,null,null,null,null,null,null,null,null,null,null,null,null,null,null,null,null,null,"単位：入込総数→千人、宿泊客延数→千人泊、対前年比→％"]
["圏　域","振興局","市町村名","区　分","４　月","５　月","６　月","７　月","８　月","９　月","１０月","１１月","１２月","１　月","２　月","３　月","合計",{"$f":"$R$3","v":"R4年度上期"},"対前年比"]
[null,"オホーツク総合振興局計",null,"入込総数",{"$f":"+E922+E928+E934+E940+E946+E952+E958+E964+E973+E979+E985+E991+E997+E1003+E1009+E1015+E1021+E1030","v":379.79999999999995},1065.8999999999999,791.3,1181.8,1360.7,966.39999999999986,0,0,0,0,0,0,5745.9,{"$f":"+R922+R928+R934+R940+R946+R952+R958+R964+R973+R979+R985+R991+R997+R1003+R1009+R1015+R1021+R1030","v":5298.0999999999995},{"$f":"IF(Q916=0,\"－\",Q916/R916*100)","v":108.45208659708199}]
[null,null,null,"内道外客",87.899999999999991,294.8,285.30000000000007,420,490.90000000000009,354.3,0,0,0,0,0,0,1933.1999999999998,1649.5,117.19915125795694]
["オホーツク",null,null,"内道内客",{"$f":"+E924+E930+E936+E942+E948+E954+E960+E966+E975+E981+E987+E993+E999+E1005+E1011+E1017+E1023+E1032","v":291.89999999999998},771.09999999999991,506,761.80000000000007,869.79999999999984,612.1,0,0,0,0,0,0,3812.7000000000003,3648.6,104.49761552376256]
[null,null,null,"内日帰客",{"$f":"+E925+E931+E937+E943+E949+E955+E961+E967+E976+E982+E988+E994+E1000+E1006+E1012+E1018+E1024+E1033","v":313.70000000000005},943.6,657.40000000000009,1018.5,1175,818.7,0,0,0,0,0,0,{"$f":"+Q925+Q931+Q937+Q943+Q949+Q955+Q961+Q967+Q976+Q982+Q988+Q994+Q1000+Q1006+Q1012+Q1018+Q1024+Q1033","v":4926.8999999999996},{"$f":"+R925+R931+R937+R943+R949+R955+R961+R967+R976+R982+R988+R994+R1000+R1006+R1012+R1018+R1024+R1033","v":4552},108.23594024604569]
[null,null,null,"内宿泊客",66.100000000000023,122.29999999999998,133.89999999999998,163.29999999999998,185.7,147.69999999999993,0,0,0,0,0,0,819.00000000000011,746.0999999999998,109.77080820265384]
[null,null,null,"宿泊客延数",79.899999999999991,140.79999999999998,154.39999999999998,186.89999999999998,208.1,167.39999999999995,0,0,0,0,0,0,937.5,873.1999999999997,107.36371965185528]
[null,null,"北見市","入込総数",62.5,134.69999999999999,114.3,128.6,157.69999999999999,125.4,null,null,null,null,null,null,{"$f":"SUM(E922:P922)","v":723.19999999999993},677.19999999999993,106.79267572356763,null,"新型コロナウイルス感染症の５類感染症移行に伴い、道外客を中心とした宿泊客が伸長した。",1]
[null,null,null,"内道外客",12.1,24.8,25.6,27.4,32.9,25.3,null,null,null,null,null,null,148.10000000000002,123.89999999999999,119.53188054882973]
[null,null,null,"内道内客",{"$f":"+E922-E923","v":50.4},{"$f":"+F922-F923","v":109.89999999999999},88.699999999999989,101.19999999999999,124.79999999999998,100.10000000000001,0,0,0,0,0,0,{"$f":"+Q922-Q923","v":575.09999999999991},553.30000000000007,103.93999638532438]
[null,null,null,"内日帰客",{"$f":"+E922-E926","v":27.799999999999997},{"$f":"+F922-F926","v":87.699999999999989},64,70.699999999999989,97.399999999999991,72.5,0,0,0,0,0,0,{"$f":"+Q922-Q926","v":420.09999999999997},405.4,103.62604834731131]
[null,null,null,"内宿泊客",34.700000000000003,47,50.3,57.9,60.3,52.9,null,null,null,null,null,null,303.09999999999997,271.79999999999995,111.51582045621782]
[null,null,null,"宿泊客延数",36.5,49.6,53.8,61.7,64.5,56.3,null,null,null,null,null,null,322.39999999999998,294.10000000000002,109.62257735464127]
[null,null,"網走市","入込総数",49.4,81.599999999999994,94.5,123.1,196.7,110,null,null,null,null,null,null,655.29999999999995,627.69999999999993,104.39700493866498,null,"【プラス要因】\n・全国旅行支援割の活用\n・入国制限解除に伴うインバウンドの増加\n【マイナス要因】\n・団体客の減少\n・道内客の減少",1]
[null,null,null,"内道外客",17,37.799999999999997,50.1,63.7,95.6,55.5,null,null,null,null,null,null,319.70000000000005,232.79999999999998,137.32817869415811]
[null,null,null,"内道内客",{"$f":"+E928-E929","v":32.4},{"$f":"+F928-F929","v":43.8},44.4,59.399999999999991,101.1,54.5,0,0,0,0,0,0,{"$f":"+Q928-Q929","v":335.59999999999991},394.9,84.983540136743457]
[null,null,null,"内日帰客",{"$f":"+E928-E932","v":35.200000000000003},{"$f":"+F928-F932","v":53.499999999999993},65.099999999999994,86.399999999999991,156.79999999999998,77.3,0,0,0,0,0,0,{"$f":"+Q928-Q932","v":474.29999999999995},444.40000000000003,106.7281728172817]
[null,null,null,"内宿泊客",14.2,28.1,29.4,36.700000000000003,39.9,32.700000000000003,null,null,null,null,null,null,181,183.29999999999998,98.745226404800874]
[null,null,null,"宿泊客延数",19.100000000000001,34.299999999999997,35.799999999999997,46.8,47.6,39.4,null,null,null,null,null,null,223,221.40000000000003,100.72267389340558]
[null,null,"紋別市","入込総数",11.2,34.4,24.5,118.2,41.6,34.200000000000003,null,null,null,null,null,null,264.10000000000002,175,150.91428571428574,null,"・新型コロナウイルス感染症の感染症法上の位置づけが５類感染症に移行したため。\n・日本入国に関する水際対策が終了したことにより、訪日観光客が増えたため。",1]
[null,null,null,"内道外客",4.2,12.8,9.1,44,15.5,12.7,null,null,null,null,null,null,98.3,65.099999999999994,150.99846390168972]
[null,null,null,"内道内客",{"$f":"+E934-E935","v":6.9999999999999991},{"$f":"+F934-F935","v":21.599999999999998},15.4,74.2,26.1,21.500000000000004,0,0,0,0,0,0,{"$f":"+Q934-Q935","v":165.8},109.9,150.86442220200183]
[null,null,null,"内日帰客",{"$f":"+E934-E938","v":8.6999999999999993},{"$f":"+F934-F938","v":27.9},19.2,111.3,33.9,27.800000000000004,0,0,0,0,0,0,{"$f":"+Q934-Q938","v":228.8},148.10000000000002,154.49020931802835]
[null,null,null,"内宿泊客",2.5,6.5,5.3,6.9,7.7,6.4,null,null,null,null,null,null,35.300000000000004,26.9,131.22676579925653]
[null,null,null,"宿泊客延数",9,15.1,14.5,14.9,16.100000000000001,14.2,null,null,null,null,null,null,83.8,82.100000000000009,102.07064555420217]
[null,null,"美幌町","入込総数",40.299999999999997,68.8,87,155.6,179.3,87.3,null,null,null,null,null,null,618.29999999999995,707.7,87.367528613819402,null,"昨年はレストハウスがリニューアルオープンしたてで、観光客が多く立ち寄った。\nそのため今年は昨年より少し落ち込んだ数字となったとみられる。"]
[null,null,null,"内道外客",4,6.9,8.6999999999999993,15.6,17.899999999999999,8.6999999999999993,null,null,null,null,null,null,61.8,70.8,87.288135593220346]
[null,null,null,"内道内客",{"$f":"+E940-E941","v":36.299999999999997},{"$f":"+F940-F941","v":61.9},78.3,140,161.4,78.599999999999994,0,0,0,0,0,0,{"$f":"+Q940-Q941","v":556.5},636.90000000000009,87.376354215732448]
[null,null,null,"内日帰客",{"$f":"+E940-E944","v":39.9},{"$f":"+F940-F944","v":68.2},86,154.19999999999999,178.10000000000002,86.1,0,0,0,0,0,0,{"$f":"+Q940-Q944","v":612.5},701,87.375178316690437]
[null,null,null,"内宿泊客",0.4,0.6,1,1.4,1.2,1.2,null,null,null,null,null,null,5.8,6.7,86.567164179104466]
[null,null,null,"宿泊客延数",0.5,0.8,1.4,2,1.9,1.9,null,null,null,null,null,null,8.5,7.8000000000000007,108.97435897435896]
[null,null,"津別町","入込総数",18.3,44.1,44.8,49.2,54.1,47,null,null,null,null,null,null,{"$f":"SUM(E946:P946)","v":257.5},264.60000000000002,97.316704459561592,null,"コロナ収束により、観光客が増加している傍ら、昨年度は宿泊施設利用者に対し実施した「つべつ割」による増加が多かったため、全体的に減少傾向にある。",1]
[null,null,null,"内道外客",5.0999999999999996,12.6,12.9,14.3,15.7,13.7,null,null,null,null,null,null,74.300000000000011,92.6,80.237580993520538]
[null,null,null,"内道内客",{"$f":"+E946-E947","v":13.200000000000001},{"$f":"+F946-F947","v":31.5},31.9,34.900000000000006,38.400000000000006,33.299999999999997,0,0,0,0,0,0,183.2,172,106.51162790697674]
[null,null,null,"内日帰客",{"$f":"+E946-E950","v":18.100000000000001},{"$f":"+F946-F950","v":43.300000000000004},43.9,47.6,52,45.9,0,0,0,0,0,0,250.8,257.29999999999995,97.473766031869431]
[null,null,null,"内宿泊客",0.2,0.8,0.9,1.6,2.1,1.1000000000000001,null,null,null,null,null,null,6.6999999999999993,7.3000000000000007,91.780821917808197]
[null,null,null,"宿泊客延数",0.3,0.6,0.7,1.1000000000000001,1.7,0.8,null,null,null,null,null,null,5.2,8,65]
[null,null,"斜里町","入込総数",13.6,45.4,70,112.4,185.9,141.19999999999999,null,null,null,null,null,null,568.5,455.5,124.80790340285401,null,"コロナ規制が緩和されたことにより、観光客が少しずつ戻ってきた。\n昨年度についてはコロナ規制と海難事故があったため、例年よりも観光客は少なかった。\nコロナ前（2019年度）と比較すると、5月以降は7割程度、全体5割ほど",1]
[null,null,null,"内道外客",6.5,28.9,51,80.2,129,97.5,null,null,null,null,null,null,393.1,290.60000000000002,135.27185134205092]
[null,null,null,"内道内客",{"$f":"+E952-E953","v":7.1},{"$f":"+F952-F953","v":16.5},19,32.200000000000003,56.900000000000006,43.699999999999989,0,0,0,0,0,0,{"$f":"+Q952-Q953","v":175.39999999999998},164.9,106.36749545178894]
[null,null,null,"内日帰客",{"$f":"+E952-E956","v":5.2999999999999989},{"$f":"+F952-F956","v":18.299999999999997},35.5,71.2,133.80000000000001,101.6,0,0,0,0,0,0,{"$f":"+Q952-Q956","v":365.7},287.60000000000002,127.15577190542417]
[null,null,null,"内宿泊客",8.3000000000000007,27.1,34.5,41.2,52.1,39.6,null,null,null,null,null,null,202.8,167.89999999999998,120.78618225134011]
[null,null,null,"宿泊客延数",8.5,27.6,35.200000000000003,42,53.1,40.4,null,null,null,null,null,null,206.8,171.2,120.79439252336451]
[null,null,"清里町","入込総数",5.8,16,14.6,21.1,21.9,15.6,null,null,null,null,null,null,95,102.3,92.864125122189648,null,"コロナ渦の真っ只中である令和３年度と比較すると自粛の緩和も相まって全体的に増加傾向であるが、前年度対比はマイナスであった。原因としては、燃料費を中心とした物価の高騰による社会不安の影響で観光意欲が伸び悩んでいることが考えられる。特に主な移動手段が自動車である清里町観光において燃料費の高騰は致命的であり、今後の観光施策における喫緊の課題である。"]
[null,null,null,"内道外客",1.4,6,6.4,12.9,13.9,7.2,null,null,null,null,null,null,47.800000000000004,51.999999999999993,91.923076923076934]
[null,null,null,"内道内客",{"$f":"+E958-E959","v":4.4000000000000004},{"$f":"+F958-F959","v":10},8.1999999999999993,8.2000000000000011,7.9999999999999982,8.3999999999999986,0,0,0,0,0,0,{"$f":"+Q958-Q959","v":47.199999999999996},50.3,93.836978131212717]
[null,null,null,"内日帰客",{"$f":"+E958-E962","v":5},{"$f":"+F958-F962","v":14},12.6,17.600000000000001,17.799999999999997,12.899999999999999,0,0,0,0,0,0,{"$f":"+Q958-Q962","v":79.900000000000006},87.4,91.4187643020595]
[null,null,null,"内宿泊客",0.8,2,2,3.5,4.0999999999999996,2.7,null,null,null,null,null,null,15.100000000000001,14.9,101.34228187919463]
[null,null,null,"宿泊客延数",0.8,2,2,3.6,4.2,2.7,null,null,null,null,null,null,15.3,17.799999999999997,85.955056179775298]
[null,null,"小清水町","入込総数",19,51,70,82,72,57,null,null,null,null,null,null,351,322.89999999999998,108.70238463920718,null,"新型コロナウイルス感染症の位置づけが5類となったことによる増"]
[null,null,null,"内道外客",5.6999999999999993,34.6,51.8,58,50.8,40.4,null,null,null,null,null,null,241.29999999999998,229.20000000000002,105.27923211169283]
[null,null,null,"内道内客",{"$f":"+E964-E965","v":13.3},{"$f":"+F964-F965","v":16.399999999999999},18.200000000000003,24,21.200000000000003,16.600000000000001,0,0,0,0,0,0,{"$f":"+Q964-Q965","v":109.70000000000002},93.699999999999989,117.07577374599789]
[null,null,null,"内日帰客",{"$f":"+E964-E968","v":18.8},{"$f":"+F964-F968","v":50.8},69.8,81.5,71.3,56.8,0,0,0,0,0,0,{"$f":"+Q964-Q968","v":349},320.8,108.79052369077307]
[null,null,null,"内宿泊客",0.2,0.2,0.2,0.5,0.7,0.2,null,null,null,null,null,null,2,2.1,95.238095238095227]
[null,null,null,"宿泊客延数",0.4,0.5,0.5,0.7,0.9,0.5,null,null,null,null,null,null,3.4999999999999996,2.8,125]
[{"$f":"A1","v":"１　令和５年度（2023年度）上期　市町村別・月別観光入込客数"}]
[null,null,null,null,null,null,null,null,null,null,null,null,null,null,null,null,null,null,"単位：入込総数→千人、宿泊客延数→千人泊、対前年比→％"]
["圏　域","振興局","市町村名","区　分","４　月","５　月","６　月","７　月","８　月","９　月","１０月","１１月","１２月","１　月","２　月","３　月","合計",{"$f":"$R$3","v":"R4年度上期"},"対前年比"]
[null,null,"訓子府町","入込総数",1.6,3.8,3.8,10.5,6,4,null,null,null,null,null,null,{"$f":"SUM(E973:P973)","v":29.7},25.4,{"$f":"IF(Q973=0,\"－\",Q973/R973*100)","v":116.92913385826773},null,"前年比上期：温泉利用客の増\n前年比上期：プール利用客の増\n前年比上期：ふるさとまつり来場者の増",1]
[null,null,null,"内道外客",0,0,0,0,0,0,null,null,null,null,null,null,0,0,"－"]
["オホーツク","オホーツク",null,"内道内客",{"$f":"+E973-E974","v":1.6},{"$f":"+F973-F974","v":3.8},3.8,10.5,6,4,0,0,0,0,0,0,{"$f":"+Q973-Q974","v":29.7},25.4,116.92913385826773]
[null,null,null,"内日帰客",{"$f":"+E973-E977","v":1.6},{"$f":"+F973-F977","v":3.8},3.8,10.5,6,4,0,0,0,0,0,0,{"$f":"+Q973-Q977","v":29.7},25.4,116.92913385826773]
[null,null,null,"内宿泊客",0,0,0,0,0,0,null,null,null,null,null,null,0,0,"－"]
[null,null,null,"宿泊客延数",0,0,0,0,0,0,null,null,null,null,null,null,0,0,"－"]
[null,null,"置戸町","入込総数",8.1999999999999993,10,9.1999999999999993,13,11.8,9.9,null,null,null,null,null,null,62.1,70.5,88.085106382978722,null,"７月には４年ぶりに置戸町の一大イベントである「おけと夏まつり・人間ばん馬大会」が開催されるなど、新型コロナウイルス感染症が五類まで引き下げられ、国全体として大きなイベントを開催できるようになったことで、観光客が増加したものと思われる。しかし、依然として観光客数はコロナ禍以前より減少している。ウクライナの戦争など、大きな世界情勢の変化により物価が高騰し続けていることも要因の一つとして考えられる。",1]
[null,null,null,"内道外客",0.3,0.4,0.4,0.5,0.5,0.4,null,null,null,null,null,null,2.5,2.8,89.285714285714292]
[null,null,null,"内道内客",{"$f":"+E979-E980","v":7.8999999999999995},{"$f":"+F979-F980","v":9.6},8.7999999999999989,12.5,11.3,9.5,0,0,0,0,0,0,{"$f":"+Q979-Q980","v":59.6},67.7,88.0354505169867]
[null,null,null,"内日帰客",{"$f":"+E979-E983","v":7.6},{"$f":"+F979-F983","v":9.5},8.6,12.3,11,9.2000000000000011,0,0,0,0,0,0,{"$f":"+Q979-Q983","v":58.2},66.8,87.125748502994014]
[null,null,null,"内宿泊客",0.6,0.5,0.6,0.7,0.8,0.7,null,null,null,null,null,null,3.9000000000000004,3.7,105.40540540540542]
[null,null,null,"宿泊客延数",0.6,0.5,0.6,0.7,0.8,0.7,null,null,null,null,null,null,3.9000000000000004,3.7,105.40540540540542]
[null,null,"佐呂間町","入込総数",8.1,29.2,19.899999999999999,23.4,33,22.3,null,null,null,null,null,null,135.9,131.5,103.34600760456274,null,"規制緩和による観光客の増加",1]
[null,null,null,"内道外客",0.2,14.5,11,12.6,16.100000000000001,11.2,null,null,null,null,null,null,65.599999999999994,56.400000000000006,116.31205673758862]
[null,null,null,"内道内客",{"$f":"+E985-E986","v":7.8999999999999995},{"$f":"+F985-F986","v":14.7},8.8999999999999986,10.799999999999999,16.899999999999999,11.100000000000001,0,0,0,0,0,0,{"$f":"+Q985-Q986","v":70.300000000000011},75.100000000000009,93.608521970705723]
[null,null,null,"内日帰客",{"$f":"+E985-E989","v":7.6},{"$f":"+F985-F989","v":29},19.5,22.7,32.200000000000003,21.7,0,0,0,0,0,0,{"$f":"+Q985-Q989","v":132.70000000000002},127.5,104.07843137254903]
[null,null,null,"内宿泊客",0.5,0.2,0.4,0.7,0.8,0.6,null,null,null,null,null,null,3.2,4,80]
[null,null,null,"宿泊客延数",0.5,0.2,0.4,0.7,0.8,0.6,null,null,null,null,null,null,3.2,4.8,66.666666666666671]
[null,null,"遠軽町","入込総数",46.7,118.5,70.3,95.8,135.30000000000001,110.3,null,null,null,null,null,null,576.9,538.09999999999991,107.21055565879949,null,"新型コロナウイルスが収まってきたことにより、道内外共に増えてきたと考えることができる。だが宿泊する人は減少していることを考えると、複数の観光地に訪れるため滞在時間が短いのではないかと思う。",1]
[null,null,null,"内道外客",7,17.8,10.5,14.4,20.3,16.5,null,null,null,null,null,null,86.5,80.600000000000009,107.32009925558313]
[null,null,null,"内道内客",{"$f":"+E991-E992","v":39.700000000000003},{"$f":"+F991-F992","v":100.7},59.8,81.399999999999991,115.00000000000001,93.8,0,0,0,0,0,0,{"$f":"+Q991-Q992","v":490.4},457.5,107.19125683060109]
[null,null,null,"内日帰客",{"$f":"+E991-E995","v":45.400000000000006},{"$f":"+F991-F995","v":114.7},67.2,90.1,126.60000000000001,106.2,0,0,0,0,0,0,{"$f":"+Q991-Q995","v":550.19999999999993},507,108.52071005917159]
[null,null,null,"内宿泊客",1.3,3.8,3.1,5.7,8.6999999999999993,4.0999999999999996,null,null,null,null,null,null,26.699999999999996,31.099999999999998,85.852090032154337]
[null,null,null,"宿泊客延数",1.3,3.9,3.2,5.9,9,4.2,null,null,null,null,null,null,27.5,32,85.9375]
[null,null,"湧別町","入込総数",24,140,42.5,45.7,64.400000000000006,48.6,null,null,null,null,null,null,365.20000000000005,261.5,139.65583173996177,null,"サロマ湖100ｋｍウルトラマラソンなど、コロナ禍が明けたことによるイベントの再開や観光客の増",1]
[null,null,null,"内道外客",1.3000000000000007,10,3.7000000000000028,1.7000000000000028,3.2000000000000028,2.1000000000000014,null,null,null,null,null,null,22.000000000000011,12.499999999999998,176.00000000000011]
[null,null,null,"内道内客",{"$f":"+E997-E998","v":22.7},{"$f":"+F997-F998","v":130},38.799999999999997,44,61.2,46.5,0,0,0,0,0,0,{"$f":"+Q997-Q998","v":343.20000000000005},249,137.83132530120483]
[null,null,null,"内日帰客",{"$f":"+E997-E1001","v":23.9},{"$f":"+F997-F1001","v":139},40.5,44.6,62.7,47.800000000000004,0,0,0,0,0,0,{"$f":"+Q997-Q1001","v":358.50000000000006},259.7,138.04389680400465]
[null,null,null,"内宿泊客",0.1,1,2,1.1000000000000001,1.7,0.8,null,null,null,null,null,null,6.7,1.8000000000000003,372.22222222222217]
[null,null,null,"宿泊客延数",0.1,1,2,1.1000000000000001,1.7,0.8,null,null,null,null,null,null,6.7,1.8000000000000003,372.22222222222217]
[null,null,"滝上町","入込総数",8.6,56.3,11.5,12.3,15.3,11.8,null,null,null,null,null,null,115.79999999999998,88.499999999999986,130.84745762711864,null,"新型コロナウイルスの位置づけが５類に引き下がりイベントが開催されたことで、前年度に比べて観光客数は増加している。キャッチアンドリリースの釣り客については、7-9月が前年度より減っており、要因として夏の猛暑や豪雨等、天候の影響が考えられる。"]
[null,null,null,"内道外客",0.5,27.2,2.9,3.1,3,2.2000000000000002,null,null,null,null,null,null,38.9,39.9,97.493734335839605]
[null,null,null,"内道内客",{"$f":"+E1003-E1004","v":8.1},{"$f":"+F1003-F1004","v":29.099999999999998},8.6,9.2000000000000011,12.3,9.6000000000000014,0,0,0,0,0,0,{"$f":"+Q1003-Q1004","v":76.899999999999977},48.599999999999994,158.23045267489709]
[null,null,null,"内日帰客",{"$f":"+E1003-E1007","v":8.1999999999999993},{"$f":"+F1003-F1007","v":55.3},10.6,11.4,14.4,10.8,0,0,0,0,0,0,{"$f":"+Q1003-Q1007","v":110.69999999999999},83.3,132.89315726290516]
[null,null,null,"内宿泊客",0.4,1,0.9,0.9,0.9,1,null,null,null,null,null,null,5.0999999999999996,5.2,98.076923076923066]
[null,null,null,"宿泊客延数",0.4,1.1000000000000001,0.9,1.1000000000000001,1,1.1000000000000001,null,null,null,null,null,null,5.6,5.2,107.69230769230769]
[null,null,"興部町","入込総数",1.9,5.5,4.4000000000000004,7.9,7.7,4.8,null,null,null,null,null,null,32.200000000000003,33,97.575757575757578,null,"令和5年度より道の駅敷地内の簡易宿泊施設（ルゴーサエキスプレス）が再開したことによる宿泊客の増加。",1]
[null,null,null,"内道外客",0.2,0.6,0.4,0.8,0.8,0.5,null,null,null,null,null,null,3.3,3.3000000000000003,99.999999999999986]
[null,null,null,"内道内客",{"$f":"+E1009-E1010","v":1.7},{"$f":"+F1009-F1010","v":4.9000000000000004},4,7.1000000000000005,6.9,4.3,0,0,0,0,0,0,{"$f":"+Q1009-Q1010","v":28.900000000000002},29.700000000000003,97.306397306397301]
[null,null,null,"内日帰客",{"$f":"+E1009-E1013","v":1.9},{"$f":"+F1009-F1013","v":5.5},4.3000000000000007,7.6000000000000005,7.4,4.7,0,0,0,0,0,0,{"$f":"+Q1009-Q1013","v":31.400000000000002},32.6,96.319018404907979]
[null,null,null,"内宿泊客",0,0,0.1,0.3,0.3,0.1,null,null,null,null,null,null,0.79999999999999993,0.4,199.99999999999997]
[null,null,null,"宿泊客延数",0,0,0.1,0.3,0.3,0.1,null,null,null,null,null,null,0.79999999999999993,0.4,199.99999999999997]
[null,null,"西興部村","入込総数",1.4,3.4,2.2000000000000002,3.2,3.8,2.8,null,null,null,null,null,null,16.8,16.899999999999999,99.408284023668642,null,"前年と同程度の入込数",1]
[null,null,null,"内道外客",0,0,0,0.6,0.8,0.6,null,null,null,null,null,null,2,2.1,95.238095238095227]
[null,null,null,"内道内客",{"$f":"+E1015-E1016","v":1.4},{"$f":"+F1015-F1016","v":3.4},2.2000000000000002,2.6,3,2.1999999999999997,0,0,0,0,0,0,{"$f":"+Q1015-Q1016","v":14.8},14.799999999999997,100.00000000000003]
[null,null,null,"内日帰客",{"$f":"+E1015-E1019","v":1.0999999999999999},{"$f":"+F1015-F1019","v":2.8},1.6,2.4000000000000004,2.9,2.0999999999999996,0,0,0,0,0,0,{"$f":"+Q1015-Q1019","v":12.900000000000002},13.1,98.473282442748115]
[null,null,null,"内宿泊客",0.3,0.6,0.6,0.8,0.9,0.7,null,null,null,null,null,null,3.8999999999999995,3.8,102.63157894736841]
[null,null,null,"宿泊客延数",0.3,0.6,0.6,0.8,0.9,0.7,null,null,null,null,null,null,3.8999999999999995,3.8,102.63157894736841]
[null,null,"雄武町","入込総数",5.8,7.8,6.4,6.9,8.5,7.2,null,null,null,null,null,null,42.6,42,101.42857142857142,null,"前年度に比べて増加傾向にあり、特に外国人観光客の増加が多くみられた。"]
[null,null,null,"内道外客",2.1,3.3,3.5,3.9,4,3.3,null,null,null,null,null,null,20.100000000000001,2.1999999999999997,913.63636363636385]
[null,null,null,"内道内客",{"$f":"+E1021-E1022","v":3.6999999999999997},{"$f":"+F1021-F1022","v":4.5},2.9000000000000004,3.0000000000000004,4.5,3.9000000000000004,0,0,0,0,0,0,{"$f":"+Q1021-Q1022","v":22.5},39.799999999999997,56.532663316582919]
[null,null,null,"内日帰客",{"$f":"+E1021-E1025","v":5.0999999999999996},{"$f":"+F1021-F1025","v":6.6999999999999993},5.4,5.6000000000000005,7.2,6,0,0,0,0,0,0,{"$f":"+Q1021-Q1025","v":36},36.200000000000003,99.447513812154682]
[null,null,null,"内宿泊客",0.7,1.1000000000000001,1,1.3,1.3,1.2,null,null,null,null,null,null,6.6,5.7999999999999989,113.79310344827587]
[null,null,null,"宿泊客延数",0.7,1.2,1.1000000000000001,1.4,1.4,1.3,null,null,null,null,null,null,7.1000000000000005,6.8999999999999995,102.89855072463769]
[{"$f":"A1","v":"１　令和５年度（2023年度）上期　市町村別・月別観光入込客数"}]
[null,null,null,null,null,null,null,null,null,null,null,null,null,null,null,null,null,null,"単位：入込総数→千人、宿泊客延数→千人泊、対前年比→％"]
["圏　域","振興局","市町村名","区　分","４　月","５　月","６　月","７　月","８　月","９　月","１０月","１１月","１２月","１　月","２　月","３　月","合計",{"$f":"$R$3","v":"R4年度上期"},"対前年比"]
[null,null,"大空町","入込総数",53.4,215.4,101.4,172.9,165.7,127,null,null,null,null,null,null,{"$f":"SUM(E1030:P1030)","v":835.8},757.8,{"$f":"IF(Q1030=0,\"－\",Q1030/R1030*100)","v":110.29295328582739},null,"新型コロナウイルス感染症に伴う行動制限が緩和され、イベント等が再開され入込総数が増加した。",1]
[null,null,null,"内道外客",20.3,56.6,37.299999999999997,66.3,70.900000000000006,56.5,null,null,null,null,null,null,307.89999999999998,292.7,105.1930304065596]
["オホーツク","オホーツク",null,"内道内客",{"$f":"+E1030-E1031","v":33.099999999999994},{"$f":"+F1030-F1031","v":158.80000000000001},64.100000000000009,106.60000000000001,94.799999999999983,70.5,0,0,0,0,0,0,{"$f":"+Q1030-Q1031","v":527.9},465.1,113.50247258654052]
[null,null,null,"内日帰客",{"$f":"+E1030-E1034","v":52.5},{"$f":"+F1030-F1034","v":213.6},99.800000000000011,170.8,163.5,125.3,0,0,0,0,0,0,{"$f":"+Q1030-Q1034","v":825.5},748.4,110.30197755211117]
[null,null,null,"内宿泊客",0.9,1.8,1.6,2.1,2.2000000000000002,1.7,null,null,null,null,null,null,10.3,9.4,109.57446808510637]
[null,null,null,"宿泊客延数",0.9,1.8,1.6,2.1,2.2000000000000002,1.7,null,null,null,null,null,null,10.3,9.4,109.57446808510637]
["十勝圏域計",null,null,"入込総数",{"$f":"+E1042","v":609.70000000000005},1189.0000000000005,1067.8,1725.8999999999999,1810.8,1305.8,0,0,0,0,0,0,7709,6927.7000000000007,111.27791330455995]
[null,null,null,"内道外客",89.5,208.7,221.70000000000002,484.09999999999991,458.7,237.60000000000002,0,0,0,0,0,0,1700.3,{"$f":"+R1043","v":1263.3999999999996},134.58128858635433]
[null,null,null,"内道内客",520.20000000000005,980.30000000000007,846.10000000000014,1241.7999999999995,1352.1000000000001,1068.2000000000003,0,0,0,0,0,0,6008.7000000000007,{"$f":"+R1044","v":5664.3},106.08018643080345]
[null,null,null,"内日帰客",529.19999999999993,1062.3999999999996,937.69999999999982,1564.9000000000003,1634.6000000000001,1154.8,0,0,0,0,0,0,6883.6,{"$f":"+R1045","v":6143.2999999999984},112.05052658994354]
[null,null,null,"内宿泊客",80.499999999999986,126.59999999999998,130.1,161,176.2,151,0,0,0,0,0,0,825.4,{"$f":"+R1046","v":784.4000000000002},105.22692503824575]
[null,null,null,"宿泊客延数",104.39999999999998,158.30000000000001,166,202.6,223.69999999999996,191.3,0,0,0,0,0,0,1046.3000000000002,{"$f":"+R1047","v":918.00000000000023},113.97603485838779]
[null,"十勝総合振興局計",null,"入込総数",{"$f":"+E1048+E1054+E1060+E1066+E1072+E1078+E1087+E1093+E1099+E1105+E1111+E1117+E1123+E1129+E1135+E1144+E1150+E1156+E1162","v":609.70000000000005},1189.0000000000005,1067.8,1725.8999999999999,1810.8,1305.8,0,0,0,0,0,0,7709,{"$f":"+R1048+R1054+R1060+R1066+R1072+R1078+R1087+R1093+R1099+R1105+R1111+R1117+R1123+R1129+R1135+R1144+R1150+R1156+R1162","v":6927.7000000000007},111.27791330455995]
[null,null,null,"内道外客",89.5,208.7,221.70000000000002,484.09999999999991,458.7,237.60000000000002,0,0,0,0,0,0,1700.3,1263.3999999999996,134.58128858635433]
[null,null,null,"内道内客",520.20000000000005,980.30000000000007,846.10000000000014,1241.7999999999995,1352.1000000000001,1068.2000000000003,0,0,0,0,0,0,6008.7000000000007,5664.3,106.08018643080345]
[null,null,null,"内日帰客",529.19999999999993,1062.3999999999996,937.69999999999982,1564.9000000000003,1634.6000000000001,1154.8,0,0,0,0,0,0,6883.6,6143.2999999999984,112.05052658994354]
[null,null,null,"内宿泊客",80.499999999999986,126.59999999999998,130.1,161,176.2,151,0,0,0,0,0,0,825.4,784.4000000000002,105.22692503824575]
[null,null,null,"宿泊客延数",104.39999999999998,158.30000000000001,166,202.6,223.69999999999996,191.3,0,0,0,0,0,0,1046.3000000000002,918.00000000000023,113.97603485838779]
[null,null,"帯広市","入込総数",82.1,159.30000000000001,181.6,641.79999999999995,502.5,181.4,null,null,null,null,null,null,{"$f":"SUM(E1048:P1048)","v":1748.7},1374.8,127.1966831539133,null,"４年に１度開催される、７月の国際農業機械展開催により入込が増えた。また、８月は帯広名古屋季節便利用が好調であったため、入込増に影響した。",1]
[null,null,null,"内道外客",37.9,73.5,83.8,296,231.7,83.7,null,null,null,null,null,null,806.6,563.9,143.03954601879767]
[null,null,null,"内道内客",{"$f":"+E1048-E1049","v":44.199999999999996},{"$f":"+F1048-F1049","v":85.800000000000011},97.8,345.79999999999995,270.8,97.7,0,0,0,0,0,0,{"$f":"+Q1048-Q1049","v":942.1},810.90000000000009,116.17955358243925]
[null,null,null,"内日帰客",{"$f":"+E1048-E1052","v":29.099999999999994},{"$f":"+F1048-F1052","v":88.700000000000017},113.69999999999999,563.59999999999991,421.8,109,0,0,0,0,0,0,{"$f":"+Q1048-Q1052","v":1325.9},926.8,143.06214933103152]
[null,null,null,"内宿泊客",53,70.599999999999994,67.900000000000006,78.2,80.7,72.400000000000006,null,null,null,null,null,null,422.79999999999995,448,94.374999999999986]
[null,null,null,"宿泊客延数",74.3,96.9,96.4,110.1,115.7,102.5,null,null,null,null,null,null,595.90000000000009,546.40000000000009,109.05929721815519]
[null,null,"音更町","入込総数",170.8,295.3,237.7,266,338.4,239.5,null,null,null,null,null,null,1547.6999999999998,1638.9,94.435291964122257,null,"・観光入り込み客数前年度比が94.4％に減少。\n要因については、道の駅2ヵ所の訪問客が減少していることによるものであり、道の駅おとふけ「なつぞらのふる里」オープンから一年経過したことにより客入りが落ち着いており、それに伴い、道の駅を2ヵ所合わせて回る客も一定数いたことも想定され、道の駅ガーデンスパ十勝川温泉についても前年と比較し客数が減少している状況と考えられる。\n【道の駅おとふけ「なつぞらのふる里」前年上期客対比】83.5％\n【道の駅ガーデンスパ十勝川温泉前年上期客対比】92.5％\n\n・道外客の比率が高まり、それに伴い宿泊客の比率が高まっている。\nコロナウイルスが落ち着いてきたことから、本年は道外からの宿泊を伴う観光客の比率が高まっていることが考えられる。\n以下、2022年と2023年の実績対比\n【2022年上期】道内：道外＝93.1％：6.9％、【2023年上期】道内：道外＝89.8％：10.2％\n【2022年上期】日帰り：宿泊＝9.3％：90.7％、【2023年上期】日帰り11.3％：88.7％\n"]
[null,null,null,"内道外客",10.7,22.9,28.2,38.1,32.5,26.5,null,null,null,null,null,null,158.9,114,139.38596491228071]
[null,null,null,"内道内客",{"$f":"+E1054-E1055","v":160.10000000000002},{"$f":"+F1054-F1055","v":272.40000000000003},209.5,227.9,305.89999999999998,213,0,0,0,0,0,0,{"$f":"+Q1054-Q1055","v":1388.7999999999997},1524.9,91.074824578660866]
[null,null,null,"内日帰客",{"$f":"+E1054-E1058","v":154.9},{"$f":"+F1054-F1058","v":266.2},208.2,230.9,301.09999999999997,211.4,0,0,0,0,0,0,{"$f":"+Q1054-Q1058","v":1372.6999999999998},1485.9,92.381721515579756]
[null,null,null,"内宿泊客",15.9,29.1,29.5,35.1,37.299999999999997,28.1,null,null,null,null,null,null,174.99999999999997,153,114.37908496732024]
[null,null,null,"宿泊客延数",17,31.7,32.1,39.4,43.3,31.4,null,null,null,null,null,null,194.9,166.89999999999998,116.77651288196526]
[null,null,"士幌町","入込総数",23,43,32.299999999999997,41.3,47.8,35.700000000000003,null,null,null,null,null,null,223.09999999999997,202.20000000000002,110.33630069238376,null,"コロナウイルスが２類相当から５類に引き下げられ、イベント等の再開が多くあったことにより観光が回復しつつあると考える。",1]
[null,null,null,"内道外客",2.1,4,3,3.9,4.5,3.3,null,null,null,null,null,null,20.8,18.899999999999999,110.05291005291006]
[null,null,null,"内道内客",{"$f":"+E1060-E1061","v":20.9},{"$f":"+F1060-F1061","v":39},29.299999999999997,37.4,43.3,32.400000000000006,0,0,0,0,0,0,{"$f":"+Q1060-Q1061","v":202.29999999999995},183.3,110.36552100381884]
[null,null,null,"内日帰客",{"$f":"+E1060-E1064","v":22.5},{"$f":"+F1060-F1064","v":41.8},30.999999999999996,39.199999999999996,45.099999999999994,34.200000000000003,0,0,0,0,0,0,{"$f":"+Q1060-Q1064","v":213.79999999999995},194.1,110.14940752189591]
[null,null,null,"内宿泊客",0.5,1.2,1.3,2.1,2.7,1.5,null,null,null,null,null,null,9.3000000000000007,8.1,114.81481481481484]
[null,null,null,"宿泊客延数",0.5,1.2,1.3,2.1,2.7,1.5,null,null,null,null,null,null,9.3000000000000007,8.1,114.81481481481484]
[null,null,"上士幌町","入込総数",43.4,93.3,83.1,102.4,157.30000000000001,97.1,null,null,null,null,null,null,576.6,520.20000000000005,110.84198385236448,null,"コロナの影響はほぼなくなり、コロナ前の入込客数に戻りつつある。また、従来行っていたイベントや新しいイベントも開催したのでそれも要因の一つだと考えられる。\n北海道バルーンフェスティバルでは参加者含め観客も昨年の倍近く来ていた。",1]
[null,null,null,"内道外客",2.2000000000000002,20.3,18,31.6,70.3,14.1,null,null,null,null,null,null,156.49999999999997,136.6,114.56808199121522]
[null,null,null,"内道内客",{"$f":"+E1066-E1067","v":41.199999999999996},{"$f":"+F1066-F1067","v":73},65.099999999999994,70.800000000000011,87.000000000000014,83,0,0,0,0,0,0,{"$f":"+Q1066-Q1067","v":420.1},383.6,109.51511991657976]
[null,null,null,"内日帰客",{"$f":"+E1066-E1070","v":40},{"$f":"+F1066-F1070","v":88.3},72.8,95.4,146.10000000000002,76.899999999999991,0,0,0,0,0,0,{"$f":"+Q1066-Q1070","v":519.5},483.50000000000006,107.4457083764219]
[null,null,null,"内宿泊客",3.4,5,10.3,7,11.2,20.2,null,null,null,null,null,null,57.100000000000009,36.700000000000003,155.58583106267031]
[null,null,null,"宿泊客延数",3.7,5.5,11.3,7.7,12.3,22.2,null,null,null,null,null,null,62.7,36.700000000000003,170.84468664850135]
[null,null,"鹿追町","入込総数",37.299999999999997,76.8,72.599999999999994,95.1,111.5,95.1,null,null,null,null,null,null,488.4,475.20000000000005,102.77777777777777,null,"入込総数としては前年比でも数％差ほどと昨年同様の観光客数であった。また、宿泊客数においても前年比の十数％ほど増加がみられたが、比較的例年並みの客数であった。（コロナ禍除く）",1]
[null,null,null,"内道外客",1.3,7.8,8.3000000000000007,11.2,14.2,16.399999999999999,null,null,null,null,null,null,59.199999999999996,56.599999999999994,104.59363957597174]
[null,null,null,"内道内客",{"$f":"+E1072-E1073","v":36},{"$f":"+F1072-F1073","v":69},64.3,83.899999999999991,97.3,78.699999999999989,0,0,0,0,0,0,{"$f":"+Q1072-Q1073","v":429.2},418.6,102.53225035833731]
[null,null,null,"内日帰客",{"$f":"+E1072-E1076","v":36.5},{"$f":"+F1072-F1076","v":73.399999999999991},71.399999999999991,90.6,107,90.899999999999991,0,0,0,0,0,0,{"$f":"+Q1072-Q1076","v":469.79999999999995},459.40000000000003,102.26382237701348]
[null,null,null,"内宿泊客",0.8,3.4,1.2,4.5,4.5,4.2,null,null,null,null,null,null,18.600000000000001,15.799999999999999,117.7215189873418]
[null,null,null,"宿泊客延数",0.8,3.4,1.2,4.5,4.5,4.2,null,null,null,null,null,null,18.600000000000001,15.799999999999999,117.7215189873418]
[null,null,"新得町","入込総数",21.6,37,53.7,54.8,50.8,74.5,null,null,null,null,null,null,292.40000000000003,252.29999999999995,115.89377724930641,null,"コロナ禍の収束や令和5年5月8日に新型コロナウィルスが5類感染症となりマスクの着用が義務化されなくなったことからコロナに対しての警戒が緩まったと予想される。さらに外国人観光客も増加したため。",1]
[null,null,null,"内道外客",2.2999999999999998,4.5999999999999996,8.6999999999999993,11.4,10.5,10.6,null,null,null,null,null,null,48.1,40.9,117.60391198044012]
[null,null,null,"内道内客",{"$f":"+E1078-E1079","v":19.3},{"$f":"+F1078-F1079","v":32.4},45,43.4,40.299999999999997,63.9,0,0,0,0,0,0,{"$f":"+Q1078-Q1079","v":244.30000000000004},211.39999999999998,115.56291390728479]
[null,null,null,"内日帰客",{"$f":"+E1078-E1082","v":20},{"$f":"+F1078-F1082","v":33.299999999999997},48.5,46.099999999999994,43.9,68.8,0,0,0,0,0,0,{"$f":"+Q1078-Q1082","v":260.60000000000002},225.5,115.56541019955655]
[null,null,null,"内宿泊客",1.6,3.7,5.2,8.6999999999999993,6.9,5.7,null,null,null,null,null,null,31.8,26.799999999999997,118.65671641791047]
[null,null,null,"宿泊客延数",2,4.7,7.3,11.3,9.6,8.8000000000000007,null,null,null,null,null,null,43.7,39.299999999999997,111.19592875318067]
[{"$f":"$A$1","v":"１　令和５年度（2023年度）上期　市町村別・月別観光入込客数"}]
[null,null,null,null,null,null,null,null,null,null,null,null,null,null,null,null,null,null,"単位：入込総数→千人、宿泊客延数→千人泊、対前年比→％"]
["圏　域","振興局","市町村名","区　分","４　月","５　月","６　月","７　月","８　月","９　月","１０月","１１月","１２月","１　月","２　月","３　月","合計",{"$f":"$R$3","v":"R4年度上期"},"対前年比"]
[null,null,"清水町","入込総数",5.9,16.600000000000001,17.600000000000001,26.9,25.5,19.8,null,null,null,null,null,null,{"$f":"SUM(E1087:P1087)","v":112.3},82.100000000000009,{"$f":"IF(Q1087=0,\"－\",Q1087/R1087*100)","v":136.78440925700363},null,"新型コロナウイルスの緩和による増加",1]
[null,null,null,"内道外客",1.2,4.0999999999999996,4.5,6.2,5.8,4.5999999999999996,null,null,null,null,null,null,26.4,15.9,166.03773584905659]
["十　勝","十　勝",null,"内道内客",{"$f":"+E1087-E1088","v":4.7},{"$f":"+F1087-F1088","v":12.500000000000002},13.100000000000001,20.7,19.7,15.200000000000001,0,0,0,0,0,0,{"$f":"+Q1087-Q1088","v":85.9},66.2,129.75830815709969]
[null,null,null,"内日帰客",{"$f":"+E1087-E1091","v":5.7},{"$f":"+F1087-F1091","v":16.3},17.3,26.4,24.9,19.400000000000002,0,0,0,0,0,0,{"$f":"+Q1087-Q1091","v":110},79.7,138.01756587202007]
[null,null,null,"内宿泊客",0.2,0.3,0.3,0.5,0.6,0.4,null,null,null,null,null,null,2.2999999999999998,2.4,95.833333333333329]
[null,null,null,"宿泊客延数",0.2,0.3,0.3,0.5,0.6,0.4,null,null,null,null,null,null,2.2999999999999998,2.4,95.833333333333329]
[null,null,"芽室町","入込総数",1.8,17.600000000000001,12.5,18.399999999999999,23.7,12.3,0,0,0,0,0,0,86.3,100.39999999999999,85.95617529880478,null,"会社都合により新嵐山スカイパークの9月分入込客数の集計ができていないことに加え、管内他施設に利用者が流出したことによる減少と考えられる。",1]
[null,null,null,"内道外客",0,0.1,0.2,0.5,0.8,0,0,0,0,0,0,0,1.6,1.1000000000000001,145.45454545454547]
[null,null,null,"内道内客",{"$f":"+E1093-E1094","v":1.8},{"$f":"+F1093-F1094","v":17.5},12.3,17.899999999999999,22.9,12.3,0,0,0,0,0,0,{"$f":"+Q1093-Q1094","v":84.7},99.3,85.297079556898296]
[null,null,null,"内日帰客",{"$f":"+E1093-E1097","v":1.7},{"$f":"+F1093-F1097","v":17.3},12.2,17.7,23.099999999999998,12.3,0,0,0,0,0,0,{"$f":"+Q1093-Q1097","v":84.3},98.2,85.845213849287163]
[null,null,null,"内宿泊客",0.1,0.3,0.3,0.7,0.6,0,0,0,0,0,0,0,2,2.2000000000000002,90.909090909090907]
[null,null,null,"宿泊客延数",0.1,0.3,0.4,0.9,0.9,0,0,0,0,0,0,0,2.6,2.7,96.296296296296291]
[null,null,"中札内村","入込総数",71.8,132.5,104.7,139.6,135.30000000000001,106.7,null,null,null,null,null,null,690.60000000000014,642.6,107.46965452847807,null,"新型コロナウイルスが第５類に移行した事に伴い、観光需要が回復傾向にある事が要因と推定される。",1]
[null,null,null,"内道外客",14.4,26.5,20.9,27.9,27,21.3,null,null,null,null,null,null,138,128.69999999999999,107.22610722610723]
[null,null,null,"内道内客",{"$f":"+E1099-E1100","v":57.4},{"$f":"+F1099-F1100","v":106},83.800000000000011,111.69999999999999,108.30000000000001,85.4,0,0,0,0,0,0,{"$f":"+Q1099-Q1100","v":552.60000000000014},513.9,107.53064798598953]
[null,null,null,"内日帰客",{"$f":"+E1099-E1103","v":71.099999999999994},{"$f":"+F1099-F1103","v":130.5},103.4,136.19999999999999,130.20000000000002,104.3,0,0,0,0,0,0,{"$f":"+Q1099-Q1103","v":675.70000000000016},628.60000000000014,107.49284123448935]
[null,null,null,"内宿泊客",0.7,2,1.3,3.4,5.0999999999999996,2.4,null,null,null,null,null,null,14.9,14,106.42857142857143]
[null,null,null,"宿泊客延数",0.7,2,1.3,3.4,5.0999999999999996,2.4,null,null,null,null,null,null,14.9,14,106.42857142857143]
[null,null,"更別村","入込総数",6.2,15.1,11,14,20.8,13,null,null,null,null,null,null,80.099999999999994,73.900000000000006,108.38971583220567,null,"全体的に、道外からの入込数が増えている。中でもカントリーパークは道外の数が前年比150％に増えている。海外からの来村者もいて、規制緩和に伴う観光客増加が感じられた。",1]
[null,null,null,"内道外客",0.2,0.5,0.3,0.5,0.8,0.4,null,null,null,null,null,null,2.6999999999999997,2.2000000000000002,122.72727272727271]
[null,null,null,"内道内客",{"$f":"+E1105-E1106","v":6},{"$f":"+F1105-F1106","v":14.6},10.7,13.5,20,12.6,0,0,0,0,0,0,{"$f":"+Q1105-Q1106","v":77.399999999999991},71.7,107.94979079497907]
[null,null,null,"内日帰客",{"$f":"+E1105-E1109","v":6},{"$f":"+F1105-F1109","v":13.799999999999999},10.3,12,17.2,11.7,0,0,0,0,0,0,{"$f":"+Q1105-Q1109","v":71},66.2,107.25075528700907]
[null,null,null,"内宿泊客",0.2,1.3,0.7,2,3.6,1.3,null,null,null,null,null,null,9.1000000000000014,7.6999999999999993,118.18181818181822]
[null,null,null,"宿泊客延数",0.2,1.3,0.7,2,3.6,1.3,null,null,null,null,null,null,9.1000000000000014,7.6999999999999993,118.18181818181822]
[null,null,"大樹町","入込総数",2.9,6.5,4.0999999999999996,5.7,9.5,9,null,null,null,null,null,null,37.700000000000003,29.5,127.79661016949153,null,"新型コロナウイルスが5類に引き下げられ、旅行制限が緩和され、旅行へのハードルが下がったと考えられる。",1]
[null,null,null,"内道外客",0.3,0.8,0.5,0.6,1.1000000000000001,1.1000000000000001,null,null,null,null,null,null,4.4000000000000004,3.5,125.71428571428574]
[null,null,null,"内道内客",{"$f":"+E1111-E1112","v":2.6},{"$f":"+F1111-F1112","v":5.7},3.5999999999999996,5.1000000000000005,8.4,7.9,0,0,0,0,0,0,{"$f":"+Q1111-Q1112","v":33.300000000000004},26,128.07692307692309]
[null,null,null,"内日帰客",{"$f":"+E1111-E1115","v":2.0999999999999996},{"$f":"+F1111-F1115","v":5.5},2.9999999999999996,4.4000000000000004,8.1,7.9,0,0,0,0,0,0,{"$f":"+Q1111-Q1115","v":31.000000000000004},22.900000000000002,135.37117903930132]
[null,null,null,"内宿泊客",0.8,1,1.1000000000000001,1.3,1.4,1.1000000000000001,null,null,null,null,null,null,6.6999999999999993,6.6000000000000005,101.51515151515149]
[null,null,null,"宿泊客延数",0.9,1.1000000000000001,1.2,1.4,1.6,1.3,null,null,null,null,null,null,7.4999999999999991,7.2,104.16666666666666]
[null,null,"広尾町","入込総数",5.7,9.6,7.8,20.399999999999999,46.5,17.600000000000001,null,null,null,null,null,null,107.6,51.7,208.12379110251447,null,"新型コロナウイルス感染症が5類感染症に移行し、外出する人が増えたため。",1]
[null,null,null,"内道外客",0.2,0.4,0.3,0.9,2.2000000000000002,1.4,null,null,null,null,null,null,5.4,0.8,675]
[null,null,null,"内道内客",{"$f":"+E1117-E1118","v":5.5},{"$f":"+F1117-F1118","v":9.1999999999999993},7.5,19.5,44.3,16.200000000000003,0,0,0,0,0,0,{"$f":"+Q1117-Q1118","v":102.19999999999999},50.900000000000006,200.78585461689582]
[null,null,null,"内日帰客",{"$f":"+E1117-E1121","v":5.6000000000000005},{"$f":"+F1117-F1121","v":9.5},7.7,20.299999999999997,46.4,17.5,0,0,0,0,0,0,{"$f":"+Q1117-Q1121","v":107},51,209.80392156862746]
[null,null,null,"内宿泊客",0.1,0.1,0.1,0.1,0.1,0.1,null,null,null,null,null,null,0.6,0.7,85.714285714285722]
[null,null,null,"宿泊客延数",0.1,0.1,0.1,0.1,0.1,0.1,null,null,null,null,null,null,0.6,1.5,40]
[null,null,"幕別町","入込総数",42.3,93.6,96.1,100.9,100.7,101,null,null,null,null,null,null,534.59999999999991,473.50000000000006,112.90390707497357,null,null,1]
[null,null,null,"内道外客",4.2,15.7,18,20.5,16.8,16.8,null,null,null,null,null,null,92,36.800000000000004,249.99999999999994]
[null,null,null,"内道内客",{"$f":"+E1123-E1124","v":38.099999999999994},{"$f":"+F1123-F1124","v":77.899999999999991},78.099999999999994,80.400000000000006,83.9,84.2,0,0,0,0,0,0,{"$f":"+Q1123-Q1124","v":442.59999999999991},436.7,101.35104190519806]
[null,null,null,"内日帰客",{"$f":"+E1123-E1127","v":40.5},{"$f":"+F1123-F1127","v":88.199999999999989},89.1,91.9,89.2,93,0,0,0,0,0,0,{"$f":"+Q1123-Q1127","v":491.89999999999992},435,113.08045977011491]
[null,null,null,"内宿泊客",1.8,5.4,7,9,11.5,8,null,null,null,null,null,null,42.7,38.5,110.90909090909091]
[null,null,null,"宿泊客延数",2.2999999999999998,6.4,8.1,10.4,13.1,9.5,null,null,null,null,null,null,49.8,42.300000000000004,117.7304964539007]
[null,null,"池田町","入込総数",16,30.5,23.8,28,31.2,29.2,null,null,null,null,null,null,158.69999999999999,144.10000000000002,110.13185287994445,null,"コロナの影響が薄くなったことにより観光客数が増加した",1]
[null,null,null,"内道外客",4.8,9.1,7.1,8.4,9.4,8.8000000000000007,null,null,null,null,null,null,47.599999999999994,43.300000000000004,109.93071593533486]
[null,null,null,"内道内客",{"$f":"+E1129-E1130","v":11.2},{"$f":"+F1129-F1130","v":21.4},16.700000000000003,19.600000000000001,21.799999999999997,20.399999999999999,0,0,0,0,0,0,{"$f":"+Q1129-Q1130","v":111.1},100.8,110.21825396825398]
[null,null,null,"内日帰客",{"$f":"+E1129-E1133","v":16},{"$f":"+F1129-F1133","v":30.4},23.6,27.7,30.8,28.9,0,0,0,0,0,0,{"$f":"+Q1129-Q1133","v":157.39999999999998},142.4,110.53370786516852]
[null,null,null,"内宿泊客",0,0.1,0.2,0.3,0.4,0.3,null,null,null,null,null,null,1.3,1.7000000000000002,76.470588235294116]
[null,null,null,"宿泊客延数",0.1,0.1,0.2,0.4,0.5,0.4,null,null,null,null,null,null,1.7000000000000002,2.6999999999999997,62.962962962962976]
[null,null,"豊頃町","入込総数",0,4.7,3.5,4.0999999999999996,4.0999999999999996,17.100000000000001,null,null,null,null,null,null,33.5,23,145.65217391304347,null,null,1]
[null,null,null,"内道外客",0,0.4,0.3,0.4,0.4,1.7,null,null,null,null,null,null,3.2,2.1,152.38095238095238]
[null,null,null,"内道内客",{"$f":"+E1135-E1136","v":0},{"$f":"+F1135-F1136","v":4.3},3.2,3.6999999999999997,3.6999999999999997,15.400000000000002,0,0,0,0,0,0,{"$f":"+Q1135-Q1136","v":30.3},20.9,144.97607655502392]
[null,null,null,"内日帰客",{"$f":"+E1135-E1139","v":0},{"$f":"+F1135-F1139","v":4.7},3.5,4.0999999999999996,4.0999999999999996,17.100000000000001,0,0,0,0,0,0,{"$f":"+Q1135-Q1139","v":33.5},23,145.65217391304347]
[null,null,null,"内宿泊客",0,0,0,0,0,0,null,null,null,null,null,null,0,0,"－"]
[null,null,null,"宿泊客延数",0,0,0,0,0,0,null,null,null,null,null,null,0,0,"－"]
[{"$f":"$A$1","v":"１　令和５年度（2023年度）上期　市町村別・月別観光入込客数"}]
[null,null,null,null,null,null,null,null,null,null,null,null,null,null,null,null,null,null,"単位：入込総数→千人、宿泊客延数→千人泊、対前年比→％"]
["圏　域","振興局","市町村名","区　分","４　月","５　月","６　月","７　月","８　月","９　月","１０月","１１月","１２月","１　月","２　月","３　月","合計",{"$f":"$R$3","v":"R4年度上期"},"対前年比"]
[null,null,"本別町","入込総数",35.200000000000003,58.9,42,58.8,77.3,101.2,null,null,null,null,null,null,{"$f":"SUM(E1144:P1144)","v":373.4},307.3,{"$f":"IF(Q1144=0,\"－\",Q1144/R1144*100)","v":121.50992515457206},null,"新型コロナウイルス緩和のため",1]
[null,null,null,"内道外客",0,0,0,0,0.1,0.1,null,null,null,null,null,null,0.2,0,{"$error":"#DIV/0!"}]
["十　勝","十　勝",null,"内道内客",{"$f":"+E1144-E1145","v":35.200000000000003},{"$f":"+F1144-F1145","v":58.9},42,58.8,77.2,101.10000000000001,0,0,0,0,0,0,{"$f":"+Q1144-Q1145","v":373.2},307.3,121.44484217377156]
[null,null,null,"内日帰客",{"$f":"+E1144-E1148","v":34.900000000000006},{"$f":"+F1144-F1148","v":58.4},40.5,55.699999999999996,73,99,0,0,0,0,0,0,{"$f":"+Q1144-Q1148","v":361.5},305.89999999999998,118.17587446878066]
[null,null,null,"内宿泊客",0.3,0.5,1.5,3.1,4.3,2.2000000000000002,null,null,null,null,null,null,11.899999999999999,1.4,850]
[null,null,null,"宿泊客延数",0.3,0.5,1.5,3.1,4.3,2.2000000000000002,null,null,null,null,null,null,11.899999999999999,1.5999999999999999,743.75]
[null,null,"足寄町","入込総数",24.7,58.9,55,69.3,84.2,84.5,null,null,null,null,null,null,376.59999999999997,335.6,112.21692491060784,null,"新型コロナウイルスによる制限が終わったため、イベント等の通常開催など",1]
[null,null,null,"内道外客",5.8,13.9,16.7,22,26,21.9,null,null,null,null,null,null,106.30000000000001,82,129.63414634146341]
[null,null,null,"内道内客",{"$f":"+E1150-E1151","v":18.899999999999999},{"$f":"+F1150-F1151","v":45},38.299999999999997,47.3,58.2,62.6,0,0,0,0,0,0,{"$f":"+Q1150-Q1151","v":270.29999999999995},253.6,106.58517350157727]
[null,null,null,"内日帰客",{"$f":"+E1150-E1154","v":24.2},{"$f":"+F1150-F1154","v":57.8},53.9,66.399999999999991,81.7,83.1,0,0,0,0,0,0,{"$f":"+Q1150-Q1154","v":367.09999999999997},324.10000000000002,113.26751002776918]
[null,null,null,"内宿泊客",0.5,1.1000000000000001,1.1000000000000001,2.9,2.5,1.4,null,null,null,null,null,null,9.5,11.5,82.608695652173907]
[null,null,null,"宿泊客延数",0.6,1.3,1.5,3.2,3,1.4,null,null,null,null,null,null,11,13.4,82.089552238805965]
[null,null,"陸別町","入込総数",7.5,19.399999999999999,11.5,17.8,18.899999999999999,17.2,null,null,null,null,null,null,92.3,85.6,107.82710280373833,null,"新型コロナウイルス感染症対策によるイベント規制が緩和されてきているため",1]
[null,null,null,"内道外客",0.7,1.9,1.1000000000000001,1.7,1.9,1.5,null,null,null,null,null,null,8.7999999999999989,8.3000000000000007,106.02409638554215]
[null,null,null,"内道内客",{"$f":"+E1156-E1157","v":6.8},{"$f":"+F1156-F1157","v":17.5},10.4,16.100000000000001,17,15.7,0,0,0,0,0,0,{"$f":"+Q1156-Q1157","v":83.5},77.300000000000011,108.0206985769728]
[null,null,null,"内日帰客",{"$f":"+E1156-E1160","v":7},{"$f":"+F1156-F1160","v":18.7},10.8,16.7,17.7,16.2,0,0,0,0,0,0,{"$f":"+Q1156-Q1160","v":87.1},80.899999999999991,107.66378244746602]
[null,null,null,"内宿泊客",0.5,0.7,0.7,1.1000000000000001,1.2,1,null,null,null,null,null,null,5.2,4.7,110.63829787234043]
[null,null,null,"宿泊客延数",0.5,0.7,0.7,1.1000000000000001,1.2,1,null,null,null,null,null,null,5.2,4.7,110.63829787234043]
[null,null,"浦幌町","入込総数",11.5,20.399999999999999,17.2,20.6,24.8,53.9,null,null,null,null,null,null,148.39999999999998,114.8,129.26829268292681,null,"新型コロナウイルス感染症の感染症法上の位置付けが5類感染症に引き下げられたことに伴い観光客が増加傾向にあると考えられる。また、9月に「うらほろふるさとのみのり祭り」をコロナ以前と同様の内容で開催したことが9月の観光客増加に繋がった。"]
[null,null,null,"内道外客",1.2,2.2000000000000002,1.8,2.2999999999999998,2.7,3.4,null,null,null,null,null,null,13.6,7.8000000000000007,174.35897435897434]
[null,null,null,"内道内客",{"$f":"+E1162-E1163","v":10.3},{"$f":"+F1162-F1163","v":18.2},15.399999999999999,18.3,22.1,50.5,0,0,0,0,0,0,{"$f":"+Q1162-Q1163","v":134.79999999999998},107,125.98130841121493]
[null,null,null,"内日帰客",{"$f":"+E1162-E1166","v":11.4},{"$f":"+F1162-F1166","v":19.599999999999998},16.8,19.600000000000001,23.2,53.199999999999996,0,0,0,0,0,0,{"$f":"+Q1162-Q1166","v":143.79999999999998},110.2,130.4900181488203]
[null,null,null,"内宿泊客",0.1,0.8,0.4,1,1.6,0.7,null,null,null,null,null,null,4.5999999999999996,4.5999999999999996,100]
[null,null,null,"宿泊客延数",0.1,0.8,0.4,1,1.6,0.7,null,null,null,null,null,null,4.5999999999999996,4.5999999999999996,100]
["釧路・根室圏域計",null,null,"入込総数",{"$f":"+E1174+E1231","v":461.6},800,829.09999999999991,1046.9000000000001,1177.7,1193.5,0,0,0,0,0,0,5508.7999999999993,4499,122.44498777506109]
[null,null,null,"内道外客",107.89999999999999,235.5,313.79999999999995,396.5,438.80000000000007,422.49999999999994,0,0,0,0,0,0,1915.0000000000005,{"$f":"+R1175+R1232","v":1518.6999999999998},126.09468624481468]
[null,null,null,"内道内客",353.70000000000005,564.5,515.29999999999995,650.4,738.90000000000009,771,0,0,0,0,0,0,3593.7999999999997,{"$f":"+R1176+R1233","v":2980.3},120.58517598899439]
[null,null,null,"内日帰客",392.90000000000003,677.09999999999991,692.5,888.5,1002.5,1042,0,0,0,0,0,0,4695.4999999999991,{"$f":"+R1177+R1234","v":3787.1000000000004},123.98669166380604]
[null,null,null,"内宿泊客",68.699999999999989,122.89999999999999,136.60000000000002,158.40000000000003,175.2,151.5,0,0,0,0,0,0,813.30000000000007,{"$f":"+R1178+R1235","v":711.90000000000009},114.24357353560892]
[null,null,null,"宿泊客延数",83.5,146.29999999999998,163,191.1,212.19999999999996,185.2,0,0,0,0,0,0,981.3,{"$f":"+R1179+R1236","v":937.60000000000014},104.66083617747439]
[null,"釧路総合振興局計",null,"入込総数",{"$f":"+E1180+E1186+E1192+E1201+E1207+E1213+E1219+E1225","v":415.00000000000006},617.30000000000007,638.19999999999993,768.60000000000014,864.9,906.2,0,0,0,0,0,0,4210.2,{"$f":"+R1180+R1186+R1192+R1201+R1207+R1213+R1219+R1225","v":3614.8},116.47117406218877]
[null,null,null,"内道外客",91.8,153.9,231.89999999999998,296,323.20000000000005,314.59999999999997,0,0,0,0,0,0,1411.4000000000003,1125.0999999999999,125.44662696649192]
[null,null,null,"内道内客",323.20000000000005,463.40000000000003,406.3,472.6,541.70000000000005,591.6,0,0,0,0,0,0,2798.7999999999997,2489.7000000000003,112.41515041972927]
[null,null,null,"内日帰客",354.40000000000003,511.09999999999997,521.19999999999993,635,721,780.2,0,0,0,0,0,0,3522.8999999999992,3005.3,117.22290619904831]
[null,null,null,"内宿泊客",60.599999999999994,106.19999999999999,117.00000000000001,133.60000000000002,143.89999999999998,126,0,0,0,0,0,0,687.30000000000007,609.50000000000011,112.76456111566857]
[null,null,null,"宿泊客延数",72.5,125.19999999999997,137.9,160.19999999999999,174.59999999999997,150.4,0,0,0,0,0,0,820.8,802.90000000000009,102.2294183584506]
[null,null,"釧路市","入込総数",281.60000000000002,303.2,336.2,383.8,447.8,577.1,null,null,null,null,null,null,{"$f":"SUM(E1180:P1180)","v":2329.6999999999998},2007.3000000000002,116.06137597768145,null,"新型コロナウイルス感染症の位置付けが5月8日から「5類感染症」に引き下げられたことで、旅行需要が回復したことや人流が活発化したため。",1]
[null,null,null,"内道外客",63.8,78.8,126.7,142,163.6,206.1,null,null,null,null,null,null,781,621.69999999999993,125.62329097635516]
[null,null,null,"内道内客",{"$f":"+E1180-E1181","v":217.8},{"$f":"+F1180-F1181","v":224.39999999999998},209.5,241.8,284.20000000000005,371,0,0,0,0,0,0,{"$f":"+Q1180-Q1181","v":1548.6999999999998},1385.6000000000001,111.77107390300229]
[null,null,null,"内日帰客",{"$f":"+E1180-E1184","v":229.00000000000003},{"$f":"+F1180-F1184","v":214.6},241,275.8,333.5,473.6,0,0,0,0,0,0,{"$f":"+Q1180-Q1184","v":1767.4999999999998},1523.6999999999998,116.00052503773708]
[null,null,null,"内宿泊客",52.6,88.6,95.2,108,114.3,103.5,null,null,null,null,null,null,562.20000000000005,483.6,116.25310173697272]
[null,null,null,"宿泊客延数",63.6,105.1,112.3,130.1,139.1,123.4,null,null,null,null,null,null,673.6,654.30000000000007,102.94971725508175]
[null,null,"釧路町","入込総数",4.8,12.1,14.9,22.5,25.5,17.600000000000001,null,null,null,null,null,null,97.4,82.1,118.63580998781975,null,"新型コロナウイルス感染症の5類感染症移行に伴う、全国的な観光需要の高まりが増加要因である。",1]
[null,null,null,"内道外客",3.8,9.6999999999999993,11.9,17.899999999999999,20.3,14.1,null,null,null,null,null,null,77.699999999999989,65.400000000000006,118.80733944954125]
[null,null,null,"内道内客",{"$f":"+E1186-E1187","v":1},{"$f":"+F1186-F1187","v":2.4000000000000004},3,4.6000000000000014,5.1999999999999993,3.5000000000000018,0,0,0,0,0,0,{"$f":"+Q1186-Q1187","v":19.700000000000017},16.699999999999996,117.96407185628756]
[null,null,null,"内日帰客",{"$f":"+E1186-E1190","v":4.8},{"$f":"+F1186-F1190","v":12.1},14.9,22.5,25.5,17.600000000000001,0,0,0,0,0,0,{"$f":"+Q1186-Q1190","v":97.4},82.1,118.63580998781975]
[null,null,null,"内宿泊客",0,0,0,0,0,0,null,null,null,null,null,null,0,0,"－"]
[null,null,null,"宿泊客延数",0,0,0,0,0,0,null,null,null,null,null,null,0,0,"－"]
[null,null,"厚岸町","入込総数",17.100000000000001,71.400000000000006,45.4,56.8,64.7,47,null,null,null,null,null,null,302.39999999999998,267.8,112.92008961911873,null,"桜・牡蠣まつりの入込数について、昨年度と異なり通常開催したことによる9,460人の増となったこと、厚岸味覚ターミナル・コンキリエの客数の増などによる入込数の増と推測される。"]
[null,null,null,"内道外客",4,12.2,10.6,18.7,21.5,10.6,null,null,null,null,null,null,77.599999999999994,71.7,108.22873082287308]
[null,null,null,"内道内客",{"$f":"+E1192-E1193","v":13.100000000000001},{"$f":"+F1192-F1193","v":59.2},34.799999999999997,38.099999999999994,43.2,36.4,0,0,0,0,0,0,{"$f":"+Q1192-Q1193","v":224.79999999999998},196.1,114.63539010708821]
[null,null,null,"内日帰客",{"$f":"+E1192-E1196","v":16.3},{"$f":"+F1192-F1196","v":69.7},43.5,53.199999999999996,61.1,43.6,0,0,0,0,0,0,{"$f":"+Q1192-Q1196","v":287.39999999999998},254.5,112.92730844793712]
[null,null,null,"内宿泊客",0.8,1.7,1.9,3.6,3.6,3.4,null,null,null,null,null,null,15,13.3,112.78195488721805]
[null,null,null,"宿泊客延数",0.8,1.8,2.1,4,4.0999999999999996,4,null,null,null,null,null,null,16.799999999999997,15.000000000000002,111.99999999999997]
[{"$f":"$A$1","v":"１　令和５年度（2023年度）上期　市町村別・月別観光入込客数"}]
[null,null,null,null,null,null,null,null,null,null,null,null,null,null,null,null,null,null,"単位：入込総数→千人、宿泊客延数→千人泊、対前年比→％"]
["圏　域","振興局","市町村名","区　分","４　月","５　月","６　月","７　月","８　月","９　月","１０月","１１月","１２月","１　月","２　月","３　月","合計",{"$f":"$R$3","v":"R4年度上期"},"対前年比"]
[null,null,"浜中町","入込総数",24.6,25.9,47.8,62.6,33.5,45.6,null,null,null,null,null,null,{"$f":"SUM(E1201:P1201)","v":240},159,{"$f":"IF(Q1201=0,\"－\",Q1201/R1201*100)","v":150.9433962264151},null,"レンタカーを利用した道外からの旅行客（町内宿泊無し）が増加をしている。\n前年対比との増加は、新型コロナウイルスの影響前となる平成30年度上半期水準まで回復した状況と判断している。\n宿泊者の減については諸般の事情により営業を休止した事業者があったことに加え、さらには団体旅行の回復傾向から、釧路市内等（町外）での宿泊が優先された結果と判断している。",1]
[null,null,null,"内道外客",8.3000000000000007,7.3,17.5,32.5,15.3,13.5,null,null,null,null,null,null,94.399999999999991,50.7,186.19329388560155]
["釧路・根室","釧路",null,"内道内客",{"$f":"+E1201-E1202","v":16.3},{"$f":"+F1201-F1202","v":18.599999999999998},30.299999999999997,30.1,18.2,32.1,0,0,0,0,0,0,{"$f":"+Q1201-Q1202","v":145.60000000000002},108.30000000000001,134.44136657433057]
[null,null,null,"内日帰客",{"$f":"+E1201-E1205","v":24.5},{"$f":"+F1201-F1205","v":25.599999999999998},47.4,62.1,32.9,45.1,0,0,0,0,0,0,{"$f":"+Q1201-Q1205","v":237.6},150.19999999999999,158.18908122503331]
[null,null,null,"内宿泊客",0.1,0.3,0.4,0.5,0.6,0.5,null,null,null,null,null,null,2.4,8.7999999999999989,27.272727272727277]
[null,null,null,"宿泊客延数",0.1,0.3,0.5,0.6,0.7,0.5,null,null,null,null,null,null,2.7,9.2999999999999989,29.032258064516135]
[null,null,"標茶町","入込総数",3.4,8,13,18.2,23.2,18.5,null,null,null,null,null,null,84.3,75.2,112.10106382978722,null,"新型コロナウイルス感染症の位置づけが5類に移行されたことなど、規制緩和による増減とみられる。",1]
[null,null,null,"内道外客",1.8,4.2,6.7,9.4,12,9.6,null,null,null,null,null,null,43.7,39.200000000000003,111.4795918367347]
[null,null,null,"内道内客",{"$f":"+E1207-E1208","v":1.5999999999999999},{"$f":"+F1207-F1208","v":3.8},6.3,8.7999999999999989,11.2,8.9,0,0,0,0,0,0,{"$f":"+Q1207-Q1208","v":40.599999999999994},36,112.77777777777776]
[null,null,null,"内日帰客",{"$f":"+E1207-E1211","v":3},{"$f":"+F1207-F1211","v":6.7},11.7,16,20.3,16.5,0,0,0,0,0,0,{"$f":"+Q1207-Q1211","v":74.2},63.5,116.85039370078741]
[null,null,null,"内宿泊客",0.4,1.3,1.3,2.2000000000000002,2.9,2,null,null,null,null,null,null,10.1,11.7,86.324786324786331]
[null,null,null,"宿泊客延数",0.6,2.1,2.1,3.2,4.2,2.8,null,null,null,null,null,null,15,17.200000000000003,87.20930232558139]
[null,null,"弟子屈町","入込総数",27.5,74.2,81,105.1,126,87.6,null,null,null,null,null,null,501.4,453.5,110.56229327453141,null,"昨年度と比較すると道内入込数は客は減少したが、道外入込数は増加傾向にある。国内の入込数は燃料費の高騰もあり全体通すと昨年度と横ばい傾向。インバウンドは円安の影響もありインバウンドの入込が3800％延びている。",1]
[null,null,null,"内道外客",9.4,40.700000000000003,57.1,73.400000000000006,88.3,59,null,null,null,null,null,null,327.90000000000003,268.39999999999998,122.1684053651267]
[null,null,null,"内道内客",{"$f":"+E1213-E1214","v":18.100000000000001},{"$f":"+F1213-F1214","v":33.5},23.9,31.699999999999989,37.700000000000003,28.599999999999994,0,0,0,0,0,0,{"$f":"+Q1213-Q1214","v":173.49999999999994},185.10000000000002,93.733117233927572]
[null,null,null,"内日帰客",{"$f":"+E1213-E1217","v":21.7},{"$f":"+F1213-F1217","v":61.2},64.5,88.1,105.7,73,0,0,0,0,0,0,{"$f":"+Q1213-Q1217","v":414.2},370.70000000000005,111.73455624494197]
[null,null,null,"内宿泊客",5.8,13,16.5,17,20.3,14.6,null,null,null,null,null,null,87.199999999999989,82.800000000000011,105.31400966183573]
[null,null,null,"宿泊客延数",6.5,14.6,19.2,20,24.3,17.7,null,null,null,null,null,null,102.3,97.799999999999983,104.60122699386505]
[null,null,"鶴居村","入込総数",23.2,63.4,47.4,53.9,66.900000000000006,44.3,null,null,null,null,null,null,299.10000000000002,267.39999999999998,111.85489902767391,null,"新施設追加により前年比１１１.9％の増加。新施設を含めない場合前年比105％の微増。Brasserie Knotとつるいむら湿原温泉ホテルのみで約1.9万人の増加。",1]
[null,null,null,"内道外客",0.2,0.4,0.5,0.8,1.1000000000000001,0.7,null,null,null,null,null,null,3.7,2.8,132.14285714285717]
[null,null,null,"内道内客",{"$f":"+E1219-E1220","v":23},{"$f":"+F1219-F1220","v":63},46.9,53.1,65.800000000000011,43.599999999999994,0,0,0,0,0,0,{"$f":"+Q1219-Q1220","v":295.40000000000003},264.59999999999997,111.64021164021167]
[null,null,null,"内日帰客",{"$f":"+E1219-E1223","v":22.8},{"$f":"+F1219-F1223","v":62.699999999999996},46.6,52.9,65.800000000000011,43.3,0,0,0,0,0,0,{"$f":"+Q1219-Q1223","v":294.10000000000002},263.29999999999995,111.69768325104445]
[null,null,null,"内宿泊客",0.4,0.7,0.8,1,1.1000000000000001,1,null,null,null,null,null,null,5,4.0999999999999996,121.95121951219514]
[null,null,null,"宿泊客延数",0.4,0.7,0.8,1,1.1000000000000001,1,null,null,null,null,null,null,5,4.0999999999999996,121.95121951219514]
[null,null,"白糠町","入込総数",32.799999999999997,59.1,52.5,65.7,77.3,68.5,null,null,null,null,null,null,355.90000000000003,302.5,117.65289256198348,null,"新型コロナウイルス感染症が５類感染症に移行したことにより、規制が緩和したためと思われる。",1]
[null,null,null,"内道外客",0.5,0.6,0.9,1.3,1.1000000000000001,1,null,null,null,null,null,null,5.4,5.2,103.84615384615385]
[null,null,null,"内道内客",{"$f":"+E1225-E1226","v":32.299999999999997},{"$f":"+F1225-F1226","v":58.5},51.6,64.400000000000006,76.2,67.5,0,0,0,0,0,0,{"$f":"+Q1225-Q1226","v":350.50000000000006},297.3,117.8943827783384]
[null,null,null,"内日帰客",{"$f":"+E1225-E1229","v":32.299999999999997},{"$f":"+F1225-F1229","v":58.5},51.6,64.400000000000006,76.2,67.5,0,0,0,0,0,0,{"$f":"+Q1225-Q1229","v":350.50000000000006},297.3,117.8943827783384]
[null,null,null,"内宿泊客",0.5,0.6,0.9,1.3,1.1000000000000001,1,null,null,null,null,null,null,5.4,5.2,103.84615384615385]
[null,null,null,"宿泊客延数",0.5,0.6,0.9,1.3,1.1000000000000001,1,null,null,null,null,null,null,5.4,5.2,103.84615384615385]
[null,"根室振興局計",null,"入込総数",{"$f":"+E1237+E1243+E1249+E1258+E1264","v":46.599999999999994},182.7,190.9,278.3,312.8,287.29999999999995,0,0,0,0,0,0,1298.5999999999999,{"$f":"+R1237+R1243+R1249+R1258+R1264","v":884.2},146.86722460981676]
[null,null,null,"内道外客",16.099999999999998,81.599999999999994,81.900000000000006,100.5,115.6,107.89999999999999,0,0,0,0,0,0,503.6,393.6,127.94715447154472]
[null,null,null,"内道内客",30.499999999999996,101.1,109,177.79999999999998,197.20000000000002,179.40000000000003,0,0,0,0,0,0,794.99999999999989,490.59999999999997,162.04647370566653]
[null,null,null,"内日帰客",38.5,166,171.3,253.5,281.5,261.8,0,0,0,0,0,0,1172.5999999999999,781.8,149.98720900486057]
[null,null,null,"内宿泊客",8.1,16.7,19.600000000000001,24.8,31.3,25.5,0,0,0,0,0,0,126,102.4,123.046875]
[null,null,null,"宿泊客延数",11,21.099999999999998,25.1,30.9,37.599999999999994,34.799999999999997,0,0,0,0,0,0,160.5,134.69999999999999,119.15367483296215]
[null,null,"根室市","入込総数",8.6999999999999993,24.4,24,30.7,42.7,81.2,null,null,null,null,null,null,{"$f":"SUM(E1237:P1237)","v":211.7},185.4,114.18554476806904,null,"コロナ禍による入込減少が収まり、夏季の観光シーズンに向けた旅行需要の高まりが見られ、本年度上期の入込客数は対前年度比114.2％となった。",1]
[null,null,null,"内道外客",2.5,10.9,11.3,13.4,20,38.4,null,null,null,null,null,null,96.5,90.9,106.16061606160616]
[null,null,null,"内道内客",{"$f":"+E1237-E1238","v":6.1999999999999993},{"$f":"+F1237-F1238","v":13.499999999999998},12.7,17.299999999999997,22.700000000000003,42.800000000000004,0,0,0,0,0,0,{"$f":"+Q1237-Q1238","v":115.19999999999999},94.5,121.9047619047619]
[null,null,null,"内日帰客",{"$f":"+E1237-E1241","v":5.1999999999999993},{"$f":"+F1237-F1241","v":18.599999999999998},16.899999999999999,22.2,33.300000000000004,73,0,0,0,0,0,0,{"$f":"+Q1237-Q1241","v":169.2},144.6,117.01244813278009]
[null,null,null,"内宿泊客",3.5,5.8,7.1,8.5,9.4,8.1999999999999993,null,null,null,null,null,null,42.5,40.800000000000004,104.16666666666666]
[null,null,null,"宿泊客延数",5.0999999999999996,8.1999999999999993,9.5,11.3,12.4,11.2,null,null,null,null,null,null,57.699999999999989,57,101.22807017543857]
[null,null,"別海町","入込総数",6.7,40,35.799999999999997,79.8,47.5,69.3,null,null,null,null,null,null,279.10000000000002,177.90000000000003,156.88589094997187,null,"新型コロナウイルス感染症が5類感染症に移行したことで、コロナ禍前のように外出するようになり、コロナ期間では行けなかった場所へ遠出できるようになったことが要因だと考えられる。",1]
[null,null,null,"内道外客",3.6,23,20.6,28.9,26.4,22.3,null,null,null,null,null,null,124.8,95.700000000000017,130.40752351097177]
[null,null,null,"内道内客",{"$f":"+E1243-E1244","v":3.1},{"$f":"+F1243-F1244","v":17},15.199999999999996,50.9,21.1,47,0,0,0,0,0,0,{"$f":"+Q1243-Q1244","v":154.30000000000001},82.199999999999989,187.71289537712897]
[null,null,null,"内日帰客",{"$f":"+E1243-E1247","v":6.1000000000000005},{"$f":"+F1243-F1247","v":37.1},33.9,76.099999999999994,43.6,66.599999999999994,0,0,0,0,0,0,{"$f":"+Q1243-Q1247","v":263.40000000000003},164.2,160.41412911084046]
[null,null,null,"内宿泊客",0.6,2.9,1.9,3.7,3.9,2.7,null,null,null,null,null,null,15.700000000000003,13.7,114.59854014598542]
[null,null,null,"宿泊客延数",0.8,3.2,2.6,4.4000000000000004,4.5999999999999996,3.3,null,null,null,null,null,null,18.899999999999999,17.2,109.88372093023256]
[null,null,"中標津町","入込総数",6.1,21.3,20.6,39,57.7,28.7,null,null,null,null,null,null,173.39999999999998,132.5,130.86792452830187,null,"新型コロナウイルスが5類感染症に移行したことにより、各観光施設における来訪者数が増加した。また、観光諸行事においては昨年度は規模を縮小して開催していたものが通常規模での開催となり、観光入込客数の増加に繋がった。",1]
[null,null,null,"内道外客",1.8,8.4,8.6999999999999993,12.2,15.4,9.8000000000000007,null,null,null,null,null,null,56.3,56.5,99.646017699115035]
[null,null,null,"内道内客",{"$f":"+E1249-E1250","v":4.3},{"$f":"+F1249-F1250","v":12.9},11.900000000000002,26.8,42.300000000000004,18.899999999999999,0,0,0,0,0,0,{"$f":"+Q1249-Q1250","v":117.09999999999998},76,154.07894736842104]
[null,null,null,"内日帰客",{"$f":"+E1249-E1253","v":3.5999999999999996},{"$f":"+F1249-F1253","v":17},16,33.6,52,23.1,0,0,0,0,0,0,{"$f":"+Q1249-Q1253","v":145.29999999999998},106.4,136.56015037593983]
[null,null,null,"内宿泊客",2.5,4.3,4.5999999999999996,5.4,5.7,5.6,null,null,null,null,null,null,28.099999999999994,26.099999999999998,107.66283524904215]
[null,null,null,"宿泊客延数",3.2,5.5,6.3,6.7,6.9,6.9,null,null,null,null,null,null,35.5,34.5,102.89855072463767]
[{"$f":"$A$1","v":"１　令和５年度（2023年度）上期　市町村別・月別観光入込客数"}]
[null,null,null,null,null,null,null,null,null,null,null,null,null,null,null,null,null,null,"単位：千人、千人泊、％"]
["圏　域","振興局","市町村名","区　分","４　月","５　月","６　月","７　月","８　月","９　月","１０月","１１月","１２月","１　月","２　月","３　月","合計",{"$f":"$R$3","v":"R4年度上期"},"対前年比"]
[null,null,"標津町","入込総数",8.1999999999999993,40,45.5,48.8,71.900000000000006,44.1,null,null,null,null,null,null,{"$f":"SUM(E1258:P1258)","v":258.5},191.9,{"$f":"IF(Q1258=0,\"－\",Q1258/R1258*100)","v":134.70557582073997},null,"新型コロナウイルス感染症対策として中止となっていたイベントが開催されたことと、対策の緩和などの影響による。",1]
[null,null,null,"内道外客",4,24.3,24.3,25,27.8,20.100000000000001,null,null,null,null,null,null,125.5,98.699999999999989,127.15298885511652]
[null,null,null,"内道内客",{"$f":"+E1258-E1259","v":4.1999999999999993},{"$f":"+F1258-F1259","v":15.7},21.2,23.799999999999997,44.100000000000009,24,0,0,0,0,0,0,{"$f":"+Q1258-Q1259","v":133},93.199999999999989,142.70386266094422]
[null,null,null,"内日帰客",{"$f":"+E1258-E1262","v":7.9999999999999991},{"$f":"+F1258-F1262","v":39.4},44.5,47.8,70.600000000000009,43,0,0,0,0,0,0,{"$f":"+Q1258-Q1262","v":253.3},189,134.02116402116403]
[null,null,null,"内宿泊客",0.2,0.6,1,1,1.3,1.1000000000000001,null,null,null,null,null,null,5.1999999999999993,2.9,179.31034482758619]
[null,null,null,"宿泊客延数",0.5,0.9,1.3,1.4,1.7,1.6,null,null,null,null,null,null,7.4,5.7,129.82456140350877]
[null,null,"羅臼町","入込総数",16.899999999999999,57,65,80,93,64,null,null,null,null,null,null,375.9,196.5,191.29770992366412,null,"4月：政府からの感染拡大地域との往来自粛の規制も解かれ、受け入れ側におけるビザの免除措置政策やLCC（格安航空会社）の就航もありインバウンドが増え総入込数は、昨年度と比較すると増加した。また、４月より目視から自動カウンターに集計方法を変更したことで、今年度は前年度との比較が困難となっている。　　　　　　　　　　　　　　　　　　　　　　5月：インバウンドでの観光客も多くなってきている。北海道でもインバウンド施策が急増している事もあり、北海道を回っている観光客が増え、中国に関しては、ビザ発給要件の緩和に伴う個人旅行者の増加、韓国に関しては訪日客の増加の要因が挙げられている。　　　　　　　　　　　　　　　　　　　　　　　　　　　　　　　　　　　　　　　　　　　　　　　　　　６月：観光船乗船者数では、チャーター船の受け入れをしている為、減少したとの事。\nインバウンドでの観光客も多くなり、北海道でもインバウンド施策が急増している為、北海道を周遊する観光客が増え、中国人観光客に関しては、ビザ発給要件の緩和に伴う個人旅行者の増加、韓国に関しては訪日客の増加の要因が挙げられている。　　　　　　　　７月：観光船乗者数では、チャーター船の受け入れをしている事とコロナウイルス感染予防の為に減少していると思われる。\nインバウンドでの外国人の宿泊者や道外の方の来町が増え、観光での宿泊者では、特に国設キャンプ場を道外の方が３分の１の利用となっている。　　　　　　　　　　　　　　　　　８月：７月中旬から8月31日まで、子ども達は、夏休に入り、海外への旅行も増えたが、コロナウイルス感染予防は続いている為、外出を控えている中で、キャンプ場などの利用が増えていると思われる。　　　　　　　　　　　　　　　　　　　　　　　　　　　　　　　　　　９月：９月の宿泊入込数は、昨年度と比較すると3，844人の増加。令和元年と比較すると3，734人の増加。観光船乗者数では、令和５年度は2,423人で。令和元年は3，180人で減少傾向。子供たちのいる家族は、夏休みも終わり、例年観光客が減少している時期でもあるが、夏休み明け10代の子供たちにコロナウイルス感染者が、多くみられ外出も控える状況だったと思われる。",1]
[null,null,null,"内道外客",4.2,15,17,21,26,17.3,null,null,null,null,null,null,100.5,51.8,194.01544401544402]
[null,null,null,"内道内客",{"$f":"+E1264-E1265","v":12.7},{"$f":"+F1264-F1265","v":42},48,59,67,46.7,0,0,0,0,0,0,{"$f":"+Q1264-Q1265","v":275.39999999999998},144.69999999999999,190.32480995162405]
[null,null,null,"内日帰客",{"$f":"+E1264-E1268","v":15.599999999999998},{"$f":"+F1264-F1268","v":53.9},60,73.8,82,56.1,0,0,0,0,0,0,{"$f":"+Q1264-Q1268","v":341.4},177.6,192.22972972972971]
[null,null,null,"内宿泊客",1.3,3.1,5,6.2,11,7.9,null,null,null,null,null,null,34.5,18.899999999999999,182.53968253968256]
[null,null,null,"宿泊客延数",1.4,3.3,5.4,7.1,12,11.8,null,null,null,null,null,null,41,20.299999999999997,201.97044334975374]

{"sheet":"上期　25頁","index":4,"n_rows":392,"n_cols":26,"rows_kept":392,"cut":false,"hidden":false,"merged":[[14,3,15,3],[16,1,17,3],[18,3,19,3],[12,3,13,3],[2,1,3,3],[6,3,7,3],[8,3,9,3],[10,1,11,3],[2,4,3,4],[2,5,2,12],[2,20,2,21],[2,24,3,24],[4,1,5,3],[2,22,3,22],[2,23,3,23],[20,3,21,3],[22,1,23,3],[38,3,39,3],[40,1,41,3],[42,3,43,3],[24,3,25,3],[44,3,45,3],[26,3,27,3],[28,1,29,3],[30,3,31,3],[32,3,33,3],[34,1,35,3],[36,3,37,3]]}
[" ","３　令和５年度（2023年度）上期　圏域別・国別訪日外国人宿泊者数（延べ人数）"]
[null,null,null,null,null,null,null,null,null,null,null,null,null,null,null,null,null,null,null,null,null,null,null,null,"単位：宿泊客数→人、宿泊客延数→人泊、対前年比→％"]
[null,"圏　　　域",null,null,"人　数","ア　　　　　　　　ジ　　　　　　　　ア",null,null,null,null,null,null,null,null,null,null,"ヨ　　　ー　　　ロ　　　ッ　　　パ",null,null,null,"北　　　　米",null,"オーストラリア","その他","計"]
[null,null,null,null,null,"中　国","韓　国","台　湾","香　港","シンガポール","マレーシア","タイ","インド","インドネシア","フィリピン","ベトナム","ロシア","イギリス","フランス","ドイツ","アメリカ","カナダ"]
[null,"北海道計",null,null,"宿泊人数",{"$f":"F11+F17+F23+F29+F35+F41","v":80918},{"$f":"G11+G17+G23+G29+G35+G41","v":307712},435463,145330,94823,23832,31817,1446,9126,8495,4011,689,7825,5701,5917,53248,7223,17222,118618,1359416]
[null,null,null,null,"宿泊延数",{"$f":"F12+F18+F24+F30+F36+F42","v":134845.13902439026},496041.8,567301,229947,150683,38594,51321,3788,18091,20467,7151,1222,15522,9673,9833,98752,14996,33986,174959,2077172.9390243902]
[null,null,null,{"$f":"'上期　1頁'!P3","v":"R4年度上期"},"宿泊人数",2702,555,786,341,216,167,328,174,201,190,1041,259,374,739,365,2335,205,313,3119,{"$f":"SUM(F7:X7)","v":14410}]
[null,null,null,null,"宿泊延数",4191,888,1340,640,406,324,753,466,392,675,1822,402,668,1102,551,3710,307,501,5149,{"$f":"SUM(F8:X8)","v":24287}]
[null,null,null,"対前年比","宿泊人数",{"$f":"IF(F7=0,\"- \",+F5/F7)","v":29.947446336047371},554.43603603603606,554.02417302798983,426.18768328445748,438.99537037037038,142.70658682634732,97.003048780487802,8.3103448275862064,{"$f":"IF(N7=0,\"- \",+N5/N7)","v":45.402985074626862},{"$f":"IF(O7=0,\"- \",+O5/O7)","v":44.710526315789473},3.8530259365994235,2.66023166023166,20.922459893048128,7.7144790257104194,16.210958904109589,22.804282655246254,35.234146341463415,55.022364217252395,38.030779095864062,94.338376127689102]
[null,null,null,null,"宿泊延数",32.174931764349857,558.60563063063057,423.35895522388057,359.29218750000001,371.14039408866995,119.11728395061728,68.155378486055781,8.1287553648068673,46.150510204081634,30.321481481481481,3.9248079034028538,3.0398009950248754,23.236526946107784,8.7776769509981847,17.845735027223231,26.6177897574124,48.846905537459286,67.836327345309385,33.979219265876871,85.526122576867877]
[null,"道央圏域計",null,null,"宿泊人数",{"$f":"'上期　26-32頁'!E6","v":46989},{"$f":"'上期　26-32頁'!F6","v":243514},{"$f":"'上期　26-32頁'!G6","v":214474},{"$f":"'上期　26-32頁'!H6","v":75735},{"$f":"'上期　26-32頁'!I6","v":47396},{"$f":"'上期　26-32頁'!J6","v":13461},{"$f":"'上期　26-32頁'!K6","v":18603},{"$f":"'上期　26-32頁'!L6","v":791},{"$f":"'上期　26-32頁'!M6","v":5583},{"$f":"'上期　26-32頁'!N6","v":5038},{"$f":"'上期　26-32頁'!O6","v":2879},{"$f":"'上期　26-32頁'!P6","v":314},{"$f":"'上期　26-32頁'!Q6","v":4484},{"$f":"'上期　26-32頁'!R6","v":2091},{"$f":"'上期　26-32頁'!S6","v":2262},{"$f":"'上期　26-32頁'!T6","v":30981},{"$f":"'上期　26-32頁'!U6","v":4193},{"$f":"'上期　26-32頁'!V6","v":9906},{"$f":"'上期　26-32頁'!W6","v":79389},{"$f":"SUM(F11:X11)","v":808083}]
[null,null,null,null,"宿泊延数",{"$f":"'上期　26-32頁'!E7","v":87192.439024390245},{"$f":"'上期　26-32頁'!F7","v":415671},{"$f":"'上期　26-32頁'!G7","v":320684},{"$f":"'上期　26-32頁'!H7","v":142979},{"$f":"'上期　26-32頁'!I7","v":90932},{"$f":"'上期　26-32頁'!J7","v":25911},{"$f":"'上期　26-32頁'!K7","v":34128},{"$f":"'上期　26-32頁'!L7","v":2803},{"$f":"'上期　26-32頁'!M7","v":13447},{"$f":"'上期　26-32頁'!N7","v":15697},{"$f":"'上期　26-32頁'!O7","v":5191},{"$f":"'上期　26-32頁'!P7","v":661},{"$f":"'上期　26-32頁'!Q7","v":10169},{"$f":"'上期　26-32頁'!R7","v":4633},{"$f":"'上期　26-32頁'!S7","v":4860},{"$f":"'上期　26-32頁'!T7","v":67270},{"$f":"'上期　26-32頁'!U7","v":10486},{"$f":"'上期　26-32頁'!V7","v":23144},{"$f":"'上期　26-32頁'!W7","v":123639},{"$f":"SUM(F12:X12)","v":1399497.4390243902}]
[null,null,null,{"$f":"$D$7","v":"R4年度上期"},"宿泊人数",1536,307,429,267,135,104,238,136,114,102,762,164,248,305,182,1718,96,158,1425,{"$f":"SUM(F13:X13)","v":8426}]
[null,null,null,null,"宿泊延数",2620,606,933,510,279,257,625,322,277,272,1170,299,494,539,349,2928,184,304,2605,{"$f":"SUM(F14:X14)","v":15573}]
[null,null,null,"対前年比","宿泊人数",{"$f":"IF(F13=0,\"- \",+F11/F13)","v":30.591796875},793.20521172638439,499.93939393939394,283.65168539325845,351.08148148148149,129.43269230769232,78.163865546218489,5.8161764705882355,48.973684210526315,49.392156862745097,3.7782152230971127,1.9146341463414633,18.080645161290324,6.8557377049180328,12.428571428571429,18.033178114086148,43.677083333333336,62.696202531645568,55.711578947368423,95.903512936150008]
[null,null,null,null,"宿泊延数",33.279556879538262,685.92574257425747,343.71275455519827,280.35098039215688,325.92114695340501,100.82101167315174,54.604799999999997,8.7049689440993792,48.545126353790614,57.709558823529413,4.436752136752137,2.2107023411371238,20.585020242914979,8.5955473098330248,13.925501432664756,22.974726775956285,56.989130434782609,76.131578947368425,47.46218809980806,89.866913184639458]
[null,"道南圏域計",null,null,"宿泊人数",{"$f":"'上期　26-32頁'!E168","v":8291},{"$f":"'上期　26-32頁'!F168","v":10305},{"$f":"'上期　26-32頁'!G168","v":87432},{"$f":"'上期　26-32頁'!H168","v":13423},{"$f":"'上期　26-32頁'!I168","v":11308},{"$f":"'上期　26-32頁'!J168","v":1896},{"$f":"'上期　26-32頁'!K168","v":4782},{"$f":"'上期　26-32頁'!L168","v":163},{"$f":"'上期　26-32頁'!M168","v":1459},{"$f":"'上期　26-32頁'!N168","v":1271},{"$f":"'上期　26-32頁'!O168","v":323},{"$f":"'上期　26-32頁'!P168","v":78},{"$f":"'上期　26-32頁'!Q168","v":1101},{"$f":"'上期　26-32頁'!R168","v":850},{"$f":"'上期　26-32頁'!S168","v":1247},{"$f":"'上期　26-32頁'!T168","v":7510},{"$f":"'上期　26-32頁'!U168","v":1257},{"$f":"'上期　26-32頁'!V168","v":2939},{"$f":"'上期　26-32頁'!W168","v":7030},{"$f":"SUM(F17:X17)","v":162665}]
[null,null,null,null,"宿泊延数",{"$f":"'上期　26-32頁'!E169","v":13341},{"$f":"'上期　26-32頁'!F169","v":14336},{"$f":"'上期　26-32頁'!G169","v":95204},{"$f":"'上期　26-32頁'!H169","v":17473},{"$f":"'上期　26-32頁'!I169","v":14886},{"$f":"'上期　26-32頁'!J169","v":2973},{"$f":"'上期　26-32頁'!K169","v":7320},{"$f":"'上期　26-32頁'!L169","v":209},{"$f":"'上期　26-32頁'!M169","v":2053},{"$f":"'上期　26-32頁'!N169","v":2276},{"$f":"'上期　26-32頁'!O169","v":658},{"$f":"'上期　26-32頁'!P169","v":92},{"$f":"'上期　26-32頁'!Q169","v":2399},{"$f":"'上期　26-32頁'!R169","v":1631},{"$f":"'上期　26-32頁'!S169","v":1952},{"$f":"'上期　26-32頁'!T169","v":12923},{"$f":"'上期　26-32頁'!U169","v":2223},{"$f":"'上期　26-32頁'!V169","v":5268},{"$f":"'上期　26-32頁'!W169","v":12327},{"$f":"SUM(F18:X18)","v":209544}]
[null,null,null,{"$f":"$D$7","v":"R4年度上期"},"宿泊人数",490,82,85,9,8,27,23,9,26,62,36,23,23,65,44,120,33,32,448,{"$f":"SUM(F19:X19)","v":1645}]
[null,null,null,null,"宿泊延数",678,85,85,12,9,27,38,107,26,351,142,27,23,100,44,180,37,32,906,{"$f":"SUM(F20:X20)","v":2909}]
[null,null,null,"対前年比","宿泊人数",{"$f":"IF(F19=0,\"- \",+F17/F19)","v":16.920408163265307},125.67073170731707,1028.6117647058823,1491.4444444444443,1413.5,70.222222222222229,207.91304347826087,18.111111111111111,56.115384615384613,20.5,8.9722222222222214,3.3913043478260869,47.869565217391305,13.076923076923077,28.34090909090909,62.583333333333336,38.090909090909093,91.84375,15.691964285714286,98.884498480243167]
[null,null,null,null,"宿泊延数",19.676991150442479,168.65882352941176,1120.0470588235294,1456.0833333333333,1654,110.11111111111111,192.63157894736841,1.9532710280373833,78.961538461538467,6.4843304843304841,4.6338028169014081,3.4074074074074074,104.30434782608695,16.309999999999999,44.363636363636367,71.794444444444451,60.081081081081081,164.625,13.605960264900663,72.033001031282225]
[null,"道北圏域計",null,null,"宿泊人数",{"$f":"'上期　26-32頁'!E215","v":14162},{"$f":"'上期　26-32頁'!F215","v":44522},{"$f":"'上期　26-32頁'!G215","v":77483},{"$f":"'上期　26-32頁'!H215","v":32601},{"$f":"'上期　26-32頁'!I215","v":22915},{"$f":"'上期　26-32頁'!J215","v":4688},{"$f":"'上期　26-32頁'!K215","v":6702},{"$f":"'上期　26-32頁'!L215","v":410},{"$f":"'上期　26-32頁'!M215","v":1747},{"$f":"'上期　26-32頁'!N215","v":2021},{"$f":"'上期　26-32頁'!O215","v":544},{"$f":"'上期　26-32頁'!P215","v":201},{"$f":"'上期　26-32頁'!Q215","v":1247},{"$f":"'上期　26-32頁'!R215","v":1065},{"$f":"'上期　26-32頁'!S215","v":1092},{"$f":"'上期　26-32頁'!T215","v":8661},{"$f":"'上期　26-32頁'!U215","v":1113},{"$f":"'上期　26-32頁'!V215","v":2598},{"$f":"'上期　26-32頁'!W215","v":21874},{"$f":"SUM(F23:X23)","v":245646}]
[null,null,null,null,"宿泊延数",{"$f":"'上期　26-32頁'!E216","v":20613},{"$f":"'上期　26-32頁'!F216","v":54434},{"$f":"'上期　26-32頁'!G216","v":92631},{"$f":"'上期　26-32頁'!H216","v":43306},{"$f":"'上期　26-32頁'!I216","v":30483},{"$f":"'上期　26-32頁'!J216","v":5758},{"$f":"'上期　26-32頁'!K216","v":7930},{"$f":"'上期　26-32頁'!L216","v":652},{"$f":"'上期　26-32頁'!M216","v":2025},{"$f":"'上期　26-32頁'!N216","v":2279},{"$f":"'上期　26-32頁'!O216","v":658},{"$f":"'上期　26-32頁'!P216","v":331},{"$f":"'上期　26-32頁'!Q216","v":1633},{"$f":"'上期　26-32頁'!R216","v":1414},{"$f":"'上期　26-32頁'!S216","v":1409},{"$f":"'上期　26-32頁'!T216","v":11368},{"$f":"'上期　26-32頁'!U216","v":1537},{"$f":"'上期　26-32頁'!V216","v":3489},{"$f":"'上期　26-32頁'!W216","v":26983},{"$f":"SUM(F24:X24)","v":308933}]
[null,null,null,{"$f":"$D$7","v":"R4年度上期"},"宿泊人数",337,75,165,37,48,28,42,22,33,15,114,26,40,136,69,216,41,87,606,{"$f":"SUM(F25:X25)","v":2137}]
[null,null,null,null,"宿泊延数",474,98,213,86,83,31,54,30,39,31,170,30,52,201,85,298,50,122,922,{"$f":"SUM(F26:X26)","v":3069}]
[null,null,null,"対前年比","宿泊人数",{"$f":"IF(F25=0,\"- \",+F23/F25)","v":42.023738872403563},593.62666666666667,469.59393939393942,881.10810810810813,477.39583333333331,167.42857142857142,159.57142857142858,18.636363636363637,52.939393939393938,134.73333333333332,4.7719298245614032,7.7307692307692308,31.175000000000001,7.8308823529411766,15.826086956521738,40.097222222222221,27.146341463414632,29.862068965517242,36.095709570957098,114.94899391670566]
[null,null,null,null,"宿泊延数",43.4873417721519,555.44897959183675,434.88732394366195,503.55813953488371,367.26506024096386,185.74193548387098,146.85185185185185,21.733333333333334,51.92307692307692,73.516129032258064,3.8705882352941177,11.033333333333333,31.403846153846153,7.0348258706467659,16.576470588235296,38.147651006711406,30.74,28.598360655737704,29.265726681127983,100.66243075920495]
[null,"オホーツク圏域計",null,null,"宿泊人数",{"$f":"'上期　26-32頁'!E310","v":3769},{"$f":"'上期　26-32頁'!F310","v":2238},{"$f":"'上期　26-32頁'!G310","v":12674},{"$f":"'上期　26-32頁'!H310","v":10140},{"$f":"'上期　26-32頁'!I310","v":6942},{"$f":"'上期　26-32頁'!J310","v":1466},{"$f":"'上期　26-32頁'!K310","v":772},{"$f":"'上期　26-32頁'!L310","v":23},{"$f":"'上期　26-32頁'!M310","v":75},{"$f":"'上期　26-32頁'!N310","v":89},{"$f":"'上期　26-32頁'!O310","v":26},{"$f":"'上期　26-32頁'!P310","v":14},{"$f":"'上期　26-32頁'!Q310","v":435},{"$f":"'上期　26-32頁'!R310","v":793},{"$f":"'上期　26-32頁'!S310","v":639},{"$f":"'上期　26-32頁'!T310","v":2579},{"$f":"'上期　26-32頁'!U310","v":248},{"$f":"'上期　26-32頁'!V310","v":779},{"$f":"'上期　26-32頁'!W310","v":3096},{"$f":"SUM(F29:X29)","v":46797}]
[null,null,null,null,"宿泊延数",{"$f":"'上期　26-32頁'!E311","v":4199.7},{"$f":"'上期　26-32頁'!F311","v":2784.8},{"$f":"'上期　26-32頁'!G311","v":13465},{"$f":"'上期　26-32頁'!H311","v":10696},{"$f":"'上期　26-32頁'!I311","v":7375},{"$f":"'上期　26-32頁'!J311","v":1523},{"$f":"'上期　26-32頁'!K311","v":821},{"$f":"'上期　26-32頁'!L311","v":35},{"$f":"'上期　26-32頁'!M311","v":180},{"$f":"'上期　26-32頁'!N311","v":133},{"$f":"'上期　26-32頁'!O311","v":46},{"$f":"'上期　26-32頁'!P311","v":16},{"$f":"'上期　26-32頁'!Q311","v":488},{"$f":"'上期　26-32頁'!R311","v":857},{"$f":"'上期　26-32頁'!S311","v":734},{"$f":"'上期　26-32頁'!T311","v":2932},{"$f":"'上期　26-32頁'!U311","v":278},{"$f":"'上期　26-32頁'!V311","v":856},{"$f":"'上期　26-32頁'!W311","v":3450},{"$f":"SUM(F30:X30)","v":50869.5}]
[null,null,null,{"$f":"$D$7","v":"R4年度上期"},"宿泊人数",96,9,49,4,18,2,12,0,6,7,47,12,33,90,39,113,17,15,158,{"$f":"SUM(F31:X31)","v":727}]
[null,null,null,null,"宿泊延数",108,10,50,4,26,2,16,0,6,17,85,12,60,93,41,118,18,20,189,{"$f":"SUM(F32:X32)","v":875}]
[null,null,null,"対前年比","宿泊人数",{"$f":"IF(F31=0,\"- \",+F29/F31)","v":39.260416666666664},248.66666666666666,258.65306122448982,2535,385.66666666666669,733,64.333333333333329,"- ",12.5,12.714285714285714,0.55319148936170215,1.1666666666666667,13.181818181818182,8.8111111111111118,16.384615384615383,22.823008849557521,14.588235294117647,51.93333333333333,19.594936708860761,64.370013755158183]
[null,null,null,null,"宿泊延数",38.886111111111113,278.48,269.3,2674,283.65384615384613,761.5,51.3125,"- ",30,7.8235294117647056,0.54117647058823526,1.3333333333333333,8.1333333333333329,9.21505376344086,17.902439024390244,24.847457627118644,15.444444444444445,42.8,18.253968253968253,58.136571428571429]
[null,"十勝圏域計",null,null,"宿泊人数",{"$f":"'上期　26-32頁'!E355","v":2616},{"$f":"'上期　26-32頁'!F355","v":4669},{"$f":"'上期　26-32頁'!G355","v":21364},{"$f":"'上期　26-32頁'!H355","v":6134},{"$f":"'上期　26-32頁'!I355","v":1540},{"$f":"'上期　26-32頁'!J355","v":717},{"$f":"'上期　26-32頁'!K355","v":320},{"$f":"'上期　26-32頁'!L355","v":24},{"$f":"'上期　26-32頁'!M355","v":119},{"$f":"'上期　26-32頁'!N355","v":14},{"$f":"'上期　26-32頁'!O355","v":156},{"$f":"'上期　26-32頁'!P355","v":12},{"$f":"'上期　26-32頁'!Q355","v":169},{"$f":"'上期　26-32頁'!R355","v":149},{"$f":"'上期　26-32頁'!S355","v":154},{"$f":"'上期　26-32頁'!T355","v":1215},{"$f":"'上期　26-32頁'!U355","v":151},{"$f":"'上期　26-32頁'!V355","v":257},{"$f":"'上期　26-32頁'!W355","v":1255},{"$f":"SUM(F35:X35)","v":41035}]
[null,null,null,null,"宿泊延数",{"$f":"'上期　26-32頁'!E356","v":3107},{"$f":"'上期　26-32頁'!F356","v":5845},{"$f":"'上期　26-32頁'!G356","v":21980},{"$f":"'上期　26-32頁'!H356","v":7406},{"$f":"'上期　26-32頁'!I356","v":1780},{"$f":"'上期　26-32頁'!J356","v":767},{"$f":"'上期　26-32頁'!K356","v":398},{"$f":"'上期　26-32頁'!L356","v":25},{"$f":"'上期　26-32頁'!M356","v":182},{"$f":"'上期　26-32頁'!N356","v":16},{"$f":"'上期　26-32頁'!O356","v":464},{"$f":"'上期　26-32頁'!P356","v":14},{"$f":"'上期　26-32頁'!Q356","v":248},{"$f":"'上期　26-32頁'!R356","v":174},{"$f":"'上期　26-32頁'!S356","v":170},{"$f":"'上期　26-32頁'!T356","v":1523},{"$f":"'上期　26-32頁'!U356","v":168},{"$f":"'上期　26-32頁'!V356","v":284},{"$f":"'上期　26-32頁'!W356","v":1673},{"$f":"SUM(F36:X36)","v":46224}]
[null,null,null,{"$f":"$D$7","v":"R4年度上期"},"宿泊人数",79,118,27,64,11,46,40,8,1,7,25,1,11,9,63,166,17,50,147,{"$f":"SUM(F37:X37)","v":890}]
[null,null,null,null,"宿泊延数",136,189,45,78,17,51,54,13,3,10,38,1,15,24,83,796,26,50,195,{"$f":"SUM(F38:X38)","v":1824}]
[null,null,null,"対前年比","宿泊人数",{"$f":"IF(F37=0,\"- \",+F35/F37)","v":33.11392405063291},39.567796610169495,791.25925925925924,95.84375,140,15.586956521739131,8,3,119,2,6.24,12,15.363636363636363,16.555555555555557,2.4444444444444446,7.3192771084337354,8.882352941176471,5.14,8.5374149659863949,46.106741573033709]
[null,null,null,null,"宿泊延数",22.845588235294116,30.925925925925927,488.44444444444446,94.948717948717942,104.70588235294117,15.03921568627451,7.3703703703703702,1.9230769230769231,60.666666666666664,1.6,12.210526315789474,14,16.533333333333335,7.25,2.0481927710843375,1.9133165829145728,6.4615384615384617,5.68,8.5794871794871792,25.342105263157894]
[null,"釧路・根室圏域計",null,null,"宿泊人数",{"$f":"'上期　26-32頁'!E402","v":5091},{"$f":"'上期　26-32頁'!F402","v":2464},{"$f":"'上期　26-32頁'!G402","v":22036},{"$f":"'上期　26-32頁'!H402","v":7297},{"$f":"'上期　26-32頁'!I402","v":4722},{"$f":"'上期　26-32頁'!J402","v":1604},{"$f":"'上期　26-32頁'!K402","v":638},{"$f":"'上期　26-32頁'!L402","v":35},{"$f":"'上期　26-32頁'!M402","v":143},{"$f":"'上期　26-32頁'!N402","v":62},{"$f":"'上期　26-32頁'!O402","v":83},{"$f":"'上期　26-32頁'!P402","v":70},{"$f":"'上期　26-32頁'!Q402","v":389},{"$f":"'上期　26-32頁'!R402","v":753},{"$f":"'上期　26-32頁'!S402","v":523},{"$f":"'上期　26-32頁'!T402","v":2302},{"$f":"'上期　26-32頁'!U402","v":261},{"$f":"'上期　26-32頁'!V402","v":743},{"$f":"'上期　26-32頁'!W402","v":5974},{"$f":"SUM(F41:X41)","v":55190}]
[null,null,null,null,"宿泊延数",{"$f":"'上期　26-32頁'!E403","v":6392},{"$f":"'上期　26-32頁'!F403","v":2971},{"$f":"'上期　26-32頁'!G403","v":23337},{"$f":"'上期　26-32頁'!H403","v":8087},{"$f":"'上期　26-32頁'!I403","v":5227},{"$f":"'上期　26-32頁'!J403","v":1662},{"$f":"'上期　26-32頁'!K403","v":724},{"$f":"'上期　26-32頁'!L403","v":64},{"$f":"'上期　26-32頁'!M403","v":204},{"$f":"'上期　26-32頁'!N403","v":66},{"$f":"'上期　26-32頁'!O403","v":134},{"$f":"'上期　26-32頁'!P403","v":108},{"$f":"'上期　26-32頁'!Q403","v":585},{"$f":"'上期　26-32頁'!R403","v":964},{"$f":"'上期　26-32頁'!S403","v":708},{"$f":"'上期　26-32頁'!T403","v":2736},{"$f":"'上期　26-32頁'!U403","v":304},{"$f":"'上期　26-32頁'!V403","v":945},{"$f":"'上期　26-32頁'!W403","v":6887},{"$f":"SUM(F42:X42)","v":62105}]
[null,null,null,{"$f":"$D$7","v":"R4年度上期"},"宿泊人数",180,68,35,12,3,3,8,5,14,2,59,32,18,124,22,118,16,14,423,1156]
[null,null,null,null,"宿泊延数",237,74,35,13,5,3,14,5,34,2,231,32,26,145,22,128,16,14,456,1492]
[null,null,null,"対前年比","宿泊人数",{"$f":"IF(F43=0,\"- \",+F41/F43)","v":28.283333333333335},36.235294117647058,629.6,608.08333333333337,1574,534.66666666666663,79.75,7,10.214285714285714,31,1.4067796610169492,2.1875,21.611111111111111,6.07258064516129,23.772727272727273,19.508474576271187,16.3125,53.071428571428569,14.122931442080379,47.742214532871969]
[null,null,null,null,"宿泊延数",26.970464135021096,40.148648648648646,666.7714285714286,622.07692307692309,1045.4000000000001,554,51.714285714285715,12.8,6,33,0.58008658008658009,3.375,22.5,6.6482758620689655,32.18181818181818,21.375,19,67.5,15.103070175438596,41.625335120643435]
[null,null,null,null,null,null,null,"※本表の29年度上期欄は、29年度報告による数値であるため、４表の29年度上期欄と一致しないことがある。"]
[]
[]
[]
[]
[]
[]
[]
[]
[]
[]
[]
[]
[]
[]
[]
[]
[]
[]
[]
[null,null,null,null,null,null,null,null,null,null,null,null,null,null,null,null,null,null,null,null,null,null,null,null,null,{"$f":"Z2","v":0}]
[]
[]
[]
[]
[]
[]
[]
[]
[]
[]
[]
[]
[]
[]
[]
[]
[]
[]
[]
[]
[]
[]
[]
[]
[]
[]
[]
[]
[]
[]
[]
[]
[]
[]
[]
[]
[]
[]
[]
[]
[]
[]
[]
[]
[]
[]
[]
[]
[]
[]
[]
[]
[]
[]
[]
[]
[]
[]
[]
[]
[]
[]
[]
[]
[null,null,null,null,null,null,null,null,null,null,null,null,null,null,null,null,null,null,null,null,null,null,null,null,null,{"$f":"Z67","v":0}]
[]
[]
[]
[]
[]
[]
[]
[]
[]
[]
[]
[]
[]
[]
[]
[]
[]
[]
[]
[]
[]
[]
[]
[]
[]
[]
[]
[]
[]
[]
[]
[]
[]
[]
[]
[]
[]
[]
[]
[]
[]
[]
[]
[]
[]
[]
[]
[]
[]
[]
[]
[]
[]
[]
[]
[]
[]
[]
[]
[]
[]
[]
[]
[]
[null,null,null,null,null,null,null,null,null,null,null,null,null,null,null,null,null,null,null,null,null,null,null,null,null,{"$f":"Z132","v":0}]
[]
[]
[]
[]
[]
[]
[]
[]
[]
[]
[]
[]
[]
[]
[]
[]
[]
[]
[]
[]
[]
[]
[]
[]
[]
[]
[]
[]
[]
[]
[]
[]
[]
[]
[]
[]
[]
[]
[]
[]
[]
[]
[]
[]
[]
[]
[]
[]
[]
[]
[]
[]
[]
[]
[]
[]
[]
[]
[]
[]
[]
[]
[]
[]
[null,null,null,null,null,null,null,null,null,null,null,null,null,null,null,null,null,null,null,null,null,null,null,null,null,{"$f":"Z197","v":0}]
[]
[]
[]
[]
[]
[]
[]
[]
[]
[]
[]
[]
[]
[]
[]
[]
[]
[]
[]
[]
[]
[]
[]
[]
[]
[]
[]
[]
[]
[]
[]
[]
[]
[]
[]
[]
[]
[]
[]
[]
[]
[]
[]
[]
[]
[]
[]
[]
[]
[]
[]
[]
[]
[]
[]
[]
[]
[]
[]
[]
[]
[]
[]
[]
[null,null,null,null,null,null,null,null,null,null,null,null,null,null,null,null,null,null,null,null,null,null,null,null,null,{"$f":"Z262","v":0}]
[]
[]
[]
[]
[]
[]
[]
[]
[]
[]
[]
[]
[]
[]
[]
[]
[]
[]
[]
[]
[]
[]
[]
[]
[]
[]
[]
[]
[]
[]
[]
[]
[]
[]
[]
[]
[]
[]
[]
[]
[]
[]
[]
[]
[]
[]
[]
[]
[]
[]
[]
[]
[]
[]
[]
[]
[]
[]
[]
[]
[]
[]
[]
[]
[null,null,null,null,null,null,null,null,null,null,null,null,null,null,null,null,null,null,null,null,null,null,null,null,null,{"$f":"Z327","v":0}]

{"sheet":"上期　26-32頁","index":5,"n_rows":433,"n_cols":34,"rows_kept":433,"cut":false,"hidden":false,"merged":[[3,0,4,2],[5,0,6,2],[7,1,8,2],[9,2,10,2],[11,2,12,2],[13,2,14,2],[27,2,28,2],[29,2,30,2],[31,2,32,2],[33,2,34,2],[35,2,36,2],[37,2,38,2],[15,2,16,2],[17,2,18,2],[19,2,20,2],[21,2,22,2],[23,2,24,2],[25,2,26,2],[51,2,52,2],[53,2,54,2],[55,2,56,2],[57,1,58,2],[59,2,60,2],[61,2,62,2],[39,2,40,2],[41,2,42,2],[43,2,44,2],[45,2,46,2],[47,2,48,2],[49,2,50,2],[76,2,77,2],[78,2,79,2],[80,1,81,2],[82,2,83,2],[84,2,85,2],[86,2,87,2],[68,0,69,0],[68,1,69,1],[68,2,69,2],[70,2,71,2],[72,2,73,2],[74,2,75,2],[100,2,101,2],[102,2,103,2],[104,2,105,2],[106,2,107,2],[108,2,109,2],[110,2,111,2],[88,2,89,2],[90,2,91,2],[92,2,93,2],[94,2,95,2],[96,2,97,2],[98,2,99,2],[124,2,125,2],[126,2,127,2],[133,0,134,0],[133,1,134,1],[133,2,134,2],[135,2,136,2],[112,2,113,2],[114,2,115,2],[116,2,117,2],[118,2,119,2],[120,2,121,2],[122,1,123,2],[149,2,150,2],[151,1,152,2],[153,2,154,2],[155,2,156,2],[157,2,158,2],[159,2,160,2],[137,2,138,2],[139,2,140,2],[141,2,142,2],[143,2,144,2],[145,2,146,2],[147,2,148,2],[198,0,199,0],[198,1,199,2],[173,2,174,2],[175,2,176,2],[177,2,178,2],[179,2,180,2],[181,2,182,2],[183,2,184,2],[161,2,162,2],[163,2,164,2],[165,2,166,2],[167,0,168,2],[169,1,170,2],[171,2,172,2],[200,2,201,2],[202,2,203,2],[204,2,205,2],[206,2,207,2],[208,2,209,2],[210,2,211,2],[185,2,186,2],[187,2,188,2],[189,2,190,2],[191,2,192,2],[224,2,225,2],[226,2,227,2],[228,2,229,2],[230,2,231,2],[232,2,233,2],[234,2,235,2],[212,2,213,2],[214,0,215,2],[216,1,217,2],[218,2,219,2],[220,2,221,2],[222,2,223,2],[263,0,264,0],[263,1,264,1],[263,2,264,2],[236,2,237,2],[238,2,239,2],[240,2,241,2],[242,2,243,2],[244,2,245,2],[246,2,247,2],[265,2,266,2],[267,2,268,2],[269,1,270,2],[271,2,272,2],[273,2,274,2],[275,2,276,2],[248,2,249,2],[250,2,251,2],[252,2,253,2],[254,2,255,2],[256,2,257,2],[289,2,290,2],[291,2,292,2],[293,2,294,2],[295,2,296,2],[297,2,298,2],[299,2,300,2],[277,2,278,2],[279,2,280,2],[281,2,282,2],[283,2,284,2],[285,2,286,2],[287,1,288,2],[313,2,314,2],[315,2,316,2],[317,2,318,2],[319,2,320,2],[321,2,322,2],[328,0,329,0],[328,1,329,1],[328,2,329,2],[301,2,302,2],[303,2,304,2],[305,2,306,2],[307,2,308,2],[309,0,310,2],[311,1,312,2],[342,2,343,2],[344,2,345,2],[346,2,347,2],[348,2,349,2],[350,2,351,2],[352,2,353,2],[330,2,331,2],[332,2,333,2],[334,2,335,2],[336,2,337,2],[338,2,339,2],[340,2,341,2],[366,2,367,2],[368,2,369,2],[370,2,371,2],[372,2,373,2],[374,2,375,2],[376,2,377,2],[354,0,355,2],[356,1,357,2],[358,2,359,2],[360,2,361,2],[362,2,363,2],[364,2,365,2],[395,2,396,2],[397,2,398,2],[399,2,400,2],[401,0,402,2],[403,1,404,2],[405,2,406,2],[378,2,379,2],[380,2,381,2],[382,2,383,2],[384,2,385,2],[386,2,387,2],[393,0,394,0],[393,1,394,1],[393,2,394,2],[431,2,432,2],[419,2,420,2],[421,1,422,2],[423,2,424,2],[425,2,426,2],[427,2,428,2],[429,2,430,2],[407,2,408,2],[409,2,410,2],[411,2,412,2],[413,2,414,2],[415,2,416,2],[417,2,418,2]]}
["４　令和５年度（2023年度）上期　市町村別・国別訪日外国人宿泊者数"]
[null,null,null,null,null,null,null,null,null,null,null,null,null,null,null,null,null,null,null,null,null,null,null,null,null,"単位：宿泊客数→人、宿泊客延数→人泊、対前年比→％",null,null,"29年度から上期分集計","29年度上期報告",null,null,"27年度から上期分集計","27年度上期報告"]
["圏　域","振興局","市町村名","区　分","中国","韓国","台湾","香港","シンガポール","マレーシア","タイ","インド","インドネシア","フィリピン","ベトナム","ロシア","イギリス","フランス","ドイツ","アメリカ","カナダ","オーストラリア","その他","計",{"$f":"'上期　1頁'!P3","v":"R4年度上期"},"対前年比",null,null,"上　期　計","上　期　計",null,null,"27年度上期","計"]
["全道計",null,null,"宿泊客数",{"$f":"E6+E168+E215+E310+E355+E402","v":80918},307712,435463,145330,94823,23832,31817,1446,9126,8495,4011,689,7825,5701,5917,53248,7223,17222,118618,1359416,{"$f":"Y6+Y168+Y215+Y310+Y355+Y402","v":31772},{"$f":"IF(Y4=0,\"－\",X4/Y4*100)","v":4278.6604557471992},null,{"$f":"Y4-AC4","v":-2602215},2633987,2633959,{"$f":"Y4-AD4","v":-2602187}]
[null,null,null,"宿泊客延数",134845.13902439026,496041.8,567301,229947,150683,38594,51321,3788,18091,20467,7151,1222,15522,9673,9833,98752,14996,33986,174959,2077172.9390243902,{"$f":"Y7+Y169+Y216+Y311+Y356+Y403","v":57559},{"$f":"IF(Y5=0,\"－\",X5/Y5*100)","v":3608.771762929151},null,{"$f":"Y5-AC5","v":-2988850},3046409,3046210,{"$f":"Y5-AD5","v":-2988651}]
["道央圏域計",null,null,"宿泊客数",{"$f":"E8+E58+E81+E123+E152","v":46989},{"$f":"F8+F58+F81+F123+F152","v":243514},214474,75735,47396,13461,18603,791,5583,5038,2879,314,4484,2091,2262,30981,4193,9906,79389,{"$f":"X8+X58+X81+X123+X152","v":808083},{"$f":"Y8+Y58+Y81+Y123+Y152","v":19565},4130.247891643241,null,-1855433,1874998,1874965,-1855400]
[null,null,null,"宿泊客延数",{"$f":"E9+E59+E82+E124+E153","v":87192.439024390245},415671,320684,142979,90932,25911,34128,2803,13447,15697,5191,661,10169,4633,4860,67270,10486,23144,123639,{"$f":"X9+X59+X82+X124+X153","v":1399497.4390243902},{"$f":"Y9+Y59+Y82+Y124+Y153","v":39157},3574.0670608687851,null,-2141279,2180436,2180397,-2141240]
[null,"空知総合振興局計",null,"宿泊客数",{"$f":"E10+E12+E14+E16+E18+E20+E22+E24+E26+E28+E30+E32+E34+E36+E38+E40+E42+E44+E46+E48+E50+E52+E54+E56","v":382},{"$f":"F10+F12+F14+F16+F18+F20+F22+F24+F26+F28+F30+F32+F34+F36+F38+F40+F42+F44+F46+F48+F50+F52+F54+F56","v":1513},184,306,67,62,52,2,4,4,23,0,5,6,10,78,9,23,314,{"$f":"X10+X12+X14+X16+X18+X20+X22+X24+X26+X28+X30+X32+X34+X36+X38+X40+X42+X44+X46+X48+X50+X52+X54+X56","v":3044},{"$f":"Y10+Y12+Y14+Y16+Y18+Y20+Y22+Y24+Y26+Y28+Y30+Y32+Y34+Y36+Y38+Y40+Y42+Y44+Y46+Y48+Y50+Y52+Y54+Y56","v":96},3170.833333333333,null,-26680,26776,26782,-26686]
[null,null,null,"宿泊客延数",{"$f":"E11+E13+E15+E17+E19+E21+E23+E25+E27+E29+E31+E33+E35+E37+E39+E41+E43+E45+E47+E49+E51+E53+E55+E57","v":412},1951,196,315,67,62,52,2,14,4,23,0,5,6,10,81,11,30,370,{"$f":"X11+X13+X15+X17+X19+X21+X23+X25+X27+X29+X31+X33+X35+X37+X39+X41+X43+X45+X47+X49+X51+X53+X55+X57","v":3611},{"$f":"Y11+Y13+Y15+Y17+Y19+Y21+Y23+Y25+Y27+Y29+Y31+Y33+Y35+Y37+Y39+Y41+Y43+Y45+Y47+Y49+Y51+Y53+Y55+Y57","v":97},3722.680412371134,null,-27613,27710,27713,-27616]
[null,null,"夕張市","宿泊客数",0,0,0,0,0,0,0,0,0,0,0,0,0,0,0,0,0,0,0,0,0,"－",null,-22553,22553,22553,-22553]
[null,null,null,"宿泊客延数",0,0,0,0,0,0,0,0,0,0,0,0,0,0,0,0,0,0,0,0,0,"－",null,-22553,22553,22553,-22553]
[null,null,"岩見沢市","宿泊客数",132,229,70,113,10,30,13,1,1,1,1,0,4,0,2,14,8,6,12,647,12,5391.6666666666661,null,-293,305,305,-293]
[null,null,null,"宿泊客延数",155,633,70,117,10,30,13,1,1,1,1,0,4,0,2,17,10,12,13,1090,12,9083.3333333333321,null,-352,364,364,-352]
[null,null,"美唄市","宿泊客数",16,103,22,58,5,30,0,0,0,0,0,0,0,0,0,2,0,3,246,485,30,1616.6666666666667,null,-284,314,314,-284]
[null,null,null,"宿泊客延数",16,103,22,58,5,30,0,0,0,0,0,0,0,0,0,2,0,3,246,485,30,1616.6666666666667,null,-284,314,314,-284]
[null,null,"芦別市","宿泊客数",8,30,63,108,42,0,0,0,1,0,0,0,0,0,0,9,0,2,5,268,0,"－",null,-205,205,205,-205]
[null,null,null,"宿泊客延数",13,30,63,108,42,0,0,0,11,0,0,0,0,0,0,9,0,2,5,283,0,"－",null,-247,247,247,-247]
[null,null,"赤平市","宿泊客数",0,0,0,0,0,0,0,0,0,0,0,0,0,0,0,0,0,0,0,0,0,"－",null,0,0,0,0]
[null,null,null,"宿泊客延数",0,0,0,0,0,0,0,0,0,0,0,0,0,0,0,0,0,0,0,0,0,"－",null,0,0,0,0]
[null,null,"三笠市","宿泊客数",157,43,0,0,4,0,2,0,0,0,0,0,0,0,0,2,0,4,0,212,0,"－",null,-497,497,497,-497]
[null,null,null,"宿泊客延数",157,43,0,0,4,0,2,0,0,0,0,0,0,0,0,2,0,4,0,212,0,"－",null,-497,497,497,-497]
[null,null,"滝川市","宿泊客数",32,7,15,6,6,2,9,0,2,3,19,0,0,2,8,42,0,1,32,186,39,476.92307692307691,null,-308,347,347,-308]
[null,null,null,"宿泊客延数",32,7,19,11,6,2,9,0,2,3,19,0,0,2,8,42,0,1,62,225,40,562.5,null,-1073,1113,1113,-1073]
[null,null,"砂川市","宿泊客数",2,0,0,0,0,0,0,1,0,0,0,0,0,0,0,0,1,4,7,15,6,250,null,-5,11,11,-5]
[null,null,null,"宿泊客延数",4,0,0,0,0,0,0,1,0,0,0,0,0,0,0,0,1,5,28,39,6,650,null,-7,13,13,-7]
[null,null,"歌志内市","宿泊客数",0,0,0,0,0,0,0,0,0,0,0,0,0,0,0,0,0,0,0,0,0,"－",null,-78,78,78,-78]
[null,null,null,"宿泊客延数",0,0,0,0,0,0,0,0,0,0,0,0,0,0,0,0,0,0,0,0,0,"－",null,-110,110,110,-110]
[null,null,"深川市","宿泊客数",6,3,2,0,0,0,0,0,0,0,3,0,0,4,0,4,0,0,0,22,2,1100,null,-55,57,57,-55]
[null,null,null,"宿泊客延数",6,3,2,0,0,0,0,0,0,0,3,0,0,4,0,4,0,0,0,22,2,1100,null,-70,72,72,-70]
[null,null,"南幌町","宿泊客数",0,29,0,0,0,0,0,0,0,0,0,0,0,0,0,0,0,0,0,29,0,"－",null,-50,50,50,-50]
[null,null,null,"宿泊客延数",0,29,0,0,0,0,0,0,0,0,0,0,0,0,0,0,0,0,0,29,0,"－",null,-52,52,52,-52]
[null,null,"奈井江町","宿泊客数",0,0,0,0,0,0,0,0,0,0,0,0,0,0,0,0,0,0,0,0,0,"－",null,0,0,0,0]
[null,null,null,"宿泊客延数",0,0,0,0,0,0,0,0,0,0,0,0,0,0,0,0,0,0,0,0,0,"－",null,0,0,0,0]
[null,null,"上砂川町","宿泊客数",0,0,0,0,0,0,0,0,0,0,0,0,0,0,0,0,0,0,0,0,0,"－",null,0,0,0,0]
[null,null,null,"宿泊客延数",0,0,0,0,0,0,0,0,0,0,0,0,0,0,0,0,0,0,0,0,0,"－",null,0,0,0,0]
[null,null,"由仁町","宿泊客数",19,42,12,21,0,0,0,0,0,0,0,0,0,0,0,5,0,0,6,105,0,"－",null,-160,160,163,-163]
[null,null,null,"宿泊客延数",19,76,20,21,0,0,0,0,0,0,0,0,0,0,0,5,0,0,10,151,0,"－",null,-172,172,172,-172]
[null,null,"長沼町","宿泊客数",0,0,0,0,0,0,0,0,0,0,0,0,0,0,0,0,0,0,0,0,0,"－",null,0,0,0,0]
[null,null,null,"宿泊客延数",0,0,0,0,0,0,0,0,0,0,0,0,0,0,0,0,0,0,0,0,0,"－",null,0,0,0,0]
[null,null,"栗山町","宿泊客数",0,1021,0,0,0,0,0,0,0,0,0,0,0,0,0,0,0,0,0,1021,0,"－",null,-2104,2104,2104,-2104]
[null,null,null,"宿泊客延数",0,1021,0,0,0,0,0,0,0,0,0,0,0,0,0,0,0,0,0,1021,0,"－",null,-2104,2104,2104,-2104]
[null,null,"月形町","宿泊客数",0,0,0,0,0,0,0,0,0,0,0,0,0,0,0,0,0,0,0,0,5,0,null,-3,8,8,-3]
[null,null,null,"宿泊客延数",0,0,0,0,0,0,0,0,0,0,0,0,0,0,0,0,0,0,0,0,5,0,null,-3,8,8,-3]
[null,null,"浦臼町","宿泊客数",0,0,0,0,0,0,0,0,0,0,0,0,0,0,0,0,0,0,0,0,0,"－",null,0,0,0,0]
[null,null,null,"宿泊客延数",0,0,0,0,0,0,0,0,0,0,0,0,0,0,0,0,0,0,0,0,0,"－",null,0,0,0,0]
[null,null,"新十津川町","宿泊客数",10,6,0,0,0,0,0,0,0,0,0,0,1,0,0,0,0,3,6,26,0,"－",null,-58,58,58,-58]
[null,null,null,"宿泊客延数",10,6,0,0,0,0,0,0,0,0,0,0,1,0,0,0,0,3,6,26,0,"－",null,-62,62,62,-62]
[null,null,"妹背牛町","宿泊客数",0,0,0,0,0,0,0,0,0,0,0,0,0,0,0,0,0,0,0,0,0,"－",null,0,0,0,0]
[null,null,null,"宿泊客延数",0,0,0,0,0,0,0,0,0,0,0,0,0,0,0,0,0,0,0,0,0,"－",null,0,0,0,0]
[null,null,"秩父別町","宿泊客数",0,0,0,0,0,0,28,0,0,0,0,0,0,0,0,0,0,0,0,28,2,1400,null,2,0,0,2]
[null,null,null,"宿泊客延数",0,0,0,0,0,0,28,0,0,0,0,0,0,0,0,0,0,0,0,28,2,1400,null,2,0,0,2]
[null,null,"雨竜町","宿泊客数",0,0,0,0,0,0,0,0,0,0,0,0,0,0,0,0,0,0,0,0,0,"－",null,-4,4,7,-7]
[null,null,null,"宿泊客延数",0,0,0,0,0,0,0,0,0,0,0,0,0,0,0,0,0,0,0,0,0,"－",null,-4,4,7,-7]
[null,null,"北竜町","宿泊客数",0,0,0,0,0,0,0,0,0,0,0,0,0,0,0,0,0,0,0,0,0,"－",null,0,0,0,0]
[null,null,null,"宿泊客延数",0,0,0,0,0,0,0,0,0,0,0,0,0,0,0,0,0,0,0,0,0,"－",null,0,0,0,0]
[null,null,"沼田町","宿泊客数",0,0,0,0,0,0,0,0,0,0,0,0,0,0,0,0,0,0,0,0,0,"－",null,-25,25,25,-25]
[null,null,null,"宿泊客延数",0,0,0,0,0,0,0,0,0,0,0,0,0,0,0,0,0,0,0,0,0,"－",null,-25,25,25,-25]
[null,"石狩振興局計",null,"宿泊客数",{"$f":"E60+E62+E69+E71+E73+E75+E77+E79","v":23757},{"$f":"F60+F62+F69+F71+F73+F75+F77+F79","v":95883},66881,23190,17883,5879,9592,615,3270,3579,1887,118,2387,1060,1215,16234,2374,3588,31274,{"$f":"X60+X62+X69+X71+X73+X75+X77+X79","v":310666},{"$f":"Y60+Y62+Y69+Y71+Y73+Y75+Y77+Y79","v":11765},2640.5949851253717,null,-1174428,1186193,1186195,-1174430]
[null,null,null,"宿泊客延数",{"$f":"E61+E63+E70+E72+E74+E76+E78+E80","v":56832},236090,154664,66229,46825,16997,21742,2486,9149,12608,4016,286,6739,2933,3542,45737,7659,11156,64116,{"$f":"X61+X63+X70+X72+X74+X76+X78+X80","v":769806},{"$f":"Y61+Y63+Y70+Y72+Y74+Y76+Y78+Y80","v":25459},3023.7087081189361,null,-1375159,1400618,1400623,-1375164]
[null,null,"札幌市","宿泊客数",18663,89548,56183,19171,14041,4895,7135,513,2704,3323,1662,92,2202,893,1108,11805,1952,2992,29672,268554,11314,2373.643273820046,null,-1097870,1109184,1109184,-1097870]
[null,null,null,"宿泊客延数",50845,226176,141859,61193,42177,15903,18696,2383,8546,12320,3606,244,6513,2737,3365,39044,6698,10207,61763,714275,24608,2902.6129713914174,null,-1288481,1313089,1313089,-1288481]
[null,null,"江別市","宿泊客数",24,0,77,0,0,0,0,0,0,0,0,0,0,0,0,0,0,0,5,106,0,"－",null,-4,4,4,-4]
[null,null,null,"宿泊客延数",30,0,77,0,0,0,0,0,0,0,0,0,0,0,0,0,0,0,5,112,0,"－",null,-4,4,4,-4]
[null,null,null,null,null,null,null,null,null,null,null,null,null,null,null,null,null,null,null,null,null,null,null,null,null,null,null,0,null,null,0]
[null,null,null,null,null,null,null,null,null,null,null,null,null,null,null,null,null,null,null,null,null,null,null,null,null,null,null,0,null,null,0]
[{"$f":"A1","v":"４　令和５年度（2023年度）上期　市町村別・国別訪日外国人宿泊者数"},null,null,null,null,null,null,null,null,null,null,null,null,null,null,null,null,null,null,null,null,null,null,null,null,null,null,0,null,null,0]
[null,null,null,null,null,null,null,null,null,null,null,null,null,null,null,null,null,null,null,null,null,null,null,null,null,{"$f":"Z2","v":"単位：宿泊客数→人、宿泊客延数→人泊、対前年比→％"},null,0,null,null,0]
["圏　域","振興局","市町村名","区　分","中国","韓国","台湾","香港","シンガポール","マレーシア","タイ","インド","インドネシア","フィリピン","ベトナム","ロシア","イギリス","フランス","ドイツ","アメリカ","カナダ","オーストラリア","その他","計",{"$f":"Y3","v":"R4年度上期"},{"$f":"Z3","v":"対前年比"},null,{"$error":"#VALUE!"},"上　期　計","計",{"$error":"#VALUE!"}]
["道央","石狩","千歳市","宿泊客数",5022,4814,9974,3748,3820,965,2456,102,566,256,225,26,177,167,104,4388,419,592,1532,39353,363,{"$f":"IF(Y69=0,\"－\",X69/Y69*100)","v":10841.046831955922},null,{"$f":"Y69-AC69","v":-61184},61547,61547,{"$f":"Y69-AD69","v":-61184}]
[null,null,null,"宿泊客延数",5886,5755,11613,4561,4610,1062,3045,103,603,288,410,42,212,196,173,6618,955,944,2224,49300,708,6963.2768361581921,null,-70633,71341,71341,-70633]
[null,null,"恵庭市","宿泊客数",10,8,0,1,0,0,1,0,0,0,0,0,3,0,3,0,1,0,18,45,8,562.5,null,-18,26,26,-18]
[null,null,null,"宿泊客延数",20,14,0,1,0,0,1,0,0,0,0,0,6,0,4,0,1,0,60,107,8,1337.5,null,-30,38,38,-30]
[null,null,"北広島市","宿泊客数",9,670,459,224,12,19,0,0,0,0,0,0,3,0,0,38,1,1,8,1444,9,16044.444444444445,null,-14783,14792,14792,-14783]
[null,null,null,"宿泊客延数",22,3290,927,428,28,32,0,0,0,0,0,0,6,0,0,72,4,2,25,4836,44,10990.90909090909,null,-15406,15450,15450,-15406]
[null,null,"石狩市","宿泊客数",19,7,27,12,8,0,0,0,0,0,0,0,0,0,0,0,0,0,39,112,69,162.31884057971016,null,69,0,0,69]
[null,null,null,"宿泊客延数",19,7,27,12,8,0,0,0,0,0,0,0,0,0,0,0,0,0,39,112,89,125.84269662921348,null,89,0,0,89]
[null,null,"当別町","宿泊客数",5,826,144,0,0,0,0,0,0,0,0,0,0,0,0,2,0,0,0,977,0,"－",null,-595,595,597,-597]
[null,null,null,"宿泊客延数",5,838,144,0,0,0,0,0,0,0,0,0,0,0,0,2,0,0,0,989,0,"－",null,-651,651,656,-656]
[null,null,"新篠津村","宿泊客数",5,10,17,34,2,0,0,0,0,0,0,0,2,0,0,1,1,3,0,75,2,3750,null,-43,45,45,-43]
[null,null,null,"宿泊客延数",5,10,17,34,2,0,0,0,0,0,0,0,2,0,0,1,1,3,0,75,2,3750,null,-43,45,45,-43]
[null,"後志総合振興局計",null,"宿泊客数",{"$f":"E83+E85+E87+E89+E91+E93+E95+E97+E99+E101+E103+E105+E107+E109+E111+E113+E115+E117+E119+E121","v":10697},{"$f":"F83+F85+F87+F89+F91+F93+F95+F97+F99+F101+F103+F105+F107+F109+F111+F113+F115+F117+F119+F121","v":41823},31690,23182,13497,2747,4822,114,960,706,434,79,1127,476,286,7563,726,3864,6889,{"$f":"X83+X85+X87+X89+X91+X93+X95+X97+X99+X101+X103+X105+X107+X109+X111+X113+X115+X117+X119+X121","v":151682},{"$f":"Y83+Y85+Y87+Y89+Y91+Y93+Y95+Y97+Y99+Y101+Y103+Y105+Y107+Y109+Y111+Y113+Y115+Y117+Y119+Y121","v":4403},3444.9693390869861,null,-185347,189750,189745,-185342]
[null,null,null,"宿泊客延数",{"$f":"E84+E86+E88+E90+E92+E94+E96+E98+E100+E102+E104+E106+E108+E110+E112+E114+E116+E118+E120+E122","v":15942.439024390244},69499,46154,45833,26955,3843,7991,248,2800,2271,545,256,2393,1071,483,13647,1668,9269,17741,{"$f":"X84+X86+X88+X90+X92+X94+X96+X98+X100+X102+X104+X106+X108+X110+X112+X114+X116+X118+X120+X122","v":268609.43902439025},{"$f":"Y84+Y86+Y88+Y90+Y92+Y94+Y96+Y98+Y100+Y102+Y104+Y106+Y108+Y110+Y112+Y114+Y116+Y118+Y120+Y122","v":9856},2725.3392758156474,null,-253350,263206,263202,-253346]
[null,null,"小樽市","宿泊客数",5528,25298,18233,13012,8998,1794,2371,66,420,218,104,68,527,197,163,3702,508,1006,2378,84591,1195,7078.7447698744772,null,-80565,81760,81760,-80565]
[null,null,null,"宿泊客延数",6936,30485,22294,16592,11375,2277,2868,82,587,311,120,112,747,380,268,5037,684,1315,2930,105400,1556,6773.7789203084831,null,-90505,92061,92061,-90505]
[null,null,"島牧村","宿泊客数",2,2,1,0,0,0,0,0,0,0,0,0,0,0,0,11,0,0,0,16,0,"－",null,-10,10,10,-10]
[null,null,null,"宿泊客延数",2,2,1,0,0,0,0,0,0,0,0,0,0,0,0,11,0,0,0,16,0,"－",null,-10,10,10,-10]
[null,null,"寿都町","宿泊客数",0,0,0,0,0,0,0,0,0,0,0,0,0,0,0,0,0,0,0,0,0,"－",null,0,0,0,0]
[null,null,null,"宿泊客延数",0,0,0,0,0,0,0,0,0,0,0,0,0,0,0,0,0,0,0,0,0,"－",null,0,0,0,0]
[null,null,"黒松内町","宿泊客数",28,0,46,10,15,1,0,1,0,0,0,0,10,1,0,10,5,0,3,130,10,1300,null,-81,91,91,-81]
[null,null,null,"宿泊客延数",69,0,461,20,90,1,0,2,0,0,0,0,182,2,0,13,7,0,12,859,10,8590,null,-442,452,452,-442]
[null,null,"蘭越町","宿泊客数",13,2,10,9,13,0,6,0,15,0,2,0,6,5,1,21,0,14,23,140,0,"－",null,-97,97,97,-97]
[null,null,null,"宿泊客延数",6,4,4,2,2,0,8,0,0,0,4,0,0,2,0,12,0,0,2,46,0,"－",null,-100,100,100,-100]
[null,null,"ニセコ町","宿泊客数",3922,6516,4530,3937,1228,0,1468,0,0,0,194,0,386,98,98,2285,0,1552,369,26583,193,13773.57512953368,null,-39633,39826,39826,-39633]
[null,null,null,"宿泊客延数",5001.4390243902435,8242,6069,6448,1747,0,1935,0,0,0,286,0,573,143,143,3452,0,2290,506,36835.439024390245,220,16743.381374722838,null,-55389,55609,55609,-55389]
[null,null,"真狩村","宿泊客数",0,7,45,3,5,0,0,0,12,0,0,0,0,0,0,1,0,2,0,75,17,441.1764705882353,null,-25,42,42,-25]
[null,null,null,"宿泊客延数",0,7,48,74,5,0,0,0,366,0,0,0,0,0,0,2,0,2,0,504,387,130.23255813953489,null,305,82,82,305]
[null,null,"留寿都村","宿泊客数",595,8760,6201,1137,372,755,216,16,71,30,133,0,15,8,0,513,14,19,906,19761,1344,1470.3125,null,-19681,21025,21025,-19681]
[null,null,null,"宿泊客延数",1033,26771,7805,1440,559,769,313,40,77,80,133,0,31,20,0,994,28,46,1344,41483,3339,1242.3779574722971,null,-34153,37492,37492,-34153]
[null,null,"喜茂別町","宿泊客数",0,0,0,0,0,0,0,0,0,0,0,0,0,0,0,0,0,0,0,0,0,"－",null,0,0,0,0]
[null,null,null,"宿泊客延数",0,0,0,0,0,0,0,0,0,0,0,0,0,0,0,0,0,0,0,0,0,"－",null,0,0,0,0]
[null,null,"京極町","宿泊客数",0,0,0,0,0,0,0,0,0,0,0,0,0,0,0,0,0,0,0,0,0,"－",null,0,0,0,0]
[null,null,null,"宿泊客延数",0,0,0,0,0,0,0,0,0,0,0,0,0,0,0,0,0,0,0,0,0,"－",null,0,0,0,0]
[null,null,"倶知安町","宿泊客数",580,953,2442,4841,2819,179,715,31,442,458,0,0,163,137,13,970,189,1265,3107,19304,1618,1193.0778739184179,null,-14864,16482,16482,-14864]
[null,null,null,"宿泊客延数",2848,3488,9286,21022,13126,778,2821,124,1770,1880,0,0,836,494,61,4043,929,5610,12793,81909,4310,1900.4408352668215,null,-37528,41838,41838,-37528]
[null,null,"共和町","宿泊客数",0,0,0,0,0,0,0,0,0,0,0,0,0,0,0,0,0,0,0,0,0,"－",null,0,0,0,0]
[null,null,null,"宿泊客延数",0,0,0,0,0,0,0,0,0,0,0,0,0,0,0,0,0,0,0,0,0,"－",null,0,0,0,0]
[null,null,"岩内町","宿泊客数",0,0,0,0,0,0,0,0,0,0,0,0,0,0,0,0,0,0,67,67,0,"－",null,-81,81,81,-81]
[null,null,null,"宿泊客延数",0,0,0,0,0,0,0,0,0,0,0,0,0,0,0,0,0,0,67,67,0,"－",null,-102,102,102,-102]
[null,null,"泊村","宿泊客数",0,0,0,0,0,0,0,0,0,0,0,0,0,0,0,0,0,0,0,0,0,"－",null,0,0,0,0]
[null,null,null,"宿泊客延数",0,0,0,0,0,0,0,0,0,0,0,0,0,0,0,0,0,0,0,0,0,"－",null,0,0,0,0]
[null,null,"神恵内村","宿泊客数",0,77,47,40,0,0,0,0,0,0,0,0,11,13,4,0,0,6,15,213,9,2366.666666666667,null,0,9,0,9]
[null,null,null,"宿泊客延数",0,77,47,40,0,0,0,0,0,0,0,0,11,13,4,0,0,6,15,213,9,2366.666666666667,null,0,9,0,9]
[null,null,"積丹町","宿泊客数",2,32,100,174,27,18,45,0,0,0,0,0,4,15,5,16,2,0,4,444,4,11100,null,-250,254,258,-254]
[null,null,null,"宿泊客延数",2,32,100,174,27,18,45,0,0,0,0,0,4,15,5,16,2,0,4,444,4,11100,null,-298,302,307,-303]
[null,null,"古平町","宿泊客数",0,0,0,0,0,0,0,0,0,0,0,0,0,0,0,0,0,0,0,0,0,"－",null,0,0,0,0]
[null,null,null,"宿泊客延数",0,0,0,0,0,0,0,0,0,0,0,0,0,0,0,0,0,0,0,0,0,"－",null,0,0,0,0]
[null,null,"仁木町","宿泊客数",0,0,0,0,0,0,0,0,0,0,0,0,0,0,2,0,0,0,2,4,0,"－",null,-41,41,41,-41]
[null,null,null,"宿泊客延数",0,0,0,0,0,0,0,0,0,0,0,0,0,0,2,0,0,0,2,4,0,"－",null,-51,51,51,-51]
[null,null,"余市町","宿泊客数",27,176,35,19,20,0,1,0,0,0,1,11,5,2,0,34,8,0,15,354,13,2723.0769230769229,null,-1251,1264,1264,-1251]
[null,null,null,"宿泊客延数",45,391,39,21,24,0,1,0,0,0,2,144,9,2,0,67,18,0,66,829,21,3947.6190476190473,null,-1656,1677,1677,-1656]
[null,null,"赤井川村","宿泊客数",0,0,0,0,0,0,0,0,0,0,0,0,0,0,0,0,0,0,0,0,0,"－",null,-28768,28768,28768,-28768]
[null,null,null,"宿泊客延数",0,0,0,0,0,0,0,0,0,0,0,0,0,0,0,0,0,0,0,0,0,"－",null,-33421,33421,33421,-33421]
[null,"胆振総合振興局計",null,"宿泊客数",{"$f":"E125+E127+E134+E136+E138+E140+E142+E144+E146+E148+E150","v":11947},{"$f":"F125+F127+F134+F136+F138+F140+F142+F144+F146+F148+F150","v":104193},115614,28975,15917,4766,4129,48,1345,748,525,116,955,533,749,7073,1078,2410,40821,{"$f":"X125+X127+X134+X136+X138+X140+X142+X144+X146+X148+X150","v":341942},{"$f":"Y125+Y127+Y134+Y136+Y138+Y140+Y142+Y144+Y146+Y148+Y150","v":3240},10553.765432098766,null,-468276,471516,471478,-468238]
[null,null,null,"宿泊客延数",{"$f":"E126+E128+E135+E137+E139+E141+E143+E145+E147+E149+E151","v":13482},107969,119546,30510,17053,5000,4335,48,1477,813,597,118,1018,607,823,7765,1142,2658,41269,{"$f":"X126+X128+X135+X137+X139+X141+X143+X145+X147+X149+X151","v":356230},{"$f":"Y126+Y128+Y135+Y137+Y139+Y141+Y143+Y145+Y147+Y149+Y151","v":3645},9773.1138545953363,null,-484117,487762,487717,-484072]
[null,null,"室蘭市","宿泊客数",1569,906,1299,183,262,144,123,1,148,99,63,1,24,13,30,216,31,97,494,5703,196,2909.6938775510203,null,-4223,4419,4419,-4223]
[null,null,null,"宿泊客延数",1957,1194,1543,258,349,224,155,1,248,130,119,1,33,15,40,288,41,128,515,7239,204,3548.5294117647059,null,-4824,5028,5028,-4824]
[null,null,"苫小牧市","宿泊客数",800,845,2025,393,183,115,76,2,8,77,14,10,90,40,106,129,17,64,319,5313,229,2320.0873362445413,null,-15566,15795,15795,-15566]
[null,null,null,"宿泊客延数",1286,1914,3263,600,286,137,118,2,14,92,26,10,108,61,117,255,29,80,381,8779,562,1562.0996441281141,null,-15907,16469,16469,-15907]
[null,null,null,null,null,null,null,null,null,null,null,null,null,null,null,null,null,null,null,null,null,null,null,null,null,null,null,0,null,null,0]
[null,null,null,null,null,null,null,null,null,null,null,null,null,null,null,null,null,null,null,null,null,null,null,null,null,null,null,0,null,null,0]
[{"$f":"A1","v":"４　令和５年度（2023年度）上期　市町村別・国別訪日外国人宿泊者数"},null,null,null,null,null,null,null,null,null,null,null,null,null,null,null,null,null,null,null,null,null,null,null,null,null,null,0,null,null,0]
[null,null,null,null,null,null,null,null,null,null,null,null,null,null,null,null,null,null,null,null,null,null,null,null,null,{"$f":"Z67","v":"単位：宿泊客数→人、宿泊客延数→人泊、対前年比→％"},null,0,null,null,0]
["圏　域","振興局","市町村名","区　分","中国","韓国","台湾","香港","シンガポール","マレーシア","タイ","インド","インドネシア","フィリピン","ベトナム","ロシア","イギリス","フランス","ドイツ","アメリカ","カナダ","オーストラリア","その他","計",{"$f":"Y68","v":"R4年度上期"},{"$f":"Z68","v":"対前年比"},null,{"$f":"Y133-AC133","v":{"$error":"#VALUE!"}},"上　期　計","計",{"$f":"Y133-AD133","v":{"$error":"#VALUE!"}}]
["道央","胆振","登別市","宿泊客数",5012,59810,49354,13411,7502,3016,1953,45,646,287,355,37,568,352,353,5321,739,1588,4593,154942,1365,{"$f":"IF(Y134=0,\"－\",X134/Y134*100)","v":11351.062271062272},null,-228063,229428,229428,-228063]
[null,null,null,"宿泊客延数",5071,61100,50432,13804,7657,3069,1967,45,655,287,355,37,571,372,362,5540,745,1663,4648,158380,1376,11510.174418604653,null,-233228,234604,234604,-233228]
[null,null,"伊達市","宿泊客数",102,4937,3653,4974,95,0,4,0,0,0,0,0,0,0,0,1,2,0,6,13774,311,4428.9389067524116,null,-19393,19704,19704,-19393]
[null,null,null,"宿泊客延数",102,4937,3653,4974,95,0,4,0,0,0,0,0,0,0,0,1,4,0,30,13800,321,4299.065420560748,null,-21128,21449,21449,-21128]
[null,null,"豊浦町","宿泊客数",7,26,75,31,35,0,3,0,0,2,0,0,0,4,0,10,2,1,3,199,3,6633.333333333333,null,-38,41,30,-27]
[null,null,null,"宿泊客延数",9,26,84,38,41,0,3,0,0,4,0,0,0,6,0,10,2,1,3,227,3,7566.666666666667,null,-38,41,30,-27]
[null,null,"壮瞥町","宿泊客数",323,14178,10993,931,317,295,288,0,98,106,0,0,8,13,12,351,14,28,8390,36345,16,227156.25,null,-54090,54106,54106,-54090]
[null,null,null,"宿泊客延数",429,14235,11099,1049,348,295,288,0,98,106,0,0,8,13,12,425,14,34,8434,36887,16,230543.75,null,-55665,55681,55681,-55665]
[null,null,"白老町","宿泊客数",108,180,138,92,176,35,102,0,58,0,0,0,2,3,20,157,6,75,4533,5685,112,5075.8928571428569,null,-4508,4620,4620,-4508]
[null,null,null,"宿泊客延数",108,180,138,92,176,35,102,0,58,0,0,0,2,3,20,157,6,75,4533,5685,112,5075.8928571428569,null,-4508,4620,4620,-4508]
[null,null,"厚真町","宿泊客数",0,0,0,0,0,0,0,0,0,0,0,0,0,0,0,0,0,0,0,0,0,"－",null,0,0,0,0]
[null,null,null,"宿泊客延数",0,0,0,0,0,0,0,0,0,0,0,0,0,0,0,0,0,0,0,0,0,"－",null,0,0,0,0]
[null,null,"洞爺湖町","宿泊客数",4024,23306,48077,8955,7347,1160,1580,0,387,177,89,68,262,108,226,888,267,556,22481,119958,1008,11900.595238095239,null,-142359,143367,143340,-142332]
[null,null,null,"宿泊客延数",4518,24378,49334,9690,8101,1239,1698,0,404,194,93,70,295,137,270,1089,301,676,22723,125210,1051,11913.415794481447,null,-148777,149828,149794,-148743]
[null,null,"安平町","宿泊客数",2,0,0,0,0,0,0,0,0,0,4,0,1,0,0,0,0,0,0,7,0,"－",null,-15,15,15,-15]
[null,null,null,"宿泊客延数",2,0,0,0,0,0,0,0,0,0,4,0,1,0,0,0,0,0,0,7,0,"－",null,-15,15,15,-15]
[null,null,"むかわ町","宿泊客数",0,5,0,5,0,1,0,0,0,0,0,0,0,0,2,0,0,1,2,16,0,"－",null,-21,21,21,-21]
[null,null,null,"宿泊客延数",0,5,0,5,0,1,0,0,0,0,0,0,0,0,2,0,0,1,2,16,0,"－",null,-27,27,27,-27]
[null,"日高振興局計",null,"宿泊客数",{"$f":"E154+E156+E158+E160+E162+E164+E166","v":206},{"$f":"F154+F156+F158+F160+F162+F164+F166","v":102},105,82,32,7,8,12,4,1,10,1,10,16,2,33,6,21,91,{"$f":"X154+X156+X158+X160+X162+X164+X166","v":749},{"$f":"Y154+Y156+Y158+Y160+Y162+Y164+Y166","v":61},1227.8688524590164,null,-702,763,765,-704]
[null,null,null,"宿泊客延数",{"$f":"E155+E157+E159+E161+E163+E165+E167","v":524},162,124,92,32,9,8,19,7,1,10,1,14,16,2,40,6,31,143,{"$f":"X155+X157+X159+X161+X163+X165+X167","v":1241},{"$f":"Y155+Y157+Y159+Y161+Y163+Y165+Y167","v":100},1241,null,-1040,1140,1142,-1042]
[null,null,"日高町","宿泊客数",49,3,5,2,0,1,0,5,3,0,0,0,4,0,0,5,4,1,41,123,0,"－",null,-81,81,81,-81]
[null,null,null,"宿泊客延数",331,3,5,8,0,2,0,10,6,0,0,0,8,0,0,5,4,2,82,466,0,"－",null,-229,229,229,-229]
[null,null,"平取町","宿泊客数",0,0,0,0,0,0,0,0,0,0,0,0,0,0,0,0,0,0,0,0,0,"－",null,0,0,0,0]
[null,null,null,"宿泊客延数",0,0,0,0,0,0,0,0,0,0,0,0,0,0,0,0,0,0,0,0,0,"－",null,0,0,0,0]
[null,null,"新冠町","宿泊客数",0,38,21,0,0,0,0,0,0,0,0,0,0,0,0,1,0,0,0,60,0,"－",null,-69,69,69,-69]
[null,null,null,"宿泊客延数",0,76,40,0,0,0,0,0,0,0,0,0,0,0,0,1,0,0,0,117,0,"－",null,-71,71,71,-71]
[null,null,"浦河町","宿泊客数",73,37,51,1,14,3,2,6,1,1,7,1,3,13,0,17,2,13,16,261,23,1134.7826086956522,null,-160,183,185,-162]
[null,null,null,"宿泊客延数",98,59,51,1,14,4,2,8,1,1,7,1,3,13,0,20,2,22,27,334,41,814.63414634146341,null,-215,256,258,-217]
[null,null,"様似町","宿泊客数",25,13,10,4,0,0,0,0,0,0,0,0,0,0,0,2,0,0,0,54,0,"－",null,-7,7,7,-7]
[null,null,null,"宿泊客延数",36,13,10,8,0,0,0,0,0,0,0,0,0,0,0,6,0,0,0,73,0,"－",null,-34,34,34,-34]
[null,null,"えりも町","宿泊客数",0,0,4,0,0,0,0,0,0,0,0,0,1,0,0,0,0,0,0,5,0,"－",null,-6,6,6,-6]
[null,null,null,"宿泊客延数",0,0,4,0,0,0,0,0,0,0,0,0,1,0,0,0,0,0,0,5,0,"－",null,-9,9,9,-9]
[null,null,"新ひだか町","宿泊客数",59,11,14,75,18,3,6,1,0,0,3,0,2,3,2,8,0,7,34,246,38,647.36842105263156,null,-379,417,417,-379]
[null,null,null,"宿泊客延数",59,11,14,75,18,3,6,1,0,0,3,0,2,3,2,8,0,7,34,246,59,416.94915254237293,null,-482,541,541,-482]
["道南圏域計",null,null,"宿泊客数",{"$f":"E170+E199","v":8291},{"$f":"F170+F199","v":10305},87432,13423,11308,1896,4782,163,1459,1271,323,78,1101,850,1247,7510,1257,2939,7030,{"$f":"X170+X199","v":162665},{"$f":"Y170+Y199","v":4185},3886.8578255675034,null,-229790,233975,233976,-229791]
[null,null,null,"宿泊客延数",{"$f":"E171+E200","v":13341},14336,95204,17473,14886,2973,7320,209,2053,2276,658,92,2399,1631,1952,12923,2223,5268,12327,{"$f":"X171+X200","v":209544},{"$f":"Y171+Y200","v":6572},3188.4357881923311,null,-236547,243119,243127,-236555]
[null,"渡島総合振興局計",null,"宿泊客数",{"$f":"E172+E174+E176+E178+E180+E182+E184+E186+E188+E190+E192","v":8253},{"$f":"F172+F174+F176+F178+F180+F182+F184+F186+F188+F190+F192","v":10285},87377,13402,11301,1896,4780,163,1459,1270,314,78,1099,846,1246,7481,1257,2933,6922,{"$f":"X172+X174+X176+X178+X180+X182+X184+X186+X188+X190+X192","v":162362},{"$f":"Y172+Y174+Y176+Y178+Y180+Y182+Y184+Y186+Y188+Y190+Y192","v":4153},3909.5111967252592,null,-229602,233755,233759,-229606]
[null,null,null,"宿泊客延数",{"$f":"E173+E175+E177+E179+E181+E183+E185+E187+E189+E191+E193","v":13147},14258,95131,17447,14879,2973,7318,209,2053,2274,473,92,2394,1607,1949,12878,2223,5262,12130,{"$f":"X173+X175+X177+X179+X181+X183+X185+X187+X189+X191+X193","v":208697},{"$f":"Y173+Y175+Y177+Y179+Y181+Y183+Y185+Y187+Y189+Y191+Y193","v":6494},3213.6895595934711,null,-236324,242818,242826,-236332]
[null,null,"函館市","宿泊客数",7846,9641,77917,12649,10857,1708,4576,135,1305,1234,206,64,996,778,1123,6838,1181,2600,5910,147564,3916,3768.2328907048009,null,-196149,200065,200065,-196149]
[null,null,null,"宿泊客延数",12344,13441,82474,16693,14081,2648,6934,155,1728,2208,247,77,2227,1486,1744,11808,2054,4784,10044,187177,6002,3118.5771409530157,null,-202903,208905,208909,-202907]
[null,null,"北斗市","宿泊客数",261,114,2113,0,233,91,119,16,112,19,80,2,42,29,45,246,43,76,701,4342,185,2347.0270270270271,null,-8383,8568,8568,-8383]
[null,null,null,"宿泊客延数",657,284,5285,0,586,228,299,42,283,46,198,3,106,72,115,617,111,194,1753,10879,440,2472.5,null,-8128,8568,8568,-8128]
[null,null,"松前町","宿泊客数",2,3,14,13,4,4,2,0,0,0,0,0,2,0,1,14,0,1,0,60,9,666.66666666666674,null,-31,40,40,-31]
[null,null,null,"宿泊客延数",2,3,14,13,4,4,2,0,0,0,0,0,2,0,1,14,0,1,0,60,9,666.66666666666674,null,-31,40,40,-31]
[null,null,"福島町","宿泊客数",0,0,0,0,0,0,0,0,0,0,0,0,0,0,0,0,0,0,0,0,0,"－",null,0,0,0,0]
[null,null,null,"宿泊客延数",0,0,0,0,0,0,0,0,0,0,0,0,0,0,0,0,0,0,0,0,0,"－",null,0,0,0,0]
[null,null,"知内町","宿泊客数",6,0,0,0,0,0,0,0,0,0,0,0,0,0,0,5,0,0,0,11,0,"－",null,0,0,4,-4]
[null,null,null,"宿泊客延数",6,0,0,0,0,0,0,0,0,0,0,0,0,0,0,5,0,0,0,11,0,"－",null,0,0,4,-4]
[null,null,"木古内町","宿泊客数",0,0,0,0,0,0,0,0,0,0,0,0,0,0,0,0,0,0,0,0,0,"－",null,0,0,0,0]
[null,null,null,"宿泊客延数",0,0,0,0,0,0,0,0,0,0,0,0,0,0,0,0,0,0,0,0,0,"－",null,0,0,0,0]
[null,null,"七飯町","宿泊客数",129,493,6966,661,157,53,48,8,41,16,0,0,54,32,55,346,27,239,232,9557,34,28108.823529411762,null,-15768,15802,15802,-15768]
[null,null,null,"宿泊客延数",129,493,6966,661,157,53,48,8,41,16,0,0,54,32,55,346,27,239,232,9557,34,28108.823529411762,null,-15829,15863,15863,-15829]
[null,null,"鹿部町","宿泊客数",0,2,0,0,0,0,0,0,0,0,0,0,0,0,0,0,0,0,0,2,0,"－",null,-4783,4783,4783,-4783]
[null,null,null,"宿泊客延数",0,2,0,0,0,0,0,0,0,0,0,0,0,0,0,0,0,0,0,2,0,"－",null,-4941,4941,4941,-4941]
[null,null,"森町","宿泊客数",0,12,293,57,45,34,35,0,0,0,28,12,2,0,0,9,0,6,40,573,9,6366.6666666666661,null,-4302,4311,4311,-4302]
[null,null,null,"宿泊客延数",0,12,293,57,45,34,35,0,0,0,28,12,2,0,0,9,0,6,40,573,9,6366.6666666666661,null,-4302,4311,4311,-4302]
[null,null,"八雲町","宿泊客数",9,20,74,22,5,6,0,4,1,1,0,0,3,7,22,23,6,11,39,253,0,"－",null,-186,186,186,-186]
[null,null,null,"宿泊客延数",9,23,99,23,6,6,0,4,1,4,0,0,3,17,34,79,31,38,61,438,0,"－",null,-190,190,190,-190]
[null,null,"長万部町","宿泊客数",0,0,0,0,0,0,0,0,0,0,0,0,0,0,0,0,0,0,0,0,0,"－",null,0,0,0,0]
[null,null,null,"宿泊客延数",0,0,0,0,0,0,0,0,0,0,0,0,0,0,0,0,0,0,0,0,0,"－",null,0,0,0,0]
[null,null,null,null,null,null,null,null,null,null,null,null,null,null,null,null,null,null,null,null,null,null,null,null,null,null,null,0,null,null,0]
[null,null,null,null,null,null,null,null,null,null,null,null,null,null,null,null,null,null,null,null,null,null,null,null,null,null,null,0,null,null,0]
[{"$f":"A1","v":"４　令和５年度（2023年度）上期　市町村別・国別訪日外国人宿泊者数"},null,null,null,null,null,null,null,null,null,null,null,null,null,null,null,null,null,null,null,null,null,null,null,null,null,null,0,null,null,0]
[null,null,null,null,null,null,null,null,null,null,null,null,null,null,null,null,null,null,null,null,null,null,null,null,null,{"$f":"Z132","v":"単位：宿泊客数→人、宿泊客延数→人泊、対前年比→％"},null,{"$f":"Y197-AC197","v":0},null,null,{"$f":"Y197-AD197","v":0}]
["圏　域","振興局","市町村名","区　分","中国","韓国","台湾","香港","シンガポール","マレーシア","タイ","インド","インドネシア","フィリピン","ベトナム","ロシア","イギリス","フランス","ドイツ","アメリカ","カナダ","オーストラリア","その他","計",{"$f":"Y133","v":"R4年度上期"},{"$f":"Z133","v":"対前年比"},null,{"$error":"#VALUE!"},"上　期　計","計",{"$error":"#VALUE!"}]
["道南","檜山振興局計",null,"宿泊客数",{"$f":"E201+E203+E205+E207+E209+E211+E213","v":38},20,55,21,7,0,2,0,0,1,9,0,2,4,1,29,0,6,108,303,{"$f":"Y201+Y203+Y205+Y207+Y209+Y211+Y213","v":32},{"$f":"IF(Y199=0,\"－\",X199/Y199*100)","v":946.875},null,-188,220,217,-185]
[null,null,null,"宿泊客延数",194,78,73,26,7,0,2,0,0,2,185,0,5,24,3,45,0,6,197,847,{"$f":"Y202+Y204+Y206+Y208+Y210+Y212+Y214","v":78},1085.897435897436,null,-223,301,301,-223]
[null,null,"江差町","宿泊客数",10,0,21,12,0,0,0,0,0,0,1,0,1,1,0,1,0,2,13,62,14,442.85714285714289,null,-76,90,90,-76]
[null,null,null,"宿泊客延数",10,0,21,12,0,0,0,0,0,0,1,0,4,1,0,1,0,2,13,65,14,464.28571428571433,null,-76,90,90,-76]
[null,null,"上ノ国町","宿泊客数",3,0,9,0,2,0,0,0,0,0,6,0,0,0,0,1,0,0,5,26,5,520,null,-1,6,6,-1]
[null,null,null,"宿泊客延数",4,0,9,0,2,0,0,0,0,0,173,0,0,0,0,2,0,0,8,198,5,3960,null,-41,46,46,-41]
[null,null,"厚沢部町","宿泊客数",2,4,4,0,5,0,0,0,0,0,0,0,0,0,0,0,0,1,4,20,0,"－",null,0,0,0,0]
[null,null,null,"宿泊客延数",2,4,8,0,5,0,0,0,0,0,0,0,0,0,0,0,0,1,4,24,0,"－",null,0,0,0,0]
[null,null,"乙部町","宿泊客数",19,4,4,0,0,0,0,0,0,1,0,0,0,2,0,3,0,3,83,119,9,1322.2222222222222,null,-9,18,18,-9]
[null,null,null,"宿泊客延数",174,58,4,0,0,0,0,0,0,2,0,0,0,20,0,3,0,3,165,429,55,780,null,37,18,18,37]
[null,null,"奥尻町","宿泊客数",2,0,2,3,0,0,0,0,0,0,2,0,0,1,1,12,0,0,1,24,1,2400,null,-61,62,62,-61]
[null,null,null,"宿泊客延数",2,0,2,3,0,0,0,0,0,0,11,0,0,3,3,18,0,0,2,44,1,4400,null,-102,103,103,-102]
[null,null,"今金町","宿泊客数",0,4,10,5,0,0,0,0,0,0,0,0,0,0,0,0,0,0,0,19,0,"－",null,-16,16,16,-16]
[null,null,null,"宿泊客延数",0,8,24,10,0,0,0,0,0,0,0,0,0,0,0,0,0,0,0,42,0,"－",null,-16,16,16,-16]
[null,null,"せたな町","宿泊客数",2,8,5,1,0,0,2,0,0,0,0,0,1,0,0,12,0,0,2,33,3,1100,null,-25,28,25,-22]
[null,null,null,"宿泊客延数",2,8,5,1,0,0,2,0,0,0,0,0,1,0,0,21,0,0,5,45,3,1500,null,-25,28,28,-25]
["道北圏域計",null,null,"宿泊客数",{"$f":"E217+E270+E288","v":14162},{"$f":"F217+F270+F288","v":44522},77483,32601,22915,4688,6702,410,1747,2021,544,201,1247,1065,1092,8661,1113,2598,21874,{"$f":"X217+X270+X288","v":245646},{"$f":"Y217+Y270+Y288","v":4306},5704.7375754760797,null,-331821,336127,336091,-331785]
[null,null,null,"宿泊客延数",{"$f":"E218+E271+E289","v":20613},54434,92631,43306,30483,5758,7930,652,2025,2279,658,331,1633,1414,1409,11368,1537,3489,26983,{"$f":"X218+X271+X289","v":308933},{"$f":"Y218+Y271+Y289","v":6349},4865.8528902189328,null,-409041,415390,415192,-408843]
[null,"上川総合振興局計",null,"宿泊客数",{"$f":"E219+E221+E223+E225+E227+E229+E231+E233+E235+E237+E239+E241+E243+E245+E247+E249+E251+E253+E255+E257+E264+E266+E268","v":13245},{"$f":"F219+F221+F223+F225+F227+F229+F231+F233+F235+F237+F239+F241+F243+F245+F247+F249+F251+F253+F255+F257+F264+F266+F268","v":43818},73337,31103,22473,4637,6557,391,1709,1994,486,188,1135,920,949,7713,987,2343,20746,{"$f":"X219+X221+X223+X225+X227+X229+X231+X233+X235+X237+X239+X241+X243+X245+X247+X249+X251+X253+X255+X257+X264+X266+X268","v":234731},{"$f":"Y219+Y221+Y223+Y225+Y227+Y229+Y231+Y233+Y235+Y237+Y239+Y241+Y243+Y245+Y247+Y249+Y251+Y253+Y255+Y257+Y264+Y266+Y268","v":3574},6567.7392277560157,null,-316929,320503,320467,-316893]
[null,null,null,"宿泊客延数",{"$f":"E220+E222+E224+E226+E228+E230+E232+E234+E236+E238+E240+E242+E244+E246+E248+E250+E252+E254+E256+E258+E265+E267+E269","v":19333},53504,87522,41355,29879,5697,7733,628,1981,2213,555,316,1480,1179,1169,9962,1344,3108,25266,{"$f":"X220+X222+X224+X226+X228+X230+X232+X234+X236+X238+X240+X242+X244+X246+X248+X250+X252+X254+X256+X258+X265+X267+X269","v":294224},{"$f":"Y220+Y222+Y224+Y226+Y228+Y230+Y232+Y234+Y236+Y238+Y240+Y242+Y244+Y246+Y248+Y250+Y252+Y254+Y256+Y258+Y265+Y267+Y269","v":5336},5513.9430284857572,null,-389979,395315,395117,-389781]
[null,null,"旭川市","宿泊客数",4142,11586,19446,9897,7584,1092,2759,84,967,436,172,13,394,251,342,2720,372,1029,4232,67518,550,12276,null,-92173,92723,92723,-92173]
[null,null,null,"宿泊客延数",4669,12464,20965,10573,8013,1156,2941,104,1025,455,187,13,430,286,373,2967,388,1070,6036,74115,1633,4538.5793018983459,null,-114305,115938,115938,-114305]
[null,null,"士別市","宿泊客数",0,5,0,0,0,0,1,0,1,2,0,0,0,0,0,3,2,0,0,14,4,350,null,-137,141,105,-101]
[null,null,null,"宿泊客延数",0,12,0,0,0,0,2,0,1,5,0,0,0,0,0,5,4,0,0,29,13,223.07692307692309,null,-499,512,314,-301]
[null,null,"名寄市","宿泊客数",52,29,54,101,37,6,7,0,0,0,2,0,8,6,0,10,14,8,35,369,7,5271.4285714285716,null,-413,420,420,-413]
[null,null,null,"宿泊客延数",62,57,66,109,41,6,10,0,0,0,4,0,11,6,0,13,14,8,40,447,12,3725,null,-502,514,514,-502]
[null,null,"富良野市","宿泊客数",2165,6036,12421,9406,8441,1309,1954,208,342,450,147,3,407,235,246,2920,267,772,9288,57017,972,5865.9465020576126,null,-46830,47802,47802,-46830]
[null,null,null,"宿泊客延数",3069,7580,16513,13833,12282,1883,2618,361,507,584,178,5,583,306,314,3995,390,1206,11400,77607,1312,5915.167682926829,null,-63586,64898,64898,-63586]
[null,null,"鷹栖町","宿泊客数",0,0,0,0,0,0,0,0,0,0,0,0,0,0,0,0,0,0,0,0,0,"－",null,0,0,0,0]
[null,null,null,"宿泊客延数",0,0,0,0,0,0,0,0,0,0,0,0,0,0,0,0,0,0,0,0,0,"－",null,0,0,0,0]
[null,null,"東神楽町","宿泊客数",112,85,133,156,33,4,11,0,0,0,0,0,0,3,6,12,2,4,17,578,0,"－",null,-1107,1107,1107,-1107]
[null,null,null,"宿泊客延数",155,94,156,202,44,4,15,0,0,0,0,0,0,6,12,16,6,8,25,743,0,"－",null,-1286,1286,1286,-1286]
[null,null,"当麻町","宿泊客数",0,0,0,7,0,0,0,0,0,0,0,0,0,0,0,0,0,0,0,7,0,"－",null,-10,10,10,-10]
[null,null,null,"宿泊客延数",0,0,0,9,0,0,0,0,0,0,0,0,0,0,0,0,0,0,0,9,0,"－",null,-14,14,14,-14]
[null,null,"比布町","宿泊客数",0,0,0,0,0,0,0,0,0,0,4,0,0,0,0,1,0,0,0,5,0,"－",null,-13,13,13,-13]
[null,null,null,"宿泊客延数",0,0,0,0,0,0,0,0,0,0,4,0,0,0,0,1,0,0,0,5,0,"－",null,-13,13,13,-13]
[null,null,"愛別町","宿泊客数",0,0,0,0,0,0,0,0,0,0,0,0,0,0,0,0,0,0,37,37,0,"－",null,-36,36,36,-36]
[null,null,null,"宿泊客延数",0,0,0,0,0,0,0,0,0,0,0,0,0,0,0,0,0,0,37,37,0,"－",null,-48,48,48,-48]
[null,null,"上川町","宿泊客数",290,17280,24621,2772,2496,1724,1138,0,208,1035,139,0,61,100,66,339,20,36,5107,57432,996,5766.265060240964,null,-102167,103163,103163,-102167]
[null,null,null,"宿泊客延数",305,18145,25852,2911,2621,1811,1196,0,219,1087,146,0,63,105,70,357,21,37,5363,60309,996,6055.1204819277109,null,-102183,103179,103179,-102183]
[null,null,"東川町","宿泊客数",124,550,1423,716,565,72,143,13,16,9,3,159,126,175,197,483,54,158,1604,6590,556,1185.2517985611512,null,-4864,5420,5420,-4864]
[null,null,null,"宿泊客延数",155,678,2006,1099,833,88,166,13,23,9,4,269,166,248,281,685,71,208,1797,8799,611,1440.0981996726678,null,-6221,6832,6832,-6221]
[null,null,"美瑛町","宿泊客数",424,2272,1400,1926,691,106,170,5,9,32,7,0,47,29,30,288,67,55,140,7698,62,12416.129032258064,null,-19639,19701,19701,-19639]
[null,null,null,"宿泊客延数",429,2621,1509,2285,771,119,182,5,13,32,7,0,53,44,31,374,92,65,155,8787,102,8614.7058823529405,null,-23580,23682,23682,-23580]
[null,null,"上富良野町","宿泊客数",48,367,1451,583,264,34,34,3,0,0,1,0,8,23,21,97,20,33,104,3091,28,11039.285714285714,null,-6923,6951,6951,-6923]
[null,null,null,"宿泊客延数",61,449,1853,1095,376,44,39,5,0,0,1,0,8,32,31,135,42,45,141,4357,28,15560.714285714286,null,-9255,9283,9283,-9255]
[null,null,"中富良野町","宿泊客数",674,616,1295,1043,669,73,173,18,10,11,11,9,19,82,32,166,57,42,62,5062,45,11248.888888888889,null,-4953,4998,4998,-4953]
[null,null,null,"宿泊客延数",883,790,1700,1230,1019,97,235,30,10,21,24,11,26,110,45,222,71,60,80,6664,64,10412.5,null,-5476,5540,5540,-5476]
[null,null,"南富良野町","宿泊客数",29,77,294,173,48,2,5,0,0,0,0,0,11,0,1,41,5,18,16,720,9,8000,null,-2059,2068,2068,-2059]
[null,null,null,"宿泊客延数",34,107,380,214,73,4,5,0,0,0,0,0,23,0,1,65,5,18,50,979,10,9790,null,-2540,2550,2550,-2540]
[null,null,"占冠村","宿泊客数",5185,4909,10770,4312,1643,215,162,60,154,17,0,4,52,16,8,631,105,188,98,28529,345,8269.2753623188401,null,-35223,35568,35568,-35223]
[null,null,null,"宿泊客延数",9511,10501,16487,7784,3804,485,324,110,180,17,0,18,115,36,11,1125,237,383,135,51263,555,9236.5765765765773,null,-59938,60493,60493,-59938]
[null,null,"和寒町","宿泊客数",0,0,0,0,0,0,0,0,0,0,0,0,0,0,0,0,0,0,0,0,0,"－",null,-16,16,16,-16]
[null,null,null,"宿泊客延数",0,0,0,0,0,0,0,0,0,0,0,0,0,0,0,0,0,0,0,0,0,"－",null,-16,16,16,-16]
[null,null,"剣淵町","宿泊客数",0,2,5,4,0,0,0,0,2,2,0,0,1,0,0,0,2,0,2,20,0,"－",null,-148,148,148,-148]
[null,null,null,"宿泊客延数",0,2,8,4,0,0,0,0,3,3,0,0,1,0,0,0,3,0,3,27,0,"－",null,-220,220,220,-220]
[null,null,"下川町","宿泊客数",0,0,6,0,0,0,0,0,0,0,0,0,0,0,0,0,0,0,1,7,0,"－",null,-46,46,46,-46]
[null,null,null,"宿泊客延数",0,0,6,0,0,0,0,0,0,0,0,0,0,0,0,0,0,0,1,7,0,"－",null,-85,85,85,-85]
[null,null,"美深町","宿泊客数",0,0,0,0,0,0,0,0,0,0,0,0,0,0,0,0,0,0,0,0,0,"－",null,-47,47,47,-47]
[null,null,null,"宿泊客延数",0,0,0,0,0,0,0,0,0,0,0,0,0,0,0,0,0,0,0,0,0,"－",null,-66,66,66,-66]
[null,null,null,null,null,null,null,null,null,null,null,null,null,null,null,null,null,null,null,null,null,null,null,null,null,null,null,0,null,null,0]
[null,null,null,null,null,null,null,null,null,null,null,null,null,null,null,null,null,null,null,null,null,null,null,null,null,null,null,0,null,null,0]
[{"$f":"A1","v":"４　令和５年度（2023年度）上期　市町村別・国別訪日外国人宿泊者数"},null,null,null,null,null,null,null,null,null,null,null,null,null,null,null,null,null,null,null,null,null,null,null,null,null,null,{"$f":"Y261-AC261","v":0},null,null,{"$f":"Y261-AD261","v":0}]
[null,null,null,null,null,null,null,null,null,null,null,null,null,null,null,null,null,null,null,null,null,null,null,null,null,{"$f":"Z197","v":"単位：宿泊客数→人、宿泊客延数→人泊、対前年比→％"},null,0,null,null,0]
["圏　域","振興局","市町村名","区　分","中国","韓国","台湾","香港","シンガポール","マレーシア","タイ","インド","インドネシア","フィリピン","ベトナム","ロシア","イギリス","フランス","ドイツ","アメリカ","カナダ","オーストラリア","その他","計",{"$f":"Y198","v":"R4年度上期"},{"$f":"Z198","v":"対前年比"},null,{"$error":"#VALUE!"},"上　期　計","計",{"$error":"#VALUE!"}]
["道北","上川","音威子府村","宿泊客数",0,0,2,7,0,0,0,0,0,0,0,0,1,0,0,0,0,0,1,11,0,{"$f":"IF(Y264=0,\"－\",X264/Y264*100)","v":"－"},null,-15,15,15,-15]
[null,null,null,"宿泊客延数",0,0,2,7,0,0,0,0,0,0,0,0,1,0,0,0,0,0,1,11,0,"－",null,-30,30,30,-30]
[null,null,"中川町","宿泊客数",0,0,0,0,0,0,0,0,0,0,0,0,0,0,0,0,0,0,2,2,0,"－",null,-22,22,22,-22]
[null,null,null,"宿泊客延数",0,0,0,0,0,0,0,0,0,0,0,0,0,0,0,0,0,0,2,2,0,"－",null,-22,22,22,-22]
[null,null,"幌加内町","宿泊客数",0,4,16,0,2,0,0,0,0,0,0,0,0,0,0,2,0,0,0,24,0,"－",null,-88,88,88,-88]
[null,null,null,"宿泊客延数",0,4,19,0,2,0,0,0,0,0,0,0,0,0,0,2,0,0,0,27,0,"－",null,-94,94,94,-94]
[null,"留萌振興局計",null,"宿泊客数",{"$f":"E272+E274+E276+E278+E280+E282+E284+E286","v":44},{"$f":"F272+F274+F276+F278+F280+F282+F284+F286","v":38},67,114,37,4,4,3,2,17,11,2,0,3,5,20,17,12,110,{"$f":"X272+X274+X276+X278+X280+X282+X284+X286","v":510},{"$f":"Y272+Y274+Y276+Y278+Y280+Y282+Y284+Y286","v":66},772.72727272727275,null,-385,451,451,-385]
[null,null,null,"宿泊客延数",{"$f":"E273+E275+E277+E279+E281+E283+E285+E287","v":51},41,71,116,37,6,4,4,2,37,25,2,0,3,5,21,17,12,159,{"$f":"X273+X275+X277+X279+X281+X283+X285+X287","v":613},{"$f":"Y273+Y275+Y277+Y279+Y281+Y283+Y285+Y287","v":150},408.66666666666669,null,-500,650,650,-500]
[null,null,"留萌市","宿泊客数",18,6,8,19,2,0,0,1,0,16,11,0,0,0,0,1,2,5,32,121,50,242,null,-35,85,85,-35]
[null,null,null,"宿泊客延数",25,9,12,19,2,0,0,2,0,36,25,0,0,0,0,2,2,5,75,214,134,159.70149253731341,null,-8,142,142,-8]
[null,null,"増毛町","宿泊客数",2,0,0,0,1,0,0,0,0,0,0,0,0,0,0,0,0,0,56,59,7,842.85714285714289,null,-44,51,51,-44]
[null,null,null,"宿泊客延数",2,0,0,0,1,0,0,0,0,0,0,0,0,0,0,0,0,0,56,59,7,842.85714285714289,null,-44,51,51,-44]
[null,null,"小平町","宿泊客数",0,0,0,0,0,0,0,0,0,0,0,0,0,0,0,0,0,0,0,0,0,"－",null,-53,53,53,-53]
[null,null,null,"宿泊客延数",0,0,0,0,0,0,0,0,0,0,0,0,0,0,0,0,0,0,0,0,0,"－",null,-53,53,53,-53]
[null,null,"苫前町","宿泊客数",0,0,0,0,0,0,0,0,0,0,0,0,0,0,0,0,0,0,0,0,0,"－",null,-84,84,84,-84]
[null,null,null,"宿泊客延数",0,0,0,0,0,0,0,0,0,0,0,0,0,0,0,0,0,0,0,0,0,"－",null,-124,124,124,-124]
[null,null,"羽幌町","宿泊客数",18,3,28,47,15,4,0,2,0,0,0,0,0,1,2,7,8,5,6,146,0,"－",null,-106,106,106,-106]
[null,null,null,"宿泊客延数",18,3,28,49,15,6,0,2,0,0,0,0,0,1,2,7,8,5,12,156,0,"－",null,-169,169,169,-169]
[null,null,"初山別村","宿泊客数",0,0,0,0,0,0,0,0,0,0,0,0,0,0,0,0,0,0,0,0,0,"－",null,-45,45,45,-45]
[null,null,null,"宿泊客延数",0,0,0,0,0,0,0,0,0,0,0,0,0,0,0,0,0,0,0,0,0,"－",null,-63,63,63,-63]
[null,null,"遠別町","宿泊客数",0,0,0,0,0,0,0,0,0,0,0,0,0,0,0,0,0,0,0,0,0,"－",null,-18,18,18,-18]
[null,null,null,"宿泊客延数",0,0,0,0,0,0,0,0,0,0,0,0,0,0,0,0,0,0,0,0,0,"－",null,-39,39,39,-39]
[null,null,"天塩町","宿泊客数",6,29,31,48,19,0,4,null,2,1,0,2,0,2,3,12,7,2,16,184,9,2044.4444444444443,null,0,9,9,0]
[null,null,null,"宿泊客延数",6,29,31,48,19,0,4,null,2,1,null,2,0,2,3,12,7,2,16,184,9,2044.4444444444443,null,0,9,9,0]
[null,"宗谷総合振興局計",null,"宿泊客数",{"$f":"E290+E292+E294+E296+E298+E300+E302+E304+E306+E308","v":873},{"$f":"F290+F292+F294+F296+F298+F300+F302+F304+F306+F308","v":666},4079,1384,405,47,141,16,36,10,47,11,112,142,138,928,109,243,1018,{"$f":"X290+X292+X294+X296+X298+X300+X302+X304+X306+X308","v":10405},{"$f":"Y290+Y292+Y294+Y296+Y298+Y300+Y302+Y304+Y306+Y308","v":666},1562.3123123123123,null,-14507,15173,15173,-14507]
[null,null,null,"宿泊客延数",{"$f":"E291+E293+E295+E297+E299+E301+E303+E305+E307+E309","v":1229},889,5038,1835,567,55,193,20,42,29,78,13,153,232,235,1385,176,369,1558,{"$f":"X291+X293+X295+X297+X299+X301+X303+X305+X307+X309","v":14096},{"$f":"Y291+Y293+Y295+Y297+Y299+Y301+Y303+Y305+Y307+Y309","v":863},1633.371958285052,null,-18562,19425,19425,-18562]
[null,null,"稚内市","宿泊客数",562,480,2726,938,262,37,119,16,31,3,19,10,68,74,80,430,52,182,739,6828,334,2044.3113772455088,null,-10380,10714,10714,-10380]
[null,null,null,"宿泊客延数",801,622,3297,1291,338,43,161,20,37,4,50,12,93,118,120,519,79,255,1057,8917,446,1999.3273542600896,null,-13593,14039,14039,-13593]
[null,null,"幌延町","宿泊客数",1,0,0,0,0,0,0,0,1,0,8,0,1,1,1,0,0,0,4,17,11,154.54545454545453,null,-48,59,59,-48]
[null,null,null,"宿泊客延数",1,0,0,0,0,0,0,0,1,0,8,0,1,1,1,0,0,0,4,17,11,154.54545454545453,null,-48,59,59,-48]
[null,null,"猿払村","宿泊客数",0,0,0,0,0,0,0,0,0,0,0,0,0,0,0,0,0,0,0,0,15,0,null,-38,53,53,-38]
[null,null,null,"宿泊客延数",0,0,0,0,0,0,0,0,0,0,0,0,0,0,0,0,0,0,0,0,15,0,null,-38,53,53,-38]
[null,null,"浜頓別町","宿泊客数",18,0,0,0,1,0,0,0,0,0,0,0,4,2,0,3,0,3,6,37,0,"－",null,-25,25,25,-25]
[null,null,null,"宿泊客延数",18,0,0,0,1,0,0,0,0,0,0,0,4,2,0,3,0,3,6,37,0,"－",null,-25,25,25,-25]
[null,null,"中頓別町","宿泊客数",3,0,36,0,0,0,1,0,0,0,0,0,0,0,0,3,0,3,29,75,0,"－",null,-22,22,22,-22]
[null,null,null,"宿泊客延数",6,0,40,0,0,0,1,0,0,0,0,0,0,0,0,3,0,3,41,94,0,"－",null,-77,77,77,-77]
[null,null,"枝幸町","宿泊客数",0,0,0,0,0,0,0,0,0,0,0,0,0,0,0,0,0,0,0,0,0,"－",null,-85,85,85,-85]
[null,null,null,"宿泊客延数",0,0,0,0,0,0,0,0,0,0,0,0,0,0,0,0,0,0,0,0,0,"－",null,-85,85,85,-85]
[null,null,"豊富町","宿泊客数",0,0,0,0,0,0,0,0,0,0,0,0,0,0,0,0,0,0,0,0,0,"－",null,-580,580,580,-580]
[null,null,null,"宿泊客延数",0,0,0,0,0,0,0,0,0,0,0,0,0,0,0,0,0,0,0,0,0,"－",null,-641,641,641,-641]
[null,null,"礼文町","宿泊客数",140,95,486,162,38,3,12,0,2,3,20,1,8,24,23,129,24,11,55,1236,129,958.1395348837209,null,-939,1068,1068,-939]
[null,null,null,"宿泊客延数",184,128,622,172,72,4,18,0,2,19,20,1,10,41,52,286,56,15,114,1816,182,997.80219780219784,null,-1041,1223,1223,-1041]
[null,null,"利尻町","宿泊客数",61,5,155,82,56,2,0,0,0,4,0,0,4,13,16,286,6,10,57,757,123,615.44715447154465,null,-413,536,536,-413]
[null,null,null,"宿泊客延数",98,9,232,125,84,3,0,0,0,6,0,0,6,20,22,434,10,16,97,1162,133,873.68421052631572,null,-403,536,536,-403]
[null,null,"利尻富士町","宿泊客数",88,86,676,202,48,5,9,0,2,0,0,0,27,28,18,77,27,34,128,1455,54,2694.4444444444443,null,-1977,2031,2031,-1977]
[null,null,null,"宿泊客延数",121,130,847,247,72,5,13,0,2,0,0,0,39,50,40,140,31,77,239,2053,76,2701.3157894736842,null,-2611,2687,2687,-2611]
["オホーツク圏域計",null,null,"宿泊客数",{"$f":"E312","v":3769},{"$f":"F312","v":2238},12674,10140,6942,1466,772,23,75,89,26,14,435,793,639,2579,248,779,3096,{"$f":"X312","v":46797},{"$f":"Y312","v":903},5182.3920265780725,null,-54948,55851,55938,-55035]
[null,null,null,"宿泊客延数",{"$f":"E313","v":4199.7},2784.8,13465,10696,7375,1523,821,35,180,133,46,16,488,857,734,2932,278,856,3450,{"$f":"X313","v":50869.5},{"$f":"Y313","v":1147},4435.0043591979074,null,-58403,59550,59658,-58511]
[null,"オホーツク総合振興局計",null,"宿泊客数",{"$f":"E314+E316+E318+E320+E322+E329+E331+E333+E335+E337+E339+E341+E343+E345+E347+E349+E351+E353","v":3769},{"$f":"F314+F316+F318+F320+F322+F329+F331+F333+F335+F337+F339+F341+F343+F345+F347+F349+F351+F353","v":2238},12674,10140,6942,1466,772,23,75,89,26,14,435,793,639,2579,248,779,3096,{"$f":"X314+X316+X318+X320+X322+X329+X331+X333+X335+X337+X339+X341+X343+X345+X347+X349+X351+X353","v":46797},{"$f":"Y314+Y316+Y318+Y320+Y322+Y329+Y331+Y333+Y335+Y337+Y339+Y341+Y343+Y345+Y347+Y349+Y351+Y353","v":903},5182.3920265780725,null,-54948,55851,55938,-55035]
[null,null,null,"宿泊客延数",{"$f":"E315+E317+E319+E321+E323+E330+E332+E334+E336+E338+E340+E342+E344+E346+E348+E350+E352+E354","v":4199.7},2784.8,13465,10696,7375,1523,821,35,180,133,46,16,488,857,734,2932,278,856,3450,{"$f":"X315+X317+X319+X321+X323+X330+X332+X334+X336+X338+X340+X342+X344+X346+X348+X350+X352+X354","v":50869.5},{"$f":"Y315+Y317+Y319+Y321+Y323+Y330+Y332+Y334+Y336+Y338+Y340+Y342+Y344+Y346+Y348+Y350+Y352+Y354","v":1147},4435.0043591979074,null,-58403,59550,59658,-58511]
[null,null,"北見市","宿泊客数",794,537,960,879,663,141,20,10,11,72,14,1,20,28,21,160,17,59,241,4648,163,2851.5337423312881,null,-7657,7820,7820,-7657]
[null,null,null,"宿泊客延数",968,918,1061,919,686,146,20,22,11,107,33,3,41,37,57,197,23,87,302,5638,289,1950.8650519031144,null,-7997,8286,8286,-7997]
[null,null,"網走市","宿泊客数",1466,531,3955,4218,1173,286,176,9,20,13,1,5,75,130,58,731,64,140,817,13868,258,5375.1937984496126,null,-16557,16815,16815,-16557]
[null,null,null,"宿泊客延数",1671,662,4440,4603,1357,330,208,9,25,16,2,5,88,156,87,981,85,163,963,15851,336,4717.5595238095239,null,-18876,19212,19212,-18876]
[null,null,"紋別市","宿泊客数",168,43,296,255,1341,724,59,0,28,0,5,0,12,15,4,39,16,25,48,3078,112,2748.2142857142858,null,-3927,4039,4122,-4010]
[null,null,null,"宿泊客延数",168,43,299,255,1341,724,59,0,30,0,5,0,12,15,4,39,16,25,48,3083,112,2752.6785714285716,null,-3927,4039,4141,-4029]
[null,null,"美幌町","宿泊客数",0,5,7,0,0,0,0,0,0,0,0,0,0,0,0,0,0,0,0,12,9,133.33333333333331,null,-36,45,45,-36]
[null,null,null,"宿泊客延数",0,5,10,0,0,0,0,0,0,0,0,0,0,0,0,0,0,0,0,15,17,88.235294117647058,null,-99,116,116,-99]
[null,null,"津別町","宿泊客数",2,26,27,26,8,0,5,0,0,0,0,0,0,7,0,8,1,3,6,119,10,1190,null,-266,276,276,-266]
[null,null,null,"宿泊客延数",2,31,31,30,12,0,5,0,0,0,0,0,0,15,0,8,1,12,10,157,10,1570,null,-333,343,343,-333]
[null,null,null,null,null,null,null,null,null,null,null,null,null,null,null,null,null,null,null,null,null,null,null,null,null,null,null,0,null,null,0]
[null,null,null,null,null,null,null,null,null,null,null,null,null,null,null,null,null,null,null,null,null,null,null,null,null,null,null,{"$f":"Y325-AC325","v":0},null,null,{"$f":"Y325-AD325","v":0}]
[{"$f":"A1","v":"４　令和５年度（2023年度）上期　市町村別・国別訪日外国人宿泊者数"},null,null,null,null,null,null,null,null,null,null,null,null,null,null,null,null,null,null,null,null,null,null,null,null,null,null,0,null,null,0]
[null,null,null,null,null,null,null,null,null,null,null,null,null,null,null,null,null,null,null,null,null,null,null,null,null,{"$f":"Z262","v":"単位：宿泊客数→人、宿泊客延数→人泊、対前年比→％"},null,0,null,null,0]
["圏　域","振興局","市町村名","区　分","中国","韓国","台湾","香港","シンガポール","マレーシア","タイ","インド","インドネシア","フィリピン","ベトナム","ロシア","イギリス","フランス","ドイツ","アメリカ","カナダ","オーストラリア","その他","計",{"$f":"Y263","v":"R4年度上期"},{"$f":"Z263","v":"対前年比"},null,{"$error":"#VALUE!"},"上　期　計","計",{"$error":"#VALUE!"}]
["オホーツク","オホーツク","斜里町","宿泊客数",1260,1039,7256,4626,3572,309,482,0,0,0,0,8,318,600,539,1603,142,494,1868,24116,294,{"$f":"IF(Y329=0,\"－\",X329/Y329*100)","v":8202.7210884353735},null,-25515,25809,25809,-25515]
[null,null,null,"宿泊客延数",1283.7,1059.8,7401,4718,3645,316,491,0,0,0,0,8,325,611,550,1635,145,503,1905,24596.5,295,8337.796610169491,null,-26033,26328,26328,-26033]
[null,null,"清里町","宿泊客数",11,37,107,77,57,3,24,0,0,0,0,0,6,10,13,20,3,40,58,466,13,3584.6153846153848,null,-422,435,435,-422]
[null,null,null,"宿泊客延数",15,46,157,110,80,3,32,0,0,0,0,0,18,16,19,22,3,42,62,625,13,4807.6923076923076,null,-552,565,565,-552]
[null,null,"小清水町","宿泊客数",0,0,0,3,3,0,0,0,0,0,0,0,0,0,0,0,0,0,4,10,0,"－",null,-4,4,7,-7]
[null,null,null,"宿泊客延数",0,0,0,3,3,0,0,0,0,0,0,0,0,0,0,0,0,0,4,10,0,"－",null,-4,4,9,-9]
[null,null,"訓子府町","宿泊客数",0,0,0,0,0,0,0,0,0,0,0,0,0,0,0,0,0,0,0,0,0,"－",null,0,0,0,0]
[null,null,null,"宿泊客延数",0,0,0,0,0,0,0,0,0,0,0,0,0,0,0,0,0,0,0,0,0,"－",null,0,0,0,0]
[null,null,"置戸町","宿泊客数",0,0,0,0,0,0,0,0,0,0,0,0,0,0,0,0,0,0,0,0,0,"－",null,0,0,0,0]
[null,null,null,"宿泊客延数",0,0,0,0,0,0,0,0,0,0,0,0,0,0,0,0,0,0,0,0,0,"－",null,0,0,0,0]
[null,null,"佐呂間町","宿泊客数",0,0,0,0,0,0,0,0,0,0,0,0,0,0,0,0,0,0,0,0,0,"－",null,-39,39,39,-39]
[null,null,null,"宿泊客延数",0,0,0,0,0,0,0,0,0,0,0,0,0,0,0,0,0,0,0,0,0,"－",null,-43,43,43,-43]
[null,null,"遠軽町","宿泊客数",27,0,25,44,115,0,2,4,16,4,5,0,0,1,1,10,0,8,37,299,19,1573.6842105263158,null,-254,273,273,-254]
[null,null,null,"宿泊客延数",49,0,25,46,241,0,2,4,114,10,5,0,0,5,14,38,0,14,130,697,25,2788,null,-289,314,314,-289]
[null,null,"湧別町","宿泊客数",0,0,0,0,0,0,0,0,0,0,0,0,0,0,0,0,0,0,0,0,0,"－",null,-12,12,12,-12]
[null,null,null,"宿泊客延数",0,0,0,0,0,0,0,0,0,0,0,0,0,0,0,0,0,0,0,0,0,"－",null,-12,12,12,-12]
[null,null,"滝上町","宿泊客数",0,0,10,12,8,0,0,0,0,0,0,0,0,0,0,0,0,0,0,30,15,200,null,-111,126,126,-111]
[null,null,null,"宿泊客延数",0,0,10,12,8,0,0,0,0,0,0,0,0,0,0,0,0,0,0,30,23,130.43478260869566,null,-103,126,126,-103]
[null,null,"興部町","宿泊客数",0,4,4,0,0,0,1,0,0,0,0,0,0,1,1,0,2,1,0,14,0,"－",null,-12,12,12,-12]
[null,null,null,"宿泊客延数",0,4,4,0,0,0,1,0,0,0,0,0,0,1,1,0,2,1,0,14,0,"－",null,-12,12,12,-12]
[null,null,"西興部村","宿泊客数",5,0,0,0,0,0,0,0,0,0,0,0,0,0,0,0,0,0,0,5,4,125,null,-3,7,8,-4]
[null,null,null,"宿泊客延数",5,0,0,0,0,0,0,0,0,0,0,0,0,0,0,0,0,0,0,5,6,83.333333333333343,null,-5,11,12,-6]
[null,null,"雄武町","宿泊客数",36,16,27,0,2,3,3,0,0,0,1,0,4,1,2,8,3,9,17,132,6,2200,null,-38,44,44,-38]
[null,null,null,"宿泊客延数",38,16,27,0,2,4,3,0,0,0,1,0,4,1,2,12,3,9,26,148,21,704.7619047619047,null,-23,44,44,-23]
[null,null,"大空町","宿泊客数",0,0,0,0,0,0,0,0,0,0,0,0,0,0,0,0,0,0,0,0,0,"－",null,-95,95,95,-95]
[null,null,null,"宿泊客延数",0,0,0,0,0,0,0,0,0,0,0,0,0,0,0,0,0,0,0,0,0,"－",null,-95,95,95,-95]
["十勝圏域計",null,null,"宿泊客数",{"$f":"E357","v":2616},{"$f":"F357","v":4669},21364,6134,1540,717,320,24,119,14,156,12,169,149,154,1215,151,257,1255,{"$f":"X357","v":41035},{"$f":"Y357","v":890},4610.6741573033705,null,-55052,55942,55912,-55022]
[null,null,null,"宿泊客延数",{"$f":"E358","v":3107},5845,21980,7406,1780,767,398,25,182,16,464,14,248,174,170,1523,168,284,1673,{"$f":"X358","v":46224},{"$f":"Y358","v":1824},2534.2105263157896,null,-63424,65248,65212,-63388]
[null,"十勝総合振興局計",null,"宿泊客数",{"$f":"E359+E361+E363+E365+E367+E369+E371+E373+E375+E377+E379+E381+E383+E385+E387+E394+E396+E398+E400","v":2616},{"$f":"F359+F361+F363+F365+F367+F369+F371+F373+F375+F377+F379+F381+F383+F385+F387+F394+F396+F398+F400","v":4669},21364,6134,1540,717,320,24,119,14,156,12,169,149,154,1215,151,257,1255,{"$f":"X359+X361+X363+X365+X367+X369+X371+X373+X375+X377+X379+X381+X383+X385+X387+X394+X396+X398+X400","v":41035},{"$f":"Y359+Y361+Y363+Y365+Y367+Y369+Y371+Y373+Y375+Y377+Y379+Y381+Y383+Y385+Y387+Y394+Y396+Y398+Y400","v":890},4610.6741573033705,null,-55052,55942,55912,-55022]
[null,null,null,"宿泊客延数",{"$f":"E360+E362+E364+E366+E368+E370+E372+E374+E376+E378+E380+E382+E384+E386+E388+E395+E397+E399+E401","v":3107},5845,21980,7406,1780,767,398,25,182,16,464,14,248,174,170,1523,168,284,1673,{"$f":"X360+X362+X364+X366+X368+X370+X372+X374+X376+X378+X380+X382+X384+X386+X388+X395+X397+X399+X401","v":46224},{"$f":"Y360+Y362+Y364+Y366+Y368+Y370+Y372+Y374+Y376+Y378+Y380+Y382+Y384+Y386+Y388+Y395+Y397+Y399+Y401","v":1824},2534.2105263157896,null,-63424,65248,65212,-63388]
[null,null,"帯広市","宿泊客数",2070,1040,1680,1527,555,207,166,18,49,11,108,10,103,84,80,452,60,121,631,8972,718,1249.5821727019497,null,-6971,7689,7689,-6971]
[null,null,null,"宿泊客延数",2498,1261,2113,2037,687,253,213,19,112,13,411,10,157,96,90,585,72,135,965,11727,1616,725.68069306930693,null,-10559,12175,12175,-10559]
[null,null,"音更町","宿泊客数",447,2905,15242,3373,712,247,103,4,50,2,0,0,37,11,30,601,63,74,191,24092,133,18114.285714285714,null,-34292,34425,34425,-34292]
[null,null,null,"宿泊客延数",487,3070,15353,4057,771,249,114,4,50,2,0,0,47,13,32,746,64,76,191,25326,142,17835.211267605635,null,-35073,35215,35215,-35073]
[null,null,"士幌町","宿泊客数",17,21,38,16,12,0,0,0,0,0,0,0,0,0,0,3,0,0,1,108,1,10800,null,-190,191,191,-190]
[null,null,null,"宿泊客延数",29,23,41,16,16,0,0,0,0,0,0,0,0,0,0,3,0,0,1,129,1,12900,null,-374,375,375,-374]
[null,null,"上士幌町","宿泊客数",0,0,0,0,0,0,0,0,0,0,0,0,0,0,0,0,0,0,0,0,0,"－",null,-1356,1356,1356,-1356]
[null,null,null,"宿泊客延数",0,0,0,0,0,0,0,0,0,0,0,0,0,0,0,0,0,0,0,0,0,"－",null,-1356,1356,1356,-1356]
[null,null,"鹿追町","宿泊客数",6,51,692,134,72,0,24,0,0,0,42,0,16,8,3,16,2,24,36,1126,9,12511.111111111111,null,-663,672,672,-663]
[null,null,null,"宿泊客延数",6,55,695,146,84,0,38,0,0,0,42,0,24,10,3,16,4,24,74,1221,13,9392.3076923076915,null,-700,713,713,-700]
[null,null,"新得町","宿泊客数",42,574,1941,613,174,2,18,2,0,0,1,2,5,12,5,94,7,18,212,3722,0,"－",null,-6609,6609,6609,-6609]
[null,null,null,"宿泊客延数",50,1344,2001,670,203,4,24,2,0,0,1,4,8,16,9,122,9,26,220,4713,0,"－",null,-10348,10348,10348,-10348]
[null,null,"清水町","宿泊客数",0,0,0,0,0,0,0,0,0,0,0,0,0,0,0,0,0,0,0,0,0,"－",null,0,0,0,0]
[null,null,null,"宿泊客延数",0,0,0,0,0,0,0,0,0,0,0,0,0,0,0,0,0,0,0,0,0,"－",null,0,0,0,0]
[null,null,"芽室町","宿泊客数",0,0,0,0,0,0,0,0,0,0,0,0,0,0,0,0,0,0,33,33,1,{"$f":"IF(Y373=0,\"－\",X373/Y373*100)","v":3300},null,-21,22,22,-21]
[null,null,null,"宿泊客延数",0,0,0,0,0,0,0,0,0,0,0,0,0,0,0,0,0,0,49,49,4,{"$f":"IF(Y374=0,\"－\",X374/Y374*100)","v":1225},null,-18,22,22,-18]
[null,null,"中札内村","宿泊客数",0,0,0,0,0,0,0,0,0,0,0,0,0,0,0,0,0,0,0,0,0,"－",null,0,0,0,0]
[null,null,null,"宿泊客延数",0,0,0,0,0,0,0,0,0,0,0,0,0,0,0,0,0,0,0,0,0,"－",null,0,0,0,0]
[null,null,"更別村","宿泊客数",0,0,0,0,0,0,0,0,0,0,0,0,0,0,0,0,0,0,9,9,0,"－",null,-14,14,14,-14]
[null,null,null,"宿泊客延数",0,0,0,0,0,0,0,0,0,0,0,0,0,0,0,0,0,0,9,9,0,"－",null,-14,14,14,-14]
[null,null,"大樹町","宿泊客数",12,7,1,0,0,0,0,0,0,0,0,0,0,0,0,1,0,0,1,22,9,244.44444444444446,null,-1,10,10,-1]
[null,null,null,"宿泊客延数",15,21,1,0,0,0,0,0,0,0,0,0,0,0,0,1,0,0,2,40,29,137.93103448275863,null,-10,39,39,-10]
[null,null,"広尾町","宿泊客数",10,5,5,0,0,0,0,0,0,0,0,0,0,0,0,1,2,0,29,52,8,650,null,8,0,0,8]
[null,null,null,"宿泊客延数",10,5,5,0,0,0,0,0,0,0,0,0,0,0,0,1,2,0,29,52,8,650,null,8,0,0,8]
[null,null,"幕別町","宿泊客数",0,35,1594,390,0,252,0,0,20,0,0,0,0,0,0,3,6,0,2,2302,2,115100,null,-4811,4813,4813,-4811]
[null,null,null,"宿泊客延数",0,35,1594,390,0,252,0,0,20,0,0,0,0,0,0,3,6,0,2,2302,2,115100,null,-4825,4827,4827,-4825]
[null,null,"池田町","宿泊客数",0,0,0,0,0,0,0,0,0,1,0,0,0,0,0,0,0,0,10,11,2,550,null,-48,50,50,-48]
[null,null,null,"宿泊客延数",0,0,0,0,0,0,0,0,0,1,0,0,0,0,0,0,0,0,28,29,2,1450,null,-48,50,50,-48]
[null,null,"豊頃町","宿泊客数",0,0,0,0,0,0,0,0,0,0,0,0,0,0,0,0,0,0,0,0,0,"－",null,0,0,0,0]
[null,null,null,"宿泊客延数",0,0,0,0,0,0,0,0,0,0,0,0,0,0,0,0,0,0,0,0,0,"－",null,0,0,0,0]
[null,null,null,null,null,null,null,null,null,null,null,null,null,null,null,null,null,null,null,null,null,null,null,null,null,null,null,{"$f":"Y389-AC389","v":0},null,null,{"$f":"Y389-AD389","v":0}]
[null,null,null,null,null,null,null,null,null,null,null,null,null,null,null,null,null,null,null,null,null,null,null,null,null,null,null,0,null,null,0]
[{"$f":"A1","v":"４　令和５年度（2023年度）上期　市町村別・国別訪日外国人宿泊者数"},null,null,null,null,null,null,null,null,null,null,null,null,null,null,null,null,null,null,null,null,null,null,null,null,null,null,0,null,null,0]
[null,null,null,null,null,null,null,null,null,null,null,null,null,null,null,null,null,null,null,null,null,null,null,null,null,{"$f":"Z327","v":"単位：宿泊客数→人、宿泊客延数→人泊、対前年比→％"},null,0,null,null,0]
["圏　域","振興局","市町村名","区　分","中国","韓国","台湾","香港","シンガポール","マレーシア","タイ","インド","インドネシア","フィリピン","ベトナム","ロシア","イギリス","フランス","ドイツ","アメリカ","カナダ","オーストラリア","その他","計",{"$f":"Y328","v":"R4年度上期"},{"$f":"Z328","v":"対前年比"},null,{"$error":"#VALUE!"},"上　期　計","計",{"$error":"#VALUE!"}]
["十勝","十勝","本別町","宿泊客数",0,0,28,0,0,0,0,0,0,0,0,0,0,0,0,0,0,0,0,28,0,{"$f":"IF(Y394=0,\"－\",X394/Y394*100)","v":"－"},null,-40,40,40,-40]
[null,null,null,"宿泊客延数",0,0,28,0,0,0,0,0,0,0,0,0,0,0,0,0,0,0,0,28,0,"－",null,-57,57,57,-57]
[null,null,"足寄町","宿泊客数",12,31,143,81,15,9,9,0,0,0,5,0,8,34,36,44,11,20,100,558,7,7971.4285714285706,null,-44,51,21,-14]
[null,null,null,"宿泊客延数",12,31,149,90,19,9,9,0,0,0,10,0,12,39,36,46,11,23,103,599,7,8557.1428571428569,null,-50,57,21,-14]
[null,null,"陸別町","宿泊客数",0,0,0,0,0,0,0,0,0,0,0,0,0,0,0,0,0,0,0,0,0,"－",null,0,0,0,0]
[null,null,null,"宿泊客延数",0,0,0,0,0,0,0,0,0,0,0,0,0,0,0,0,0,0,0,0,0,"－",null,0,0,0,0]
[null,null,"浦幌町","宿泊客数",0,0,0,0,0,0,0,0,0,0,0,0,0,0,0,0,0,0,0,0,0,"－",null,0,0,0,0]
[null,null,null,"宿泊客延数",0,0,0,0,0,0,0,0,0,0,0,0,0,0,0,0,0,0,0,0,0,"－",null,0,0,0,0]
["釧路・根室圏域計",null,null,"宿泊客数",{"$f":"E404+E422","v":5091},{"$f":"F404+F422","v":2464},22036,7297,4722,1604,638,35,143,62,83,70,389,753,523,2302,261,743,5974,{"$f":"X404+X422","v":55190},{"$f":"Y404+Y422","v":1923},2869.9947997919917,null,-75171,77094,77077,-75154]
[null,null,null,"宿泊客延数",{"$f":"E405+E423","v":6392},2971,23337,8087,5227,1662,724,64,204,66,134,108,585,964,708,2736,304,945,6887,{"$f":"X405+X423","v":62105},{"$f":"Y405+Y423","v":2510},2474.3027888446213,null,-80156,82666,82624,-80114]
[null,"釧路総合振興局計",null,"宿泊客数",{"$f":"E406+E408+E410+E412+E414+E416+E418+E420","v":4489},{"$f":"F406+F408+F410+F412+F414+F416+F418+F420","v":2253},20895,6643,4439,1553,532,24,137,56,58,22,276,670,437,2099,218,646,5644,{"$f":"X406+X408+X410+X412+X414+X416+X418+X420","v":51091},{"$f":"Y406+Y408+Y410+Y412+Y414+Y416+Y418+Y420","v":1633},3128.6589099816288,null,-71677,73310,73313,-71680]
[null,null,null,"宿泊客延数",{"$f":"E407+E409+E411+E413+E415+E417+E419+E421","v":5644},2740,22060,7311,4896,1595,573,53,198,60,76,25,328,855,571,2459,257,808,6398,{"$f":"X407+X409+X411+X413+X415+X417+X419+X421","v":56907},{"$f":"Y407+Y409+Y411+Y413+Y415+Y417+Y419+Y421","v":2015},2824.1687344913153,null,-75282,77297,77300,-75285]
[null,null,"釧路市","宿泊客数",4193,1715,18773,5813,3817,1471,474,22,76,54,56,19,184,454,280,1764,180,511,5089,44945,1430,3143.0069930069931,null,-58777,60207,60207,-58777]
[null,null,null,"宿泊客延数",5327,2097,19671,6281,4086,1508,509,51,134,58,74,22,209,519,304,2006,200,600,5575,49231,1781,2764.2335766423357,null,-61455,63236,63236,-61455]
[null,null,"釧路町","宿泊客数",0,0,0,0,0,0,0,0,0,0,0,0,0,0,0,0,0,0,0,0,0,"－",null,0,0,0,0]
[null,null,null,"宿泊客延数",0,0,0,0,0,0,0,0,0,0,0,0,0,0,0,0,0,0,0,0,0,"－",null,0,0,0,0]
[null,null,"厚岸町","宿泊客数",19,6,22,36,7,0,0,0,7,0,0,0,1,1,0,5,0,0,3,107,21,509.52380952380952,null,-40,61,61,-40]
[null,null,null,"宿泊客延数",19,6,22,40,7,0,0,0,7,0,0,0,1,1,0,5,0,0,3,111,22,504.54545454545456,null,-44,66,66,-44]
[null,null,"浜中町","宿泊客数",6,0,4,10,0,0,0,0,0,0,0,0,2,2,4,5,0,2,4,39,0,"－",null,-75,75,78,-78]
[null,null,null,"宿泊客延数",6,0,4,16,0,0,1,0,0,0,0,0,4,4,8,7,0,2,4,56,0,"－",null,-88,88,91,-91]
[null,null,"標茶町","宿泊客数",12,7,2,4,4,0,0,0,0,0,0,0,0,0,2,6,0,4,24,65,9,722.22222222222229,null,-108,117,117,-108]
[null,null,null,"宿泊客延数",14,7,2,7,4,0,0,0,0,0,0,0,0,0,2,8,0,4,26,74,19,389.4736842105263,null,-155,174,174,-155]
[null,null,"弟子屈町","宿泊客数",259,521,2084,780,605,82,58,0,54,0,2,3,87,213,151,311,38,129,523,5900,172,3430.2325581395353,null,-12552,12724,12724,-12552]
[null,null,null,"宿泊客延数",278,626,2351,967,793,87,63,0,57,0,2,3,112,331,257,425,57,202,789,7400,191,3874.3455497382201,null,-13343,13534,13534,-13343]
[null,null,"鶴居村","宿泊客数",0,4,10,0,6,0,0,2,0,0,0,0,2,0,0,6,0,0,1,31,1,3100,null,-64,65,65,-64]
[null,null,null,"宿泊客延数",0,4,10,0,6,0,0,2,0,0,0,0,2,0,0,6,0,0,1,31,2,1550,null,-135,137,137,-135]
[null,null,"白糠町","宿泊客数",0,0,0,0,0,0,0,0,0,2,0,0,0,0,0,2,0,0,0,4,0,"－",null,-61,61,61,-61]
[null,null,null,"宿泊客延数",0,0,0,0,0,0,0,0,0,2,0,0,0,0,0,2,0,0,0,4,0,"－",null,-62,62,62,-62]
[null,"根室振興局計",null,"宿泊客数",{"$f":"E424+E426+E428+E430+E432","v":602},{"$f":"F424+F426+F428+F430+F432","v":211},1141,654,283,51,106,11,6,6,25,48,113,83,86,203,43,97,330,{"$f":"X424+X426+X428+X430+X432","v":4099},{"$f":"Y424+Y426+Y428+Y430+Y432","v":290},1413.4482758620691,null,-3494,3784,3764,-3474]
[null,null,null,"宿泊客延数",{"$f":"E425+E427+E429+E431+E433","v":748},231,1277,776,331,67,151,11,6,6,58,83,257,109,137,277,47,137,489,{"$f":"X425+X427+X429+X431+X433","v":5198},{"$f":"Y425+Y427+Y429+Y431+Y433","v":495},1050.1010101010102,null,-4874,5369,5324,-4829]
[null,null,"根室市","宿泊客数",155,99,572,275,27,22,25,5,4,4,18,39,23,26,26,80,12,35,99,1546,149,1037.5838926174497,null,-1003,1152,1152,-1003]
[null,null,null,"宿泊客延数",167,107,611,330,36,27,25,5,4,4,49,74,28,28,38,114,12,55,173,1887,192,982.8125,null,-1188,1380,1380,-1188]
[null,null,"別海町","宿泊客数",0,0,3,13,6,0,0,0,0,0,0,0,10,0,0,3,0,0,5,40,2,2000,null,-61,63,63,-61]
[null,null,null,"宿泊客延数",0,0,3,13,6,0,0,0,0,0,0,0,121,0,0,5,0,0,5,153,2,7650,null,-90,92,92,-90]
[null,null,"中標津町","宿泊客数",287,47,232,38,37,5,7,0,0,2,3,4,24,5,10,32,7,16,86,842,110,765.45454545454538,null,-1316,1426,1426,-1316]
[null,null,null,"宿泊客延数",409,51,244,41,51,5,17,0,0,2,5,4,34,11,22,37,9,20,102,1064,251,423.90438247011951,null,-1925,2176,2176,-1925]
[null,null,"標津町","宿泊客数",87,7,31,45,7,2,0,0,0,0,0,0,0,5,0,1,0,6,2,193,7,2757.1428571428573,null,-77,84,84,-77]
[null,null,null,"宿泊客延数",87,7,31,45,15,2,0,0,0,0,0,0,0,5,0,1,0,6,2,201,26,773.07692307692309,null,-126,152,152,-126]
[null,null,"羅臼町","宿泊客数",73,58,303,283,206,22,74,6,2,0,4,5,56,47,50,87,24,40,138,1478,22,6718.1818181818189,null,-1037,1059,1039,-1017]
[null,null,null,"宿泊客延数",85,66,388,347,223,33,109,6,2,0,4,5,74,65,77,120,26,56,207,1893,24,7887.5,null,-1545,1569,1524,-1500]